BEGIN:VCALENDAR
VERSION:2.0
PRODID:-//Charleston Figure Skating Club - ECPv6.15.20//NONSGML v1.0//EN
CALSCALE:GREGORIAN
METHOD:PUBLISH
X-WR-CALNAME:Charleston Figure Skating Club
X-ORIGINAL-URL:https://charlestonfsc.com
X-WR-CALDESC:Events for Charleston Figure Skating Club
REFRESH-INTERVAL;VALUE=DURATION:PT1H
X-Robots-Tag:noindex
X-PUBLISHED-TTL:PT1H
BEGIN:VTIMEZONE
TZID:America/Kentucky/Louisville
BEGIN:DAYLIGHT
TZOFFSETFROM:-0500
TZOFFSETTO:-0400
TZNAME:EDT
DTSTART:20250309T070000
END:DAYLIGHT
BEGIN:STANDARD
TZOFFSETFROM:-0400
TZOFFSETTO:-0500
TZNAME:EST
DTSTART:20251102T060000
END:STANDARD
BEGIN:DAYLIGHT
TZOFFSETFROM:-0500
TZOFFSETTO:-0400
TZNAME:EDT
DTSTART:20260308T070000
END:DAYLIGHT
BEGIN:STANDARD
TZOFFSETFROM:-0400
TZOFFSETTO:-0500
TZNAME:EST
DTSTART:20261101T060000
END:STANDARD
BEGIN:DAYLIGHT
TZOFFSETFROM:-0500
TZOFFSETTO:-0400
TZNAME:EDT
DTSTART:20270314T070000
END:DAYLIGHT
BEGIN:STANDARD
TZOFFSETFROM:-0400
TZOFFSETTO:-0500
TZNAME:EST
DTSTART:20271107T060000
END:STANDARD
END:VTIMEZONE
BEGIN:VEVENT
DTSTART;TZID=America/Kentucky/Louisville:20260306T000000
DTEND;TZID=America/Kentucky/Louisville:20260308T235959
DTSTAMP:20260422T185506
CREATED:20250828T123615Z
LAST-MODIFIED:20250828T123615Z
UID:5501-1772755200-1773014399@charlestonfsc.com
SUMMARY:Eastern Adult Sectional Championships
DESCRIPTION:Adult Singles\, Adult Pairs\, Adult Dance\, Adult Showcase\, Adult Solo Dance
URL:https://charlestonfsc.com/event/eastern-adult-sectional-championships-2/
LOCATION:York Ice Arena at Memorial Park\, 941 S. Vander Ave.\, York\, PA\, 17403\, United States
CATEGORIES:Calendar Event,Competition
ORGANIZER;CN="USFSA":MAILTO:Events@usfigureskating.org
END:VEVENT
BEGIN:VEVENT
DTSTART;TZID=America/Kentucky/Louisville:20260305T000000
DTEND;TZID=America/Kentucky/Louisville:20260308T235959
DTSTAMP:20260422T185506
CREATED:20251223T145510Z
LAST-MODIFIED:20251223T145510Z
UID:6112-1772668800-1773014399@charlestonfsc.com
SUMMARY:Columbus Invitational
DESCRIPTION:Excel Series\, Well Balanced Events\, Aspire Events\, Adult Free Skate\, Athlete Development\, Showcase\, Compete USA
URL:https://charlestonfsc.com/event/columbus-invitational-2/
LOCATION:Hamilton Community Center and Ice Arena\, 2501 Lincoln Park Drive\, Columbus\, IN\, 47201\, United States
CATEGORIES:Calendar Event,Competition
ORGANIZER;CN="Lincoln Center Skate Club":MAILTO:sk8columbus@gmail.com
END:VEVENT
BEGIN:VEVENT
DTSTART;TZID=America/Kentucky/Louisville:20260304T171500
DTEND;TZID=America/Kentucky/Louisville:20260304T194500
DTSTAMP:20260422T185506
CREATED:20251103T213645Z
LAST-MODIFIED:20251103T213645Z
UID:5858-1772644500-1772653500@charlestonfsc.com
SUMMARY:Club Ice Session
DESCRIPTION:$10 per hour
URL:https://charlestonfsc.com/event/club-ice-session-56/
LOCATION:<span class='tooltipsall tooltip_post_id_473 classtoolTips473'>SCMIA</span>\, 20 RHL Blvd\, South Charleston\, WV\, 25309\, United States
CATEGORIES:Calendar Event
ORGANIZER;CN="CFSC":MAILTO:charlestonfscwv@gmail.com
END:VEVENT
BEGIN:VEVENT
DTSTART;TZID=America/Kentucky/Louisville:20260301T180000
DTEND;TZID=America/Kentucky/Louisville:20260301T200000
DTSTAMP:20260422T185506
CREATED:20251103T212101Z
LAST-MODIFIED:20251103T212101Z
UID:5805-1772388000-1772395200@charlestonfsc.com
SUMMARY:Freestyle Session
DESCRIPTION:$10 per hour
URL:https://charlestonfsc.com/event/freestyle-session-157/
LOCATION:<span class='tooltipsall tooltip_post_id_473 classtoolTips473'>SCMIA</span>\, 20 RHL Blvd\, South Charleston\, WV\, 25309\, United States
CATEGORIES:Calendar Event
ORGANIZER;CN="CFSC":MAILTO:charlestonfscwv@gmail.com
END:VEVENT
BEGIN:VEVENT
DTSTART;TZID=America/Kentucky/Louisville:20260301T000000
DTEND;TZID=America/Kentucky/Louisville:20260301T235959
DTSTAMP:20260422T185506
CREATED:20251223T145511Z
LAST-MODIFIED:20251223T145511Z
UID:6113-1772323200-1772409599@charlestonfsc.com
SUMMARY:Registration Deadline for Skate Pittsburgh
DESCRIPTION:Excel Series\, Well Balanced Events\, Adult Free Skate\, Athlete Development\, Showcase\, Adult Showcase\, Compete USA
URL:https://charlestonfsc.com/event/registration-deadline-for-skate-pittsburgh-2/
LOCATION:Robert Morris University Island Sports Center\, 7600 Grand Avenue\, PIttsburgh\, PA\, 15225\, United States
CATEGORIES:Calendar Event,Competition
ORGANIZER;CN="Pittsburgh Figure Skating Club":MAILTO:skatepgh@gmail.com
END:VEVENT
BEGIN:VEVENT
DTSTART;TZID=America/Kentucky/Louisville:20260228T090000
DTEND;TZID=America/Kentucky/Louisville:20260228T110000
DTSTAMP:20260422T185506
CREATED:20251103T211214Z
LAST-MODIFIED:20251103T211214Z
UID:5752-1772269200-1772276400@charlestonfsc.com
SUMMARY:Freestyle Session
DESCRIPTION:$10 per hour
URL:https://charlestonfsc.com/event/freestyle-session-105/
LOCATION:<span class='tooltipsall tooltip_post_id_473 classtoolTips473'>SCMIA</span>\, 20 RHL Blvd\, South Charleston\, WV\, 25309\, United States
CATEGORIES:Calendar Event
ORGANIZER;CN="CFSC":MAILTO:charlestonfscwv@gmail.com
END:VEVENT
BEGIN:VEVENT
DTSTART;TZID=America/Kentucky/Louisville:20260225T171500
DTEND;TZID=America/Kentucky/Louisville:20260225T194500
DTSTAMP:20260422T185506
CREATED:20251103T213645Z
LAST-MODIFIED:20251103T213645Z
UID:5857-1772039700-1772048700@charlestonfsc.com
SUMMARY:Club Ice Session
DESCRIPTION:$10 per hour
URL:https://charlestonfsc.com/event/club-ice-session-55/
LOCATION:<span class='tooltipsall tooltip_post_id_473 classtoolTips473'>SCMIA</span>\, 20 RHL Blvd\, South Charleston\, WV\, 25309\, United States
CATEGORIES:Calendar Event
ORGANIZER;CN="CFSC":MAILTO:charlestonfscwv@gmail.com
END:VEVENT
BEGIN:VEVENT
DTSTART;TZID=America/Kentucky/Louisville:20260222T180000
DTEND;TZID=America/Kentucky/Louisville:20260222T200000
DTSTAMP:20260422T185506
CREATED:20251103T212100Z
LAST-MODIFIED:20251103T212100Z
UID:5804-1771783200-1771790400@charlestonfsc.com
SUMMARY:Freestyle Session
DESCRIPTION:$10 per hour
URL:https://charlestonfsc.com/event/freestyle-session-156/
LOCATION:<span class='tooltipsall tooltip_post_id_473 classtoolTips473'>SCMIA</span>\, 20 RHL Blvd\, South Charleston\, WV\, 25309\, United States
CATEGORIES:Calendar Event
ORGANIZER;CN="CFSC":MAILTO:charlestonfscwv@gmail.com
END:VEVENT
BEGIN:VEVENT
DTSTART;TZID=America/Kentucky/Louisville:20260221T190000
DTEND;TZID=America/Kentucky/Louisville:20260221T200000
DTSTAMP:20260422T185506
CREATED:20251113T210917Z
LAST-MODIFIED:20251113T210917Z
UID:5962-1771700400-1771704000@charlestonfsc.com
SUMMARY:Skating Show at Canaan Valley Resort
DESCRIPTION:
URL:https://charlestonfsc.com/event/skating-show-at-canaan-valley-resort-15/
LOCATION:Canaan Valley Resort State Park\, 230 Main Lodge Rd.\, Davis\, WV\, 26260\, United States
CATEGORIES:Calendar Event,Show
ORGANIZER;CN="CFSC":MAILTO:charlestonfscwv@gmail.com
END:VEVENT
BEGIN:VEVENT
DTSTART;TZID=America/Kentucky/Louisville:20260221T140000
DTEND;TZID=America/Kentucky/Louisville:20260221T150000
DTSTAMP:20260422T185506
CREATED:20251113T210831Z
LAST-MODIFIED:20251113T210831Z
UID:5960-1771682400-1771686000@charlestonfsc.com
SUMMARY:Skating Show at Canaan Valley Resort
DESCRIPTION:
URL:https://charlestonfsc.com/event/skating-show-at-canaan-valley-resort-14/
LOCATION:Canaan Valley Resort State Park\, 230 Main Lodge Rd.\, Davis\, WV\, 26260\, United States
CATEGORIES:Calendar Event,Show
ORGANIZER;CN="CFSC":MAILTO:charlestonfscwv@gmail.com
END:VEVENT
BEGIN:VEVENT
DTSTART;TZID=America/Kentucky/Louisville:20260221T080000
DTEND;TZID=America/Kentucky/Louisville:20260221T100000
DTSTAMP:20260422T185506
CREATED:20251103T211213Z
LAST-MODIFIED:20260215T193102Z
UID:5751-1771660800-1771668000@charlestonfsc.com
SUMMARY:Freestyle Session
DESCRIPTION:$10 per hour
URL:https://charlestonfsc.com/event/freestyle-session-104/
LOCATION:<span class='tooltipsall tooltip_post_id_473 classtoolTips473'>SCMIA</span>\, 20 RHL Blvd\, South Charleston\, WV\, 25309\, United States
CATEGORIES:Calendar Event
ORGANIZER;CN="CFSC":MAILTO:charlestonfscwv@gmail.com
END:VEVENT
BEGIN:VEVENT
DTSTART;TZID=America/Kentucky/Louisville:20260220T190000
DTEND;TZID=America/Kentucky/Louisville:20260220T200000
DTSTAMP:20260422T185506
CREATED:20251113T210752Z
LAST-MODIFIED:20251113T210752Z
UID:5958-1771614000-1771617600@charlestonfsc.com
SUMMARY:Skating Show at Canaan Valley Resort
DESCRIPTION:
URL:https://charlestonfsc.com/event/skating-show-at-canaan-valley-resort-13/
LOCATION:Canaan Valley Resort State Park\, 230 Main Lodge Rd.\, Davis\, WV\, 26260\, United States
CATEGORIES:Calendar Event,Show
ORGANIZER;CN="CFSC":MAILTO:charlestonfscwv@gmail.com
END:VEVENT
BEGIN:VEVENT
DTSTART;TZID=America/Kentucky/Louisville:20260220T000000
DTEND;TZID=America/Kentucky/Louisville:20260220T235959
DTSTAMP:20260422T185506
CREATED:20251223T145517Z
LAST-MODIFIED:20251223T145517Z
UID:6115-1771545600-1771631999@charlestonfsc.com
SUMMARY:Registration Deadline for Louisville Skating Academy SEGL Spring Invitational
DESCRIPTION:Excel Series\, Well Balanced Events\, Adult Free Skate\, Athlete Development\, Showcase\, Adult Showcase\, Solo Dance Events\, Adult Solo Dance Events\, Compete USA\, Adaptive
URL:https://charlestonfsc.com/event/registration-deadline-for-louisville-skating-academy-segl-spring-invitational/
LOCATION:Iceland Sports Complex\, 1701 UPS Drive\, Louisville\, KY\, 40223\, United States
CATEGORIES:Calendar Event,Competition
ORGANIZER;CN="Louisville Skating Academy":MAILTO:lsask8director@gmail.com
END:VEVENT
BEGIN:VEVENT
DTSTART;TZID=America/Kentucky/Louisville:20260218T171500
DTEND;TZID=America/Kentucky/Louisville:20260218T194500
DTSTAMP:20260422T185506
CREATED:20251103T213644Z
LAST-MODIFIED:20251103T213644Z
UID:5856-1771434900-1771443900@charlestonfsc.com
SUMMARY:Club Ice Session
DESCRIPTION:$10 per hour
URL:https://charlestonfsc.com/event/club-ice-session-54/
LOCATION:<span class='tooltipsall tooltip_post_id_473 classtoolTips473'>SCMIA</span>\, 20 RHL Blvd\, South Charleston\, WV\, 25309\, United States
CATEGORIES:Calendar Event
ORGANIZER;CN="CFSC":MAILTO:charlestonfscwv@gmail.com
END:VEVENT
BEGIN:VEVENT
DTSTART;TZID=America/Kentucky/Louisville:20260215T180000
DTEND;TZID=America/Kentucky/Louisville:20260215T200000
DTSTAMP:20260422T185506
CREATED:20251103T212059Z
LAST-MODIFIED:20251103T212059Z
UID:5803-1771178400-1771185600@charlestonfsc.com
SUMMARY:Freestyle Session
DESCRIPTION:$10 per hour
URL:https://charlestonfsc.com/event/freestyle-session-155/
LOCATION:<span class='tooltipsall tooltip_post_id_473 classtoolTips473'>SCMIA</span>\, 20 RHL Blvd\, South Charleston\, WV\, 25309\, United States
CATEGORIES:Calendar Event
ORGANIZER;CN="CFSC":MAILTO:charlestonfscwv@gmail.com
END:VEVENT
BEGIN:VEVENT
DTSTART;TZID=America/Kentucky/Louisville:20260214T090000
DTEND;TZID=America/Kentucky/Louisville:20260214T110000
DTSTAMP:20260422T185506
CREATED:20251103T211213Z
LAST-MODIFIED:20251103T211213Z
UID:5750-1771059600-1771066800@charlestonfsc.com
SUMMARY:Freestyle Session
DESCRIPTION:$10 per hour
URL:https://charlestonfsc.com/event/freestyle-session-103/
LOCATION:<span class='tooltipsall tooltip_post_id_473 classtoolTips473'>SCMIA</span>\, 20 RHL Blvd\, South Charleston\, WV\, 25309\, United States
CATEGORIES:Calendar Event
ORGANIZER;CN="CFSC":MAILTO:charlestonfscwv@gmail.com
END:VEVENT
BEGIN:VEVENT
DTSTART;TZID=America/Kentucky/Louisville:20260214T000000
DTEND;TZID=America/Kentucky/Louisville:20260214T235959
DTSTAMP:20260422T185506
CREATED:20260220T151338Z
LAST-MODIFIED:20260220T151338Z
UID:6185-1771027200-1771113599@charlestonfsc.com
SUMMARY:Registration Deadline for Cleveland Invitational Championships
DESCRIPTION:Excel Series\, Well balanced events\, Adult Free Skate\, Athlete Development\, Adult Specialty\, Showcase\, CompeteUSA
URL:https://charlestonfsc.com/event/registration-deadline-for-cleveland-invitational-championships-2/
LOCATION:Michael A. Ries Rink\, 5000 Forestwood Dr.\, Parma\, OH\, 44134\, United States
CATEGORIES:Calendar Event,Competition
ORGANIZER;CN="Forestwood Skating Club of Parma":MAILTO:support@forestwoodskatingclub.com
END:VEVENT
BEGIN:VEVENT
DTSTART;TZID=America/Kentucky/Louisville:20260213T000000
DTEND;TZID=America/Kentucky/Louisville:20260215T235959
DTSTAMP:20260422T185506
CREATED:20251223T145508Z
LAST-MODIFIED:20251223T145508Z
UID:6110-1770940800-1771199999@charlestonfsc.com
SUMMARY:Albert Viviani Memorial/Deborah Burgoyne North American (Adult) Competitions
DESCRIPTION:Excel Series\, Well Balanced Events\, Aspire Events\, Adult Events\, Showcase\, Compete USA
URL:https://charlestonfsc.com/event/albert-viviani-memorial-deborah-burgoyne-north-american-adult-competitions/
LOCATION:Benjamin F. Yack Recreation Center\, 3131 3rd Street\, Wyandotte\, MI\, 48192\, United States
CATEGORIES:Calendar Event,Competition
ORGANIZER;CN="Wyandotte Figure Skating Club":MAILTO:wyandotteskater@msn.com
END:VEVENT
BEGIN:VEVENT
DTSTART;TZID=America/Kentucky/Louisville:20260211T171500
DTEND;TZID=America/Kentucky/Louisville:20260211T194500
DTSTAMP:20260422T185506
CREATED:20251103T213643Z
LAST-MODIFIED:20251103T213643Z
UID:5855-1770830100-1770839100@charlestonfsc.com
SUMMARY:Club Ice Session
DESCRIPTION:$10 per hour
URL:https://charlestonfsc.com/event/club-ice-session-53/
LOCATION:<span class='tooltipsall tooltip_post_id_473 classtoolTips473'>SCMIA</span>\, 20 RHL Blvd\, South Charleston\, WV\, 25309\, United States
CATEGORIES:Calendar Event
ORGANIZER;CN="CFSC":MAILTO:charlestonfscwv@gmail.com
END:VEVENT
BEGIN:VEVENT
DTSTART;TZID=America/Kentucky/Louisville:20260208T180000
DTEND;TZID=America/Kentucky/Louisville:20260208T200000
DTSTAMP:20260422T185506
CREATED:20251103T212058Z
LAST-MODIFIED:20251103T212058Z
UID:5802-1770573600-1770580800@charlestonfsc.com
SUMMARY:Freestyle Session
DESCRIPTION:$10 per hour
URL:https://charlestonfsc.com/event/freestyle-session-154/
LOCATION:<span class='tooltipsall tooltip_post_id_473 classtoolTips473'>SCMIA</span>\, 20 RHL Blvd\, South Charleston\, WV\, 25309\, United States
CATEGORIES:Calendar Event
ORGANIZER;CN="CFSC":MAILTO:charlestonfscwv@gmail.com
END:VEVENT
BEGIN:VEVENT
DTSTART;TZID=America/Kentucky/Louisville:20260207T090000
DTEND;TZID=America/Kentucky/Louisville:20260207T110000
DTSTAMP:20260422T185506
CREATED:20251103T211211Z
LAST-MODIFIED:20251103T211211Z
UID:5749-1770454800-1770462000@charlestonfsc.com
SUMMARY:Freestyle Session
DESCRIPTION:$10 per hour
URL:https://charlestonfsc.com/event/freestyle-session-102/
LOCATION:<span class='tooltipsall tooltip_post_id_473 classtoolTips473'>SCMIA</span>\, 20 RHL Blvd\, South Charleston\, WV\, 25309\, United States
CATEGORIES:Calendar Event
ORGANIZER;CN="CFSC":MAILTO:charlestonfscwv@gmail.com
END:VEVENT
BEGIN:VEVENT
DTSTART;TZID=America/Kentucky/Louisville:20260206T000000
DTEND;TZID=America/Kentucky/Louisville:20260206T235959
DTSTAMP:20260422T185506
CREATED:20251223T145509Z
LAST-MODIFIED:20251223T145509Z
UID:6111-1770336000-1770422399@charlestonfsc.com
SUMMARY:Registration Deadline for Columbus Invitational
DESCRIPTION:Excel Series\, Well Balanced Events\, Aspire Events\, Adult Free Skate\, Athlete Development\, Showcase\, Compete USA
URL:https://charlestonfsc.com/event/registration-deadline-for-columbus-invitational-2/
LOCATION:Hamilton Community Center and Ice Arena\, 2501 Lincoln Park Drive\, Columbus\, IN\, 47201\, United States
CATEGORIES:Calendar Event,Competition
ORGANIZER;CN="Lincoln Center Skate Club":MAILTO:sk8columbus@gmail.com
END:VEVENT
BEGIN:VEVENT
DTSTART;TZID=America/Kentucky/Louisville:20260204T171500
DTEND;TZID=America/Kentucky/Louisville:20260204T194500
DTSTAMP:20260422T185506
CREATED:20251103T213640Z
LAST-MODIFIED:20251103T213640Z
UID:5854-1770225300-1770234300@charlestonfsc.com
SUMMARY:Club Ice Session
DESCRIPTION:$10 per hour
URL:https://charlestonfsc.com/event/club-ice-session-52/
LOCATION:<span class='tooltipsall tooltip_post_id_473 classtoolTips473'>SCMIA</span>\, 20 RHL Blvd\, South Charleston\, WV\, 25309\, United States
CATEGORIES:Calendar Event
ORGANIZER;CN="CFSC":MAILTO:charlestonfscwv@gmail.com
END:VEVENT
BEGIN:VEVENT
DTSTART;TZID=America/Kentucky/Louisville:20260203T000000
DTEND;TZID=America/Kentucky/Louisville:20260203T235959
DTSTAMP:20260422T185506
CREATED:20250828T125653Z
LAST-MODIFIED:20250828T125653Z
UID:5509-1770076800-1770163199@charlestonfsc.com
SUMMARY:Registration Deadline for Eastern Adult Sectional Championships
DESCRIPTION:Adult Singles\, Adult Pairs\, Adult Dance\, Adult Showcase\, Adult Solo Dance
URL:https://charlestonfsc.com/event/registration-deadline-for-eastern-adult-sectional-championships-3/
LOCATION:York Ice Arena at Memorial Park\, 941 S. Vander Ave.\, York\, PA\, 17403\, United States
CATEGORIES:Calendar Event,Competition
ORGANIZER;CN="USFSA":MAILTO:Events@usfigureskating.org
END:VEVENT
BEGIN:VEVENT
DTSTART;TZID=America/Kentucky/Louisville:20260201T180000
DTEND;TZID=America/Kentucky/Louisville:20260201T200000
DTSTAMP:20260422T185506
CREATED:20251103T212056Z
LAST-MODIFIED:20251103T212056Z
UID:5801-1769968800-1769976000@charlestonfsc.com
SUMMARY:Freestyle Session
DESCRIPTION:$10 per hour
URL:https://charlestonfsc.com/event/freestyle-session-153/
LOCATION:<span class='tooltipsall tooltip_post_id_473 classtoolTips473'>SCMIA</span>\, 20 RHL Blvd\, South Charleston\, WV\, 25309\, United States
CATEGORIES:Calendar Event
ORGANIZER;CN="CFSC":MAILTO:charlestonfscwv@gmail.com
END:VEVENT
BEGIN:VEVENT
DTSTART;TZID=America/Kentucky/Louisville:20260131T120000
DTEND;TZID=America/Kentucky/Louisville:20260131T140000
DTSTAMP:20260422T185506
CREATED:20251103T211209Z
LAST-MODIFIED:20260126T190049Z
UID:5748-1769860800-1769868000@charlestonfsc.com
SUMMARY:Freestyle Session
DESCRIPTION:$10 per hour
URL:https://charlestonfsc.com/event/freestyle-session-101/
LOCATION:<span class='tooltipsall tooltip_post_id_473 classtoolTips473'>SCMIA</span>\, 20 RHL Blvd\, South Charleston\, WV\, 25309\, United States
CATEGORIES:Calendar Event
ORGANIZER;CN="CFSC":MAILTO:charlestonfscwv@gmail.com
END:VEVENT
BEGIN:VEVENT
DTSTART;TZID=America/Kentucky/Louisville:20260128T171500
DTEND;TZID=America/Kentucky/Louisville:20260128T194500
DTSTAMP:20260422T185506
CREATED:20251103T213639Z
LAST-MODIFIED:20251103T213639Z
UID:5853-1769620500-1769629500@charlestonfsc.com
SUMMARY:Club Ice Session
DESCRIPTION:$10 per hour
URL:https://charlestonfsc.com/event/club-ice-session-51/
LOCATION:<span class='tooltipsall tooltip_post_id_473 classtoolTips473'>SCMIA</span>\, 20 RHL Blvd\, South Charleston\, WV\, 25309\, United States
CATEGORIES:Calendar Event
ORGANIZER;CN="CFSC":MAILTO:charlestonfscwv@gmail.com
END:VEVENT
BEGIN:VEVENT
DTSTART;TZID=America/Kentucky/Louisville:20260125T180000
DTEND;TZID=America/Kentucky/Louisville:20260125T200000
DTSTAMP:20260422T185506
CREATED:20251103T212055Z
LAST-MODIFIED:20251103T212055Z
UID:5800-1769364000-1769371200@charlestonfsc.com
SUMMARY:Freestyle Session
DESCRIPTION:$10 per hour
URL:https://charlestonfsc.com/event/freestyle-session-152/
LOCATION:<span class='tooltipsall tooltip_post_id_473 classtoolTips473'>SCMIA</span>\, 20 RHL Blvd\, South Charleston\, WV\, 25309\, United States
CATEGORIES:Calendar Event
ORGANIZER;CN="CFSC":MAILTO:charlestonfscwv@gmail.com
END:VEVENT
BEGIN:VEVENT
DTSTART;TZID=America/Kentucky/Louisville:20260124T190000
DTEND;TZID=America/Kentucky/Louisville:20260124T200000
DTSTAMP:20260422T185506
CREATED:20251113T210651Z
LAST-MODIFIED:20251113T210651Z
UID:5956-1769281200-1769284800@charlestonfsc.com
SUMMARY:Skating Show at Canaan Valley Resort
DESCRIPTION:
URL:https://charlestonfsc.com/event/skating-show-at-canaan-valley-resort-12/
LOCATION:Canaan Valley Resort State Park\, 230 Main Lodge Rd.\, Davis\, WV\, 26260\, United States
CATEGORIES:Calendar Event,Show
ORGANIZER;CN="CFSC":MAILTO:charlestonfscwv@gmail.com
END:VEVENT
BEGIN:VEVENT
DTSTART;TZID=America/Kentucky/Louisville:20260124T140000
DTEND;TZID=America/Kentucky/Louisville:20260124T150000
DTSTAMP:20260422T185506
CREATED:20251113T210540Z
LAST-MODIFIED:20251113T210540Z
UID:5954-1769263200-1769266800@charlestonfsc.com
SUMMARY:Skating Show at Canaan Valley Resort
DESCRIPTION:
URL:https://charlestonfsc.com/event/skating-show-at-canaan-valley-resort-11/
LOCATION:Canaan Valley Resort State Park\, 230 Main Lodge Rd.\, Davis\, WV\, 26260\, United States
CATEGORIES:Calendar Event,Show
ORGANIZER;CN="CFSC":MAILTO:charlestonfscwv@gmail.com
END:VEVENT
END:VCALENDAR