BEGIN:VCALENDAR
VERSION:2.0
PRODID:-//Charleston Figure Skating Club - ECPv6.15.20//NONSGML v1.0//EN
CALSCALE:GREGORIAN
METHOD:PUBLISH
X-WR-CALNAME:Charleston Figure Skating Club
X-ORIGINAL-URL:https://charlestonfsc.com
X-WR-CALDESC:Events for Charleston Figure Skating Club
REFRESH-INTERVAL;VALUE=DURATION:PT1H
X-Robots-Tag:noindex
X-PUBLISHED-TTL:PT1H
BEGIN:VTIMEZONE
TZID:America/Kentucky/Louisville
BEGIN:DAYLIGHT
TZOFFSETFROM:-0500
TZOFFSETTO:-0400
TZNAME:EDT
DTSTART:20240310T070000
END:DAYLIGHT
BEGIN:STANDARD
TZOFFSETFROM:-0400
TZOFFSETTO:-0500
TZNAME:EST
DTSTART:20241103T060000
END:STANDARD
BEGIN:DAYLIGHT
TZOFFSETFROM:-0500
TZOFFSETTO:-0400
TZNAME:EDT
DTSTART:20250309T070000
END:DAYLIGHT
BEGIN:STANDARD
TZOFFSETFROM:-0400
TZOFFSETTO:-0500
TZNAME:EST
DTSTART:20251102T060000
END:STANDARD
BEGIN:DAYLIGHT
TZOFFSETFROM:-0500
TZOFFSETTO:-0400
TZNAME:EDT
DTSTART:20260308T070000
END:DAYLIGHT
BEGIN:STANDARD
TZOFFSETFROM:-0400
TZOFFSETTO:-0500
TZNAME:EST
DTSTART:20261101T060000
END:STANDARD
END:VTIMEZONE
BEGIN:VEVENT
DTSTART;TZID=America/Kentucky/Louisville:20250321T000000
DTEND;TZID=America/Kentucky/Louisville:20250321T235959
DTSTAMP:20260423T074531
CREATED:20250223T175825Z
LAST-MODIFIED:20250223T175825Z
UID:2585-1742515200-1742601599@charlestonfsc.com
SUMMARY:Registration Deadline for Tri-State Memorial Figure Skating Competition
DESCRIPTION:Excel Series\, Well Balanced Events\, Adult Free Skate\, Partnered Ice Dance\, Athlete Development\, Showcase\, Solo Dance (non-series)\, Compete USA
URL:https://charlestonfsc.com/event/registration-deadline-for-tri-state-memorial-figure-skating-competition/
LOCATION:Southgate Ice Arena\, 14700 Reaume Pkwy\, Southgate\, MI\, 48195\, United States
CATEGORIES:Calendar Event,Competition
ORGANIZER;CN="Southgate Figure Skating Club":MAILTO:sfsboosterclub@gmail.com
END:VEVENT
BEGIN:VEVENT
DTSTART;TZID=America/Kentucky/Louisville:20250321T000000
DTEND;TZID=America/Kentucky/Louisville:20250323T235959
DTSTAMP:20260423T074531
CREATED:20250212T211119Z
LAST-MODIFIED:20250220T161019Z
UID:1708-1742515200-1742774399@charlestonfsc.com
SUMMARY:Louisville Skating Academy Spring Invitational
DESCRIPTION:Registration Deadline: 2/21/2025 \nExcel Series\, Well Balanced Events\, Adult Free Skate\, Athlete Development\, Showcase\, Adult Showcase\, Solo Dance Events\, Adult Solo Dance Events\, Compete USA\, Adaptive
URL:https://charlestonfsc.com/event/louisville-skating-academy-spring-invitational/
LOCATION:Iceland Sports Complex\, 1701 UPS Drive\, Louisville\, KY\, 40223\, United States
CATEGORIES:Calendar Event,Competition
ORGANIZER;CN="Louisville Skating Academy":MAILTO:lsask8director@gmail.com
END:VEVENT
BEGIN:VEVENT
DTSTART;TZID=America/Kentucky/Louisville:20250321T000000
DTEND;TZID=America/Kentucky/Louisville:20250323T235959
DTSTAMP:20260423T074531
CREATED:20250212T212306Z
LAST-MODIFIED:20250226T141835Z
UID:1715-1742515200-1742774399@charlestonfsc.com
SUMMARY:Cleveland Invitational Championships
DESCRIPTION:Registration Deadline: 2/15/2025 \nExcel Series\, Well balanced events\, Adult Free Skate\, Athlete Development\, Adult Specialty\, Showcase\, CompeteUSA
URL:https://charlestonfsc.com/event/cleveland-invitational-championships/
LOCATION:Michael A. Ries Rink\, 5000 Forestwood Dr.\, Parma\, OH\, 44134\, United States
CATEGORIES:Calendar Event,Competition
ORGANIZER;CN="Forestwood Skating Club of Parma":MAILTO:support@forestwoodskatingclub.com
END:VEVENT
BEGIN:VEVENT
DTSTART;TZID=America/Kentucky/Louisville:20250322T090000
DTEND;TZID=America/Kentucky/Louisville:20250322T110000
DTSTAMP:20260423T074531
CREATED:20250213T195543Z
LAST-MODIFIED:20250220T160201Z
UID:1905-1742634000-1742641200@charlestonfsc.com
SUMMARY:Freestyle Session
DESCRIPTION:$10 per hour
URL:https://charlestonfsc.com/event/freestyle-session-8/
LOCATION:<span class='tooltipsall tooltip_post_id_473 classtoolTips473'>SCMIA</span>\, 20 RHL Blvd\, South Charleston\, WV\, 25309\, United States
CATEGORIES:Calendar Event
ORGANIZER;CN="CFSC":MAILTO:charlestonfscwv@gmail.com
END:VEVENT
BEGIN:VEVENT
DTSTART;TZID=America/Kentucky/Louisville:20250323T180000
DTEND;TZID=America/Kentucky/Louisville:20250323T200000
DTSTAMP:20260423T074531
CREATED:20250213T201206Z
LAST-MODIFIED:20250220T160155Z
UID:1955-1742752800-1742760000@charlestonfsc.com
SUMMARY:Freestyle Session
DESCRIPTION:$10 per hour
URL:https://charlestonfsc.com/event/freestyle-session-56/
LOCATION:<span class='tooltipsall tooltip_post_id_473 classtoolTips473'>SCMIA</span>\, 20 RHL Blvd\, South Charleston\, WV\, 25309\, United States
CATEGORIES:Calendar Event
ORGANIZER;CN="CFSC":MAILTO:charlestonfscwv@gmail.com
END:VEVENT
BEGIN:VEVENT
DTSTART;TZID=America/Kentucky/Louisville:20250324T000000
DTEND;TZID=America/Kentucky/Louisville:20250324T235959
DTSTAMP:20260423T074531
CREATED:20250213T013524Z
LAST-MODIFIED:20250220T161007Z
UID:1756-1742774400-1742860799@charlestonfsc.com
SUMMARY:Registration Deadline for CRC Kickoff
DESCRIPTION:Excel Series\, Well Balanced Events\, Adult Free Skate\, Athlete Development\, Showcase\, Solo Dance\, Adult Solo Dance\, Compete USA\, Adaptive
URL:https://charlestonfsc.com/event/registration-deadline-for-crc-kickoff/
LOCATION:Chilled Ponds Ice Sports Complex\, 1416 Stephanie Way\, Chesapeake\, VA\, 23320\, United States
CATEGORIES:Calendar Event,Competition
ORGANIZER;CN="Tidewater Figure Skating Club":MAILTO:Tidewaterfsc@gmail.com
END:VEVENT
BEGIN:VEVENT
DTSTART;TZID=America/Kentucky/Louisville:20250326T171500
DTEND;TZID=America/Kentucky/Louisville:20250326T194500
DTSTAMP:20260423T074531
CREATED:20250213T180838Z
LAST-MODIFIED:20250220T160145Z
UID:1850-1743009300-1743018300@charlestonfsc.com
SUMMARY:Club Ice Session
DESCRIPTION:$10 per hour
URL:https://charlestonfsc.com/event/club-ice-session-7/
LOCATION:<span class='tooltipsall tooltip_post_id_473 classtoolTips473'>SCMIA</span>\, 20 RHL Blvd\, South Charleston\, WV\, 25309\, United States
CATEGORIES:Calendar Event
ORGANIZER;CN="CFSC":MAILTO:charlestonfscwv@gmail.com
END:VEVENT
BEGIN:VEVENT
DTSTART;TZID=America/Kentucky/Louisville:20250327T000000
DTEND;TZID=America/Kentucky/Louisville:20250327T235959
DTSTAMP:20260423T074531
CREATED:20250213T014535Z
LAST-MODIFIED:20250220T161001Z
UID:1765-1743033600-1743119999@charlestonfsc.com
SUMMARY:Registration Deadline for Picken Dance Classic
DESCRIPTION:Solo Dance Series\, Partnered Ice Dance
URL:https://charlestonfsc.com/event/registration-deadline-for-picken-dance-classic/
LOCATION:SkateQuest\, 1800 Michael Faraday Ct\, Reston\, VA\, 20190\, United States
CATEGORIES:Calendar Event,Competition
END:VEVENT
BEGIN:VEVENT
DTSTART;TZID=America/Kentucky/Louisville:20250329T090000
DTEND;TZID=America/Kentucky/Louisville:20250329T110000
DTSTAMP:20260423T074531
CREATED:20250213T195543Z
LAST-MODIFIED:20250220T160136Z
UID:1906-1743238800-1743246000@charlestonfsc.com
SUMMARY:Freestyle Session
DESCRIPTION:$10 per hour
URL:https://charlestonfsc.com/event/freestyle-session-9/
LOCATION:<span class='tooltipsall tooltip_post_id_473 classtoolTips473'>SCMIA</span>\, 20 RHL Blvd\, South Charleston\, WV\, 25309\, United States
CATEGORIES:Calendar Event
ORGANIZER;CN="CFSC":MAILTO:charlestonfscwv@gmail.com
END:VEVENT
BEGIN:VEVENT
DTSTART;TZID=America/Kentucky/Louisville:20250330T000000
DTEND;TZID=America/Kentucky/Louisville:20250330T235959
DTSTAMP:20260423T074531
CREATED:20250213T015505Z
LAST-MODIFIED:20250220T161325Z
UID:1773-1743292800-1743379199@charlestonfsc.com
SUMMARY:Registration Deadline for Central Carolina Skating Classic
DESCRIPTION:Excel Series\, Well Balanced Events\, Adult Free Skate\, Compete USA\, Athlete Development\, Showcase\, Adaptive
URL:https://charlestonfsc.com/event/registration-deadline-for-central-carolina-skating-classic/
LOCATION:Orange County Sportsplex\, 101 Meadowlands Dr.\, Hillsborough\, NC\, 27278\, United States
CATEGORIES:Calendar Event,Competition
END:VEVENT
BEGIN:VEVENT
DTSTART;TZID=America/Kentucky/Louisville:20250330T180000
DTEND;TZID=America/Kentucky/Louisville:20250330T200000
DTSTAMP:20260423T074531
CREATED:20250213T201206Z
LAST-MODIFIED:20250220T161318Z
UID:1956-1743357600-1743364800@charlestonfsc.com
SUMMARY:Freestyle Session
DESCRIPTION:$10 per hour
URL:https://charlestonfsc.com/event/freestyle-session-57/
LOCATION:<span class='tooltipsall tooltip_post_id_473 classtoolTips473'>SCMIA</span>\, 20 RHL Blvd\, South Charleston\, WV\, 25309\, United States
CATEGORIES:Calendar Event
ORGANIZER;CN="CFSC":MAILTO:charlestonfscwv@gmail.com
END:VEVENT
BEGIN:VEVENT
DTSTART;TZID=America/Kentucky/Louisville:20250331T000000
DTEND;TZID=America/Kentucky/Louisville:20250331T235959
DTSTAMP:20260423T074531
CREATED:20250213T020319Z
LAST-MODIFIED:20250220T161314Z
UID:1781-1743379200-1743465599@charlestonfsc.com
SUMMARY:Registration Deadline for Three Rivers Spring Skate
DESCRIPTION:Excel Series\, Well Balanced Events\, Adult Free Skate\, Athlete Development\, Compete USA
URL:https://charlestonfsc.com/event/registration-deadline-for-three-rivers-spring-skate/
LOCATION:Mt. Lebanon Recreation Center\, 900 Cedar Blvd.\, Mt. Lebanon\, PA\, 15228\, United States
CATEGORIES:Calendar Event,Competition
ORGANIZER;CN="Skating Club of Mt. Lebanon":MAILTO:scofmtlebanon@gmail.com
END:VEVENT
BEGIN:VEVENT
DTSTART;TZID=America/Kentucky/Louisville:20250401T000000
DTEND;TZID=America/Kentucky/Louisville:20250401T235959
DTSTAMP:20260423T074531
CREATED:20250213T021147Z
LAST-MODIFIED:20250220T161307Z
UID:1789-1743465600-1743551999@charlestonfsc.com
SUMMARY:Registration Deadline for 41st Margaret Faulkner Springtime Invitational
DESCRIPTION:Excel Series\, Well Balanced Events\, Adult Free Skate\, Pairs\, Partnered Ice Dance\, Aspire\, Athlete Development\, Showcase\, Solo Dance (non-series)
URL:https://charlestonfsc.com/event/registration-deadline-for-41st-margaret-faulkner-springtime-invitational/
LOCATION:Bigby Coffee Ice Cube—Ann Arbor\, 2121 Oak Valley Dr.\, Ann Arbor\, MI\, 48103\, United States
CATEGORIES:Calendar Event,Competition
END:VEVENT
BEGIN:VEVENT
DTSTART;TZID=America/Kentucky/Louisville:20250401T174500
DTEND;TZID=America/Kentucky/Louisville:20250401T184500
DTSTAMP:20260423T074531
CREATED:20250324T161803Z
LAST-MODIFIED:20250324T162331Z
UID:3291-1743529500-1743533100@charlestonfsc.com
SUMMARY:Power Skating
DESCRIPTION:
URL:https://charlestonfsc.com/event/power-skating/
LOCATION:<span class='tooltipsall tooltip_post_id_473 classtoolTips473'>SCMIA</span>\, 20 RHL Blvd\, South Charleston\, WV\, 25309\, United States
CATEGORIES:Calendar Event
END:VEVENT
BEGIN:VEVENT
DTSTART;TZID=America/Kentucky/Louisville:20250402T171500
DTEND;TZID=America/Kentucky/Louisville:20250402T194500
DTSTAMP:20260423T074531
CREATED:20250213T194533Z
LAST-MODIFIED:20250220T161302Z
UID:1856-1743614100-1743623100@charlestonfsc.com
SUMMARY:Club Ice Session
DESCRIPTION:$10 per hour
URL:https://charlestonfsc.com/event/club-ice-session-8/
LOCATION:<span class='tooltipsall tooltip_post_id_473 classtoolTips473'>SCMIA</span>\, 20 RHL Blvd\, South Charleston\, WV\, 25309\, United States
CATEGORIES:Calendar Event
ORGANIZER;CN="CFSC":MAILTO:charlestonfscwv@gmail.com
END:VEVENT
BEGIN:VEVENT
DTSTART;TZID=America/Kentucky/Louisville:20250405T090000
DTEND;TZID=America/Kentucky/Louisville:20250405T110000
DTSTAMP:20260423T074531
CREATED:20250213T195543Z
LAST-MODIFIED:20250220T161257Z
UID:1907-1743843600-1743850800@charlestonfsc.com
SUMMARY:Freestyle Session
DESCRIPTION:$10 per hour
URL:https://charlestonfsc.com/event/freestyle-session-10/
LOCATION:<span class='tooltipsall tooltip_post_id_473 classtoolTips473'>SCMIA</span>\, 20 RHL Blvd\, South Charleston\, WV\, 25309\, United States
CATEGORIES:Calendar Event
ORGANIZER;CN="CFSC":MAILTO:charlestonfscwv@gmail.com
END:VEVENT
BEGIN:VEVENT
DTSTART;TZID=America/Kentucky/Louisville:20250406T180000
DTEND;TZID=America/Kentucky/Louisville:20250406T200000
DTSTAMP:20260423T074531
CREATED:20250213T201206Z
LAST-MODIFIED:20250220T161254Z
UID:1957-1743962400-1743969600@charlestonfsc.com
SUMMARY:Freestyle Session
DESCRIPTION:$10 per hour
URL:https://charlestonfsc.com/event/freestyle-session-58/
LOCATION:<span class='tooltipsall tooltip_post_id_473 classtoolTips473'>SCMIA</span>\, 20 RHL Blvd\, South Charleston\, WV\, 25309\, United States
CATEGORIES:Calendar Event
ORGANIZER;CN="CFSC":MAILTO:charlestonfscwv@gmail.com
END:VEVENT
BEGIN:VEVENT
DTSTART;TZID=America/Kentucky/Louisville:20250408T174500
DTEND;TZID=America/Kentucky/Louisville:20250408T184500
DTSTAMP:20260423T074531
CREATED:20250324T161904Z
LAST-MODIFIED:20250324T162351Z
UID:3293-1744134300-1744137900@charlestonfsc.com
SUMMARY:Power Skating
DESCRIPTION:
URL:https://charlestonfsc.com/event/power-skating-2/
LOCATION:<span class='tooltipsall tooltip_post_id_473 classtoolTips473'>SCMIA</span>\, 20 RHL Blvd\, South Charleston\, WV\, 25309\, United States
CATEGORIES:Calendar Event
END:VEVENT
BEGIN:VEVENT
DTSTART;TZID=America/Kentucky/Louisville:20250409T171500
DTEND;TZID=America/Kentucky/Louisville:20250409T194500
DTSTAMP:20260423T074531
CREATED:20250213T194533Z
LAST-MODIFIED:20250220T161251Z
UID:1857-1744218900-1744227900@charlestonfsc.com
SUMMARY:Club Ice Session
DESCRIPTION:$10 per hour
URL:https://charlestonfsc.com/event/club-ice-session-9/
LOCATION:<span class='tooltipsall tooltip_post_id_473 classtoolTips473'>SCMIA</span>\, 20 RHL Blvd\, South Charleston\, WV\, 25309\, United States
CATEGORIES:Calendar Event
ORGANIZER;CN="CFSC":MAILTO:charlestonfscwv@gmail.com
END:VEVENT
BEGIN:VEVENT
DTSTART;TZID=America/Kentucky/Louisville:20250410T000000
DTEND;TZID=America/Kentucky/Louisville:20250413T235959
DTSTAMP:20260423T074531
CREATED:20250212T220034Z
LAST-MODIFIED:20250220T161244Z
UID:1728-1744243200-1744588799@charlestonfsc.com
SUMMARY:Skate Nashville
DESCRIPTION:Registration Deadline: 3/6/2025 \nExcel Series\, Solo Dance Series\, Well Balanced Events\, Adult Free Skate\, Pairs\, Adult Pairs\, Athlete Development\, Showcase\, Compete USA\, Adaptive
URL:https://charlestonfsc.com/event/skate-nashville/
LOCATION:Centennial Sportsplex\, 222 25th Ave. N\, Nashville\, TN\, 37209\, United States
CATEGORIES:Calendar Event,Competition
ORGANIZER;CN="Nashville Figure Skating Club":MAILTO:nashvilleskatingacademy@gmail.com
END:VEVENT
BEGIN:VEVENT
DTSTART;TZID=America/Kentucky/Louisville:20250411T000000
DTEND;TZID=America/Kentucky/Louisville:20250413T235959
DTSTAMP:20260423T074531
CREATED:20250223T175609Z
LAST-MODIFIED:20250223T175609Z
UID:2581-1744329600-1744588799@charlestonfsc.com
SUMMARY:Tri-State Memorial Figure Skating Competition
DESCRIPTION:Excel Series\, Well Balanced Events\, Adult Free Skate\, Partnered Ice Dance\, Athlete Development\, Showcase\, Solo Dance (non-series)\, Compete USA
URL:https://charlestonfsc.com/event/tri-state-memorial-figure-skating-competition/
LOCATION:Southgate Ice Arena\, 14700 Reaume Pkwy\, Southgate\, MI\, 48195\, United States
CATEGORIES:Calendar Event,Competition
ORGANIZER;CN="Southgate Figure Skating Club":MAILTO:sfsboosterclub@gmail.com
END:VEVENT
BEGIN:VEVENT
DTSTART;TZID=America/Kentucky/Louisville:20250412T000000
DTEND;TZID=America/Kentucky/Louisville:20250413T235959
DTSTAMP:20260423T074531
CREATED:20250212T232511Z
LAST-MODIFIED:20250220T161240Z
UID:1736-1744416000-1744588799@charlestonfsc.com
SUMMARY:Sikumi Invitational
DESCRIPTION:Registration Deadline: 3/14/2025 \nExcel Series\, Well Balanced events\, Adult Free Skate\, Compulsory Moves\, Showcase\, Compete USA
URL:https://charlestonfsc.com/event/sikumi-invitational/
LOCATION:Kick Lewis Arena\, 101 LANDINGS DRIVE\, Annville\, PA\, 17003\, United States
CATEGORIES:Calendar Event,Competition
END:VEVENT
BEGIN:VEVENT
DTSTART;TZID=America/Kentucky/Louisville:20250412T090000
DTEND;TZID=America/Kentucky/Louisville:20250412T110000
DTSTAMP:20260423T074531
CREATED:20250213T195600Z
LAST-MODIFIED:20250220T161235Z
UID:1908-1744448400-1744455600@charlestonfsc.com
SUMMARY:Freestyle Session
DESCRIPTION:$10 per hour
URL:https://charlestonfsc.com/event/freestyle-session-11/
LOCATION:<span class='tooltipsall tooltip_post_id_473 classtoolTips473'>SCMIA</span>\, 20 RHL Blvd\, South Charleston\, WV\, 25309\, United States
CATEGORIES:Calendar Event
ORGANIZER;CN="CFSC":MAILTO:charlestonfscwv@gmail.com
END:VEVENT
BEGIN:VEVENT
DTSTART;TZID=America/Kentucky/Louisville:20250413T180000
DTEND;TZID=America/Kentucky/Louisville:20250413T200000
DTSTAMP:20260423T074531
CREATED:20250213T201223Z
LAST-MODIFIED:20250220T161229Z
UID:1958-1744567200-1744574400@charlestonfsc.com
SUMMARY:Freestyle Session
DESCRIPTION:$10 per hour
URL:https://charlestonfsc.com/event/freestyle-session-59/
LOCATION:<span class='tooltipsall tooltip_post_id_473 classtoolTips473'>SCMIA</span>\, 20 RHL Blvd\, South Charleston\, WV\, 25309\, United States
CATEGORIES:Calendar Event
ORGANIZER;CN="CFSC":MAILTO:charlestonfscwv@gmail.com
END:VEVENT
BEGIN:VEVENT
DTSTART;TZID=America/Kentucky/Louisville:20250414T000000
DTEND;TZID=America/Kentucky/Louisville:20250414T235959
DTSTAMP:20260423T074531
CREATED:20250213T154309Z
LAST-MODIFIED:20250220T161224Z
UID:1815-1744588800-1744675199@charlestonfsc.com
SUMMARY:Registration Deadline for Cardinal Classic
DESCRIPTION:Excel Series\, Well Balanced Events\, Adult Free Skate\, Adult Pairs\, Showcase\, Compete USA\, Adaptive
URL:https://charlestonfsc.com/event/registration-deadline-for-cardinal-classic/
LOCATION:Prince William Ice Center\, 5180 Dale Blvd\, Woodbridge\, VA\, 22193\, United States
CATEGORIES:Calendar Event,Competition
ORGANIZER;CN="Skating Club of Northern Virginia":MAILTO:president@scnv.org
END:VEVENT
BEGIN:VEVENT
DTSTART;TZID=America/Kentucky/Louisville:20250415T174500
DTEND;TZID=America/Kentucky/Louisville:20250415T184500
DTSTAMP:20260423T074531
CREATED:20250324T162028Z
LAST-MODIFIED:20250324T162047Z
UID:3295-1744739100-1744742700@charlestonfsc.com
SUMMARY:Power Skating
DESCRIPTION:
URL:https://charlestonfsc.com/event/power-skating-3/
LOCATION:<span class='tooltipsall tooltip_post_id_473 classtoolTips473'>SCMIA</span>\, 20 RHL Blvd\, South Charleston\, WV\, 25309\, United States
CATEGORIES:Calendar Event
END:VEVENT
BEGIN:VEVENT
DTSTART;TZID=America/Kentucky/Louisville:20250416T171500
DTEND;TZID=America/Kentucky/Louisville:20250416T194500
DTSTAMP:20260423T074531
CREATED:20250213T194533Z
LAST-MODIFIED:20250220T161219Z
UID:1858-1744823700-1744832700@charlestonfsc.com
SUMMARY:Club Ice Session
DESCRIPTION:$10 per hour
URL:https://charlestonfsc.com/event/club-ice-session-10/
LOCATION:<span class='tooltipsall tooltip_post_id_473 classtoolTips473'>SCMIA</span>\, 20 RHL Blvd\, South Charleston\, WV\, 25309\, United States
CATEGORIES:Calendar Event
ORGANIZER;CN="CFSC":MAILTO:charlestonfscwv@gmail.com
END:VEVENT
BEGIN:VEVENT
DTSTART;TZID=America/Kentucky/Louisville:20250419T090000
DTEND;TZID=America/Kentucky/Louisville:20250419T110000
DTSTAMP:20260423T074531
CREATED:20250213T195600Z
LAST-MODIFIED:20250220T161215Z
UID:1909-1745053200-1745060400@charlestonfsc.com
SUMMARY:Freestyle Session
DESCRIPTION:$10 per hour
URL:https://charlestonfsc.com/event/freestyle-session-12/
LOCATION:<span class='tooltipsall tooltip_post_id_473 classtoolTips473'>SCMIA</span>\, 20 RHL Blvd\, South Charleston\, WV\, 25309\, United States
CATEGORIES:Calendar Event
ORGANIZER;CN="CFSC":MAILTO:charlestonfscwv@gmail.com
END:VEVENT
BEGIN:VEVENT
DTSTART;TZID=America/Kentucky/Louisville:20250420T000000
DTEND;TZID=America/Kentucky/Louisville:20250420T235959
DTSTAMP:20260423T074531
CREATED:20250418T205918Z
LAST-MODIFIED:20250418T205918Z
UID:4271-1745107200-1745193599@charlestonfsc.com
SUMMARY:Rink Closed
DESCRIPTION:
URL:https://charlestonfsc.com/event/rink-closed/
LOCATION:<span class='tooltipsall tooltip_post_id_473 classtoolTips473'>SCMIA</span>\, 20 RHL Blvd\, South Charleston\, WV\, 25309\, United States
CATEGORIES:Calendar Event
END:VEVENT
BEGIN:VEVENT
DTSTART;TZID=America/Kentucky/Louisville:20250420T180000
DTEND;TZID=America/Kentucky/Louisville:20250420T200000
DTSTAMP:20260423T074531
CREATED:20250213T201223Z
LAST-MODIFIED:20250220T161211Z
UID:1959-1745172000-1745179200@charlestonfsc.com
SUMMARY:Freestyle Session
DESCRIPTION:$10 per hour
URL:https://charlestonfsc.com/event/freestyle-session-60/
LOCATION:<span class='tooltipsall tooltip_post_id_473 classtoolTips473'>SCMIA</span>\, 20 RHL Blvd\, South Charleston\, WV\, 25309\, United States
CATEGORIES:Calendar Event
ORGANIZER;CN="CFSC":MAILTO:charlestonfscwv@gmail.com
END:VEVENT
END:VCALENDAR