BEGIN:VCALENDAR
VERSION:2.0
PRODID:-//Charleston Figure Skating Club - ECPv6.15.20//NONSGML v1.0//EN
CALSCALE:GREGORIAN
METHOD:PUBLISH
X-WR-CALNAME:Charleston Figure Skating Club
X-ORIGINAL-URL:https://charlestonfsc.com
X-WR-CALDESC:Events for Charleston Figure Skating Club
REFRESH-INTERVAL;VALUE=DURATION:PT1H
X-Robots-Tag:noindex
X-PUBLISHED-TTL:PT1H
BEGIN:VTIMEZONE
TZID:America/Kentucky/Louisville
BEGIN:DAYLIGHT
TZOFFSETFROM:-0500
TZOFFSETTO:-0400
TZNAME:EDT
DTSTART:20240310T070000
END:DAYLIGHT
BEGIN:STANDARD
TZOFFSETFROM:-0400
TZOFFSETTO:-0500
TZNAME:EST
DTSTART:20241103T060000
END:STANDARD
BEGIN:DAYLIGHT
TZOFFSETFROM:-0500
TZOFFSETTO:-0400
TZNAME:EDT
DTSTART:20250309T070000
END:DAYLIGHT
BEGIN:STANDARD
TZOFFSETFROM:-0400
TZOFFSETTO:-0500
TZNAME:EST
DTSTART:20251102T060000
END:STANDARD
BEGIN:DAYLIGHT
TZOFFSETFROM:-0500
TZOFFSETTO:-0400
TZNAME:EDT
DTSTART:20260308T070000
END:DAYLIGHT
BEGIN:STANDARD
TZOFFSETFROM:-0400
TZOFFSETTO:-0500
TZNAME:EST
DTSTART:20261101T060000
END:STANDARD
END:VTIMEZONE
BEGIN:VEVENT
DTSTART;TZID=America/Kentucky/Louisville:20251214T173000
DTEND;TZID=America/Kentucky/Louisville:20251214T203000
DTSTAMP:20260422T185448
CREATED:20251029T202706Z
LAST-MODIFIED:20251029T202706Z
UID:5725-1765733400-1765744200@charlestonfsc.com
SUMMARY:Holiday Showcase
DESCRIPTION:Theme: Sugar and Ice and Everything Nice
URL:https://charlestonfsc.com/event/holiday-showcase/
LOCATION:<span class='tooltipsall tooltip_post_id_473 classtoolTips473'>SCMIA</span>\, 20 RHL Blvd\, South Charleston\, WV\, 25309\, United States
CATEGORIES:Calendar Event,Show
ORGANIZER;CN="CFSC":MAILTO:charlestonfscwv@gmail.com
END:VEVENT
BEGIN:VEVENT
DTSTART;TZID=America/Kentucky/Louisville:20251213T090000
DTEND;TZID=America/Kentucky/Louisville:20251213T110000
DTSTAMP:20260422T185448
CREATED:20251029T202809Z
LAST-MODIFIED:20251111T164404Z
UID:5727-1765616400-1765623600@charlestonfsc.com
SUMMARY:Holiday Showcase Dress Rehearsal
DESCRIPTION:Theme: Sugar and Ice and Everything Nice
URL:https://charlestonfsc.com/event/holiday-showcase-rehearsal/
LOCATION:<span class='tooltipsall tooltip_post_id_473 classtoolTips473'>SCMIA</span>\, 20 RHL Blvd\, South Charleston\, WV\, 25309\, United States
CATEGORIES:Calendar Event
ORGANIZER;CN="CFSC":MAILTO:charlestonfscwv@gmail.com
END:VEVENT
BEGIN:VEVENT
DTSTART;TZID=America/Kentucky/Louisville:20251210T171500
DTEND;TZID=America/Kentucky/Louisville:20251210T194500
DTSTAMP:20260422T185448
CREATED:20250213T195000Z
LAST-MODIFIED:20250220T161806Z
UID:1892-1765386900-1765395900@charlestonfsc.com
SUMMARY:Club Ice Session
DESCRIPTION:$10 per hour
URL:https://charlestonfsc.com/event/club-ice-session-44/
LOCATION:<span class='tooltipsall tooltip_post_id_473 classtoolTips473'>SCMIA</span>\, 20 RHL Blvd\, South Charleston\, WV\, 25309\, United States
CATEGORIES:Calendar Event
ORGANIZER;CN="CFSC":MAILTO:charlestonfscwv@gmail.com
END:VEVENT
BEGIN:VEVENT
DTSTART;TZID=America/Kentucky/Louisville:20251208T000000
DTEND;TZID=America/Kentucky/Louisville:20251208T235959
DTSTAMP:20260422T185448
CREATED:20251029T202412Z
LAST-MODIFIED:20251029T203617Z
UID:5722-1765152000-1765238399@charlestonfsc.com
SUMMARY:Virtual Test Session
DESCRIPTION:All video submissions must be filmed between Monday\, November 24th and Monday\, December 8th.
URL:https://charlestonfsc.com/event/virtual-test-session-3/
LOCATION:<span class='tooltipsall tooltip_post_id_473 classtoolTips473'>SCMIA</span>\, 20 RHL Blvd\, South Charleston\, WV\, 25309\, United States
CATEGORIES:Calendar Event,Special Event
ORGANIZER;CN="CFSC":MAILTO:charlestonfscwv@gmail.com
END:VEVENT
BEGIN:VEVENT
DTSTART;TZID=America/Kentucky/Louisville:20251207T180000
DTEND;TZID=America/Kentucky/Louisville:20251207T200000
DTSTAMP:20260422T185448
CREATED:20250213T201433Z
LAST-MODIFIED:20250220T161811Z
UID:1992-1765130400-1765137600@charlestonfsc.com
SUMMARY:Freestyle Session
DESCRIPTION:$10 per hour
URL:https://charlestonfsc.com/event/freestyle-session-93/
LOCATION:<span class='tooltipsall tooltip_post_id_473 classtoolTips473'>SCMIA</span>\, 20 RHL Blvd\, South Charleston\, WV\, 25309\, United States
CATEGORIES:Calendar Event
ORGANIZER;CN="CFSC":MAILTO:charlestonfscwv@gmail.com
END:VEVENT
BEGIN:VEVENT
DTSTART;TZID=America/Kentucky/Louisville:20251206T220000
DTEND;TZID=America/Kentucky/Louisville:20251206T220000
DTSTAMP:20260422T185448
CREATED:20251111T164659Z
LAST-MODIFIED:20251111T165553Z
UID:5918-1765058400-1765058400@charlestonfsc.com
SUMMARY:Deadline to Submit Holiday Showcase Music
DESCRIPTION:Please email music to the club email address – charlestonfscwv@gmail.com
URL:https://charlestonfsc.com/event/deadline-for-holiday-showcase-music/
LOCATION:<span class='tooltipsall tooltip_post_id_473 classtoolTips473'>SCMIA</span>\, 20 RHL Blvd\, South Charleston\, WV\, 25309\, United States
CATEGORIES:Calendar Event
ORGANIZER;CN="CFSC":MAILTO:charlestonfscwv@gmail.com
END:VEVENT
BEGIN:VEVENT
DTSTART;TZID=America/Kentucky/Louisville:20251206T090000
DTEND;TZID=America/Kentucky/Louisville:20251206T113000
DTSTAMP:20260422T185448
CREATED:20250930T202221Z
LAST-MODIFIED:20250930T202221Z
UID:5652-1765011600-1765020600@charlestonfsc.com
SUMMARY:Youth Ice Skating Clinic
DESCRIPTION:Join CFSC at the ballpark for a skating clinic. There will be both on-ice and off-ice instruction by CFSC coaches\, and the Dirty Birds will be providing each participant a T-shirt\, lunch\, and a general admission ticket to Light the Night for the evening of the clinic.
URL:https://charlestonfsc.com/event/youth-ice-skating-clinic/
LOCATION:GoMart Ballpark\, 601 Morris Street\, Charleston\, WV\, 25301\, United States
CATEGORIES:Calendar Event,Special Event
ORGANIZER;CN="CFSC":MAILTO:charlestonfscwv@gmail.com
END:VEVENT
BEGIN:VEVENT
DTSTART;TZID=America/Kentucky/Louisville:20251206T090000
DTEND;TZID=America/Kentucky/Louisville:20251206T110000
DTSTAMP:20260422T185448
CREATED:20250213T195805Z
LAST-MODIFIED:20250220T161815Z
UID:1942-1765011600-1765018800@charlestonfsc.com
SUMMARY:Freestyle Session
DESCRIPTION:$10 per hour
URL:https://charlestonfsc.com/event/freestyle-session-45/
LOCATION:<span class='tooltipsall tooltip_post_id_473 classtoolTips473'>SCMIA</span>\, 20 RHL Blvd\, South Charleston\, WV\, 25309\, United States
CATEGORIES:Calendar Event
ORGANIZER;CN="CFSC":MAILTO:charlestonfscwv@gmail.com
END:VEVENT
BEGIN:VEVENT
DTSTART;TZID=America/Kentucky/Louisville:20251203T171500
DTEND;TZID=America/Kentucky/Louisville:20251203T194500
DTSTAMP:20260422T185448
CREATED:20250213T194959Z
LAST-MODIFIED:20250220T161819Z
UID:1891-1764782100-1764791100@charlestonfsc.com
SUMMARY:Club Ice Session
DESCRIPTION:$10 per hour
URL:https://charlestonfsc.com/event/club-ice-session-43/
LOCATION:<span class='tooltipsall tooltip_post_id_473 classtoolTips473'>SCMIA</span>\, 20 RHL Blvd\, South Charleston\, WV\, 25309\, United States
CATEGORIES:Calendar Event
ORGANIZER;CN="CFSC":MAILTO:charlestonfscwv@gmail.com
END:VEVENT
BEGIN:VEVENT
DTSTART;TZID=America/Kentucky/Louisville:20251201T171500
DTEND;TZID=America/Kentucky/Louisville:20251201T174500
DTSTAMP:20260422T185448
CREATED:20250930T201215Z
LAST-MODIFIED:20250930T201506Z
UID:5649-1764609300-1764611100@charlestonfsc.com
SUMMARY:Skating Exhibition
DESCRIPTION:CFSC will be hosting a figure skating exhibition at Light the Night.
URL:https://charlestonfsc.com/event/skating-exhibition/
LOCATION:GoMart Ballpark\, 601 Morris Street\, Charleston\, WV\, 25301\, United States
CATEGORIES:Calendar Event,Show
ORGANIZER;CN="CFSC":MAILTO:charlestonfscwv@gmail.com
END:VEVENT
BEGIN:VEVENT
DTSTART;TZID=America/Kentucky/Louisville:20251201T170000
DTEND;TZID=America/Kentucky/Louisville:20251201T210000
DTSTAMP:20260422T185448
CREATED:20250930T194439Z
LAST-MODIFIED:20250930T200658Z
UID:5645-1764608400-1764622800@charlestonfsc.com
SUMMARY:CFSC Group Night at Light the Night
DESCRIPTION:Join your fellow skaters and their families for fun at Light the Night.
URL:https://charlestonfsc.com/event/cfsc-group-night-at-light-the-night/
LOCATION:GoMart Ballpark\, 601 Morris Street\, Charleston\, WV\, 25301\, United States
CATEGORIES:Calendar Event,Special Event
END:VEVENT
BEGIN:VEVENT
DTSTART;TZID=America/Kentucky/Louisville:20251130T200000
DTEND;TZID=America/Kentucky/Louisville:20251130T200000
DTSTAMP:20260422T185448
CREATED:20251111T164249Z
LAST-MODIFIED:20251111T164333Z
UID:5914-1764532800-1764532800@charlestonfsc.com
SUMMARY:Deadline to sign up for Holiday Showcase
DESCRIPTION:
URL:https://charlestonfsc.com/event/deadline-to-sign-up-for-holiday-show/
LOCATION:<span class='tooltipsall tooltip_post_id_473 classtoolTips473'>SCMIA</span>\, 20 RHL Blvd\, South Charleston\, WV\, 25309\, United States
CATEGORIES:Calendar Event
ORGANIZER;CN="CFSC":MAILTO:charlestonfscwv@gmail.com
END:VEVENT
BEGIN:VEVENT
DTSTART;TZID=America/Kentucky/Louisville:20251130T180000
DTEND;TZID=America/Kentucky/Louisville:20251130T200000
DTSTAMP:20260422T185448
CREATED:20250213T201433Z
LAST-MODIFIED:20250220T161823Z
UID:1991-1764525600-1764532800@charlestonfsc.com
SUMMARY:Freestyle Session
DESCRIPTION:$10 per hour
URL:https://charlestonfsc.com/event/freestyle-session-92/
LOCATION:<span class='tooltipsall tooltip_post_id_473 classtoolTips473'>SCMIA</span>\, 20 RHL Blvd\, South Charleston\, WV\, 25309\, United States
CATEGORIES:Calendar Event
ORGANIZER;CN="CFSC":MAILTO:charlestonfscwv@gmail.com
END:VEVENT
BEGIN:VEVENT
DTSTART;TZID=America/Kentucky/Louisville:20251129T090000
DTEND;TZID=America/Kentucky/Louisville:20251129T110000
DTSTAMP:20260422T185448
CREATED:20250213T195805Z
LAST-MODIFIED:20250220T161827Z
UID:1941-1764406800-1764414000@charlestonfsc.com
SUMMARY:Freestyle Session
DESCRIPTION:$10 per hour
URL:https://charlestonfsc.com/event/freestyle-session-44/
LOCATION:<span class='tooltipsall tooltip_post_id_473 classtoolTips473'>SCMIA</span>\, 20 RHL Blvd\, South Charleston\, WV\, 25309\, United States
CATEGORIES:Calendar Event
ORGANIZER;CN="CFSC":MAILTO:charlestonfscwv@gmail.com
END:VEVENT
BEGIN:VEVENT
DTSTART;TZID=America/Kentucky/Louisville:20251126T171500
DTEND;TZID=America/Kentucky/Louisville:20251126T194500
DTSTAMP:20260422T185448
CREATED:20250213T194800Z
LAST-MODIFIED:20250220T161833Z
UID:1890-1764177300-1764186300@charlestonfsc.com
SUMMARY:Club Ice Session
DESCRIPTION:$10 per hour
URL:https://charlestonfsc.com/event/club-ice-session-42/
LOCATION:<span class='tooltipsall tooltip_post_id_473 classtoolTips473'>SCMIA</span>\, 20 RHL Blvd\, South Charleston\, WV\, 25309\, United States
CATEGORIES:Calendar Event
ORGANIZER;CN="CFSC":MAILTO:charlestonfscwv@gmail.com
END:VEVENT
BEGIN:VEVENT
DTSTART;TZID=America/Kentucky/Louisville:20251123T180000
DTEND;TZID=America/Kentucky/Louisville:20251123T200000
DTSTAMP:20260422T185448
CREATED:20250213T201433Z
LAST-MODIFIED:20250220T161838Z
UID:1990-1763920800-1763928000@charlestonfsc.com
SUMMARY:Freestyle Session
DESCRIPTION:$10 per hour
URL:https://charlestonfsc.com/event/freestyle-session-91/
LOCATION:<span class='tooltipsall tooltip_post_id_473 classtoolTips473'>SCMIA</span>\, 20 RHL Blvd\, South Charleston\, WV\, 25309\, United States
CATEGORIES:Calendar Event
ORGANIZER;CN="CFSC":MAILTO:charlestonfscwv@gmail.com
END:VEVENT
BEGIN:VEVENT
DTSTART;TZID=America/Kentucky/Louisville:20251122T090000
DTEND;TZID=America/Kentucky/Louisville:20251122T110000
DTSTAMP:20260422T185448
CREATED:20250213T195805Z
LAST-MODIFIED:20250220T161842Z
UID:1940-1763802000-1763809200@charlestonfsc.com
SUMMARY:Freestyle Session
DESCRIPTION:$10 per hour
URL:https://charlestonfsc.com/event/freestyle-session-43/
LOCATION:<span class='tooltipsall tooltip_post_id_473 classtoolTips473'>SCMIA</span>\, 20 RHL Blvd\, South Charleston\, WV\, 25309\, United States
CATEGORIES:Calendar Event
ORGANIZER;CN="CFSC":MAILTO:charlestonfscwv@gmail.com
END:VEVENT
BEGIN:VEVENT
DTSTART;TZID=America/Kentucky/Louisville:20251119T171500
DTEND;TZID=America/Kentucky/Louisville:20251119T194500
DTSTAMP:20260422T185448
CREATED:20250213T194800Z
LAST-MODIFIED:20250220T161847Z
UID:1889-1763572500-1763581500@charlestonfsc.com
SUMMARY:Club Ice Session
DESCRIPTION:$10 per hour
URL:https://charlestonfsc.com/event/club-ice-session-41/
LOCATION:<span class='tooltipsall tooltip_post_id_473 classtoolTips473'>SCMIA</span>\, 20 RHL Blvd\, South Charleston\, WV\, 25309\, United States
CATEGORIES:Calendar Event
ORGANIZER;CN="CFSC":MAILTO:charlestonfscwv@gmail.com
END:VEVENT
BEGIN:VEVENT
DTSTART;TZID=America/Kentucky/Louisville:20251116T180000
DTEND;TZID=America/Kentucky/Louisville:20251116T200000
DTSTAMP:20260422T185448
CREATED:20250213T201433Z
LAST-MODIFIED:20250220T161851Z
UID:1989-1763316000-1763323200@charlestonfsc.com
SUMMARY:Freestyle Session
DESCRIPTION:$10 per hour
URL:https://charlestonfsc.com/event/freestyle-session-90/
LOCATION:<span class='tooltipsall tooltip_post_id_473 classtoolTips473'>SCMIA</span>\, 20 RHL Blvd\, South Charleston\, WV\, 25309\, United States
CATEGORIES:Calendar Event
ORGANIZER;CN="CFSC":MAILTO:charlestonfscwv@gmail.com
END:VEVENT
BEGIN:VEVENT
DTSTART;TZID=America/Kentucky/Louisville:20251115T090000
DTEND;TZID=America/Kentucky/Louisville:20251115T110000
DTSTAMP:20260422T185448
CREATED:20250213T195805Z
LAST-MODIFIED:20250220T161910Z
UID:1939-1763197200-1763204400@charlestonfsc.com
SUMMARY:Freestyle Session
DESCRIPTION:$10 per hour
URL:https://charlestonfsc.com/event/freestyle-session-42/
LOCATION:<span class='tooltipsall tooltip_post_id_473 classtoolTips473'>SCMIA</span>\, 20 RHL Blvd\, South Charleston\, WV\, 25309\, United States
CATEGORIES:Calendar Event
ORGANIZER;CN="CFSC":MAILTO:charlestonfscwv@gmail.com
END:VEVENT
BEGIN:VEVENT
DTSTART;TZID=America/Kentucky/Louisville:20251114T190000
DTEND;TZID=America/Kentucky/Louisville:20251114T210000
DTSTAMP:20260422T185448
CREATED:20251029T201005Z
LAST-MODIFIED:20251029T201005Z
UID:5720-1763146800-1763154000@charlestonfsc.com
SUMMARY:Open House
DESCRIPTION:Have you ever wanted to learn how to figure skate? Have you or your child recently fallen in love with skating? Do you have questions about how it all works: how to get started\, how to find a coach\, how to get your own skates\, how to participate in testing or competitions? Come join us at our open house at the South Charleston Memoria Ice Arena. Come see what we’re all about. Bring your family and friends – and your questions! Skating will be free for everyone\, and members of both the Board and Junior Board will be on hand to tell you all about figure skating in general and our club in particular\, as well as answer any and all questions. All are welcome!
URL:https://charlestonfsc.com/event/open-house/
LOCATION:<span class='tooltipsall tooltip_post_id_473 classtoolTips473'>SCMIA</span>\, 20 RHL Blvd\, South Charleston\, WV\, 25309\, United States
CATEGORIES:Calendar Event,Special Event
ORGANIZER;CN="CFSC":MAILTO:charlestonfscwv@gmail.com
END:VEVENT
BEGIN:VEVENT
DTSTART;TZID=America/Kentucky/Louisville:20251112T171500
DTEND;TZID=America/Kentucky/Louisville:20251112T194500
DTSTAMP:20260422T185448
CREATED:20250213T194800Z
LAST-MODIFIED:20250220T161915Z
UID:1888-1762967700-1762976700@charlestonfsc.com
SUMMARY:Club Ice Session
DESCRIPTION:$10 per hour
URL:https://charlestonfsc.com/event/club-ice-session-40/
LOCATION:<span class='tooltipsall tooltip_post_id_473 classtoolTips473'>SCMIA</span>\, 20 RHL Blvd\, South Charleston\, WV\, 25309\, United States
CATEGORIES:Calendar Event
ORGANIZER;CN="CFSC":MAILTO:charlestonfscwv@gmail.com
END:VEVENT
BEGIN:VEVENT
DTSTART;TZID=America/Kentucky/Louisville:20251109T180000
DTEND;TZID=America/Kentucky/Louisville:20251109T200000
DTSTAMP:20260422T185448
CREATED:20250213T201433Z
LAST-MODIFIED:20250220T161918Z
UID:1988-1762711200-1762718400@charlestonfsc.com
SUMMARY:Freestyle Session
DESCRIPTION:$10 per hour
URL:https://charlestonfsc.com/event/freestyle-session-89/
LOCATION:<span class='tooltipsall tooltip_post_id_473 classtoolTips473'>SCMIA</span>\, 20 RHL Blvd\, South Charleston\, WV\, 25309\, United States
CATEGORIES:Calendar Event
ORGANIZER;CN="CFSC":MAILTO:charlestonfscwv@gmail.com
END:VEVENT
BEGIN:VEVENT
DTSTART;TZID=America/Kentucky/Louisville:20251108T090000
DTEND;TZID=America/Kentucky/Louisville:20251108T110000
DTSTAMP:20260422T185448
CREATED:20250213T195804Z
LAST-MODIFIED:20250220T161922Z
UID:1938-1762592400-1762599600@charlestonfsc.com
SUMMARY:Freestyle Session
DESCRIPTION:$10 per hour
URL:https://charlestonfsc.com/event/freestyle-session-41/
LOCATION:<span class='tooltipsall tooltip_post_id_473 classtoolTips473'>SCMIA</span>\, 20 RHL Blvd\, South Charleston\, WV\, 25309\, United States
CATEGORIES:Calendar Event
ORGANIZER;CN="CFSC":MAILTO:charlestonfscwv@gmail.com
END:VEVENT
BEGIN:VEVENT
DTSTART;TZID=America/Kentucky/Louisville:20251108T000000
DTEND;TZID=America/Kentucky/Louisville:20251108T235959
DTSTAMP:20260422T185448
CREATED:20250828T123622Z
LAST-MODIFIED:20250828T123622Z
UID:5505-1762560000-1762646399@charlestonfsc.com
SUMMARY:Louisville Fall Compete USA
DESCRIPTION:Compete USA
URL:https://charlestonfsc.com/event/louisville-fall-compete-usa/
LOCATION:Iceland Sports Complex\, 1701 UPS Drive\, Louisville\, KY\, 40223\, United States
CATEGORIES:Calendar Event,Competition
ORGANIZER;CN="Louisville Skating Academy":MAILTO:lsask8director@gmail.com
END:VEVENT
BEGIN:VEVENT
DTSTART;TZID=America/Kentucky/Louisville:20251105T171500
DTEND;TZID=America/Kentucky/Louisville:20251105T194500
DTSTAMP:20260422T185448
CREATED:20250213T194800Z
LAST-MODIFIED:20250220T161926Z
UID:1887-1762362900-1762371900@charlestonfsc.com
SUMMARY:Club Ice Session
DESCRIPTION:$10 per hour
URL:https://charlestonfsc.com/event/club-ice-session-39/
LOCATION:<span class='tooltipsall tooltip_post_id_473 classtoolTips473'>SCMIA</span>\, 20 RHL Blvd\, South Charleston\, WV\, 25309\, United States
CATEGORIES:Calendar Event
ORGANIZER;CN="CFSC":MAILTO:charlestonfscwv@gmail.com
END:VEVENT
BEGIN:VEVENT
DTSTART;TZID=America/Kentucky/Louisville:20251102T180000
DTEND;TZID=America/Kentucky/Louisville:20251102T200000
DTSTAMP:20260422T185448
CREATED:20250213T201418Z
LAST-MODIFIED:20250220T161934Z
UID:1987-1762106400-1762113600@charlestonfsc.com
SUMMARY:Freestyle Session
DESCRIPTION:$10 per hour
URL:https://charlestonfsc.com/event/freestyle-session-88/
LOCATION:<span class='tooltipsall tooltip_post_id_473 classtoolTips473'>SCMIA</span>\, 20 RHL Blvd\, South Charleston\, WV\, 25309\, United States
CATEGORIES:Calendar Event
ORGANIZER;CN="CFSC":MAILTO:charlestonfscwv@gmail.com
END:VEVENT
BEGIN:VEVENT
DTSTART;TZID=America/Kentucky/Louisville:20251101T090000
DTEND;TZID=America/Kentucky/Louisville:20251101T110000
DTSTAMP:20260422T185448
CREATED:20250213T195744Z
LAST-MODIFIED:20250220T161939Z
UID:1937-1761987600-1761994800@charlestonfsc.com
SUMMARY:Freestyle Session
DESCRIPTION:$10 per hour
URL:https://charlestonfsc.com/event/freestyle-session-40/
LOCATION:<span class='tooltipsall tooltip_post_id_473 classtoolTips473'>SCMIA</span>\, 20 RHL Blvd\, South Charleston\, WV\, 25309\, United States
CATEGORIES:Calendar Event
ORGANIZER;CN="CFSC":MAILTO:charlestonfscwv@gmail.com
END:VEVENT
BEGIN:VEVENT
DTSTART;TZID=America/Kentucky/Louisville:20251029T171500
DTEND;TZID=America/Kentucky/Louisville:20251029T194500
DTSTAMP:20260422T185448
CREATED:20250213T194759Z
LAST-MODIFIED:20250220T161944Z
UID:1886-1761758100-1761767100@charlestonfsc.com
SUMMARY:Club Ice Session
DESCRIPTION:$10 per hour
URL:https://charlestonfsc.com/event/club-ice-session-38/
LOCATION:<span class='tooltipsall tooltip_post_id_473 classtoolTips473'>SCMIA</span>\, 20 RHL Blvd\, South Charleston\, WV\, 25309\, United States
CATEGORIES:Calendar Event
ORGANIZER;CN="CFSC":MAILTO:charlestonfscwv@gmail.com
END:VEVENT
BEGIN:VEVENT
DTSTART;TZID=America/Kentucky/Louisville:20251026T180000
DTEND;TZID=America/Kentucky/Louisville:20251026T200000
DTSTAMP:20260422T185448
CREATED:20250213T201418Z
LAST-MODIFIED:20250220T161949Z
UID:1986-1761501600-1761508800@charlestonfsc.com
SUMMARY:Freestyle Session
DESCRIPTION:$10 per hour
URL:https://charlestonfsc.com/event/freestyle-session-87/
LOCATION:<span class='tooltipsall tooltip_post_id_473 classtoolTips473'>SCMIA</span>\, 20 RHL Blvd\, South Charleston\, WV\, 25309\, United States
CATEGORIES:Calendar Event
ORGANIZER;CN="CFSC":MAILTO:charlestonfscwv@gmail.com
END:VEVENT
END:VCALENDAR