BEGIN:VCALENDAR
VERSION:2.0
PRODID:-//Charleston Figure Skating Club - ECPv6.15.20//NONSGML v1.0//EN
CALSCALE:GREGORIAN
METHOD:PUBLISH
X-WR-CALNAME:Charleston Figure Skating Club
X-ORIGINAL-URL:https://charlestonfsc.com
X-WR-CALDESC:Events for Charleston Figure Skating Club
REFRESH-INTERVAL;VALUE=DURATION:PT1H
X-Robots-Tag:noindex
X-PUBLISHED-TTL:PT1H
BEGIN:VTIMEZONE
TZID:America/Kentucky/Louisville
BEGIN:DAYLIGHT
TZOFFSETFROM:-0500
TZOFFSETTO:-0400
TZNAME:EDT
DTSTART:20250309T070000
END:DAYLIGHT
BEGIN:STANDARD
TZOFFSETFROM:-0400
TZOFFSETTO:-0500
TZNAME:EST
DTSTART:20251102T060000
END:STANDARD
BEGIN:DAYLIGHT
TZOFFSETFROM:-0500
TZOFFSETTO:-0400
TZNAME:EDT
DTSTART:20260308T070000
END:DAYLIGHT
BEGIN:STANDARD
TZOFFSETFROM:-0400
TZOFFSETTO:-0500
TZNAME:EST
DTSTART:20261101T060000
END:STANDARD
BEGIN:DAYLIGHT
TZOFFSETFROM:-0500
TZOFFSETTO:-0400
TZNAME:EDT
DTSTART:20270314T070000
END:DAYLIGHT
BEGIN:STANDARD
TZOFFSETFROM:-0400
TZOFFSETTO:-0500
TZNAME:EST
DTSTART:20271107T060000
END:STANDARD
END:VTIMEZONE
BEGIN:VEVENT
DTSTART;TZID=America/Kentucky/Louisville:20261122T180000
DTEND;TZID=America/Kentucky/Louisville:20261122T200000
DTSTAMP:20260422T181944
CREATED:20251103T213247Z
LAST-MODIFIED:20251103T213247Z
UID:5843-1795370400-1795377600@charlestonfsc.com
SUMMARY:Freestyle Session
DESCRIPTION:$10 per hour
URL:https://charlestonfsc.com/event/freestyle-session-195/
LOCATION:<span class='tooltipsall tooltip_post_id_473 classtoolTips473'>SCMIA</span>\, 20 RHL Blvd\, South Charleston\, WV\, 25309\, United States
CATEGORIES:Calendar Event
ORGANIZER;CN="CFSC":MAILTO:charlestonfscwv@gmail.com
END:VEVENT
BEGIN:VEVENT
DTSTART;TZID=America/Kentucky/Louisville:20261125T171500
DTEND;TZID=America/Kentucky/Louisville:20261125T194500
DTSTAMP:20260422T181944
CREATED:20251103T213845Z
LAST-MODIFIED:20251103T213845Z
UID:5896-1795626900-1795635900@charlestonfsc.com
SUMMARY:Club Ice Session
DESCRIPTION:$10 per hour
URL:https://charlestonfsc.com/event/club-ice-session-94/
LOCATION:<span class='tooltipsall tooltip_post_id_473 classtoolTips473'>SCMIA</span>\, 20 RHL Blvd\, South Charleston\, WV\, 25309\, United States
CATEGORIES:Calendar Event
ORGANIZER;CN="CFSC":MAILTO:charlestonfscwv@gmail.com
END:VEVENT
BEGIN:VEVENT
DTSTART;TZID=America/Kentucky/Louisville:20261128T090000
DTEND;TZID=America/Kentucky/Louisville:20261128T110000
DTSTAMP:20260422T181944
CREATED:20251103T211857Z
LAST-MODIFIED:20251103T211857Z
UID:5791-1795856400-1795863600@charlestonfsc.com
SUMMARY:Freestyle Session
DESCRIPTION:$10 per hour
URL:https://charlestonfsc.com/event/freestyle-session-144/
LOCATION:<span class='tooltipsall tooltip_post_id_473 classtoolTips473'>SCMIA</span>\, 20 RHL Blvd\, South Charleston\, WV\, 25309\, United States
CATEGORIES:Calendar Event
ORGANIZER;CN="CFSC":MAILTO:charlestonfscwv@gmail.com
END:VEVENT
BEGIN:VEVENT
DTSTART;TZID=America/Kentucky/Louisville:20261129T180000
DTEND;TZID=America/Kentucky/Louisville:20261129T200000
DTSTAMP:20260422T181944
CREATED:20251103T213248Z
LAST-MODIFIED:20251103T213248Z
UID:5844-1795975200-1795982400@charlestonfsc.com
SUMMARY:Freestyle Session
DESCRIPTION:$10 per hour
URL:https://charlestonfsc.com/event/freestyle-session-196/
LOCATION:<span class='tooltipsall tooltip_post_id_473 classtoolTips473'>SCMIA</span>\, 20 RHL Blvd\, South Charleston\, WV\, 25309\, United States
CATEGORIES:Calendar Event
ORGANIZER;CN="CFSC":MAILTO:charlestonfscwv@gmail.com
END:VEVENT
BEGIN:VEVENT
DTSTART;TZID=America/Kentucky/Louisville:20261202T171500
DTEND;TZID=America/Kentucky/Louisville:20261202T194500
DTSTAMP:20260422T181944
CREATED:20251103T213846Z
LAST-MODIFIED:20251103T213846Z
UID:5897-1796231700-1796240700@charlestonfsc.com
SUMMARY:Club Ice Session
DESCRIPTION:$10 per hour
URL:https://charlestonfsc.com/event/club-ice-session-95/
LOCATION:<span class='tooltipsall tooltip_post_id_473 classtoolTips473'>SCMIA</span>\, 20 RHL Blvd\, South Charleston\, WV\, 25309\, United States
CATEGORIES:Calendar Event
ORGANIZER;CN="CFSC":MAILTO:charlestonfscwv@gmail.com
END:VEVENT
BEGIN:VEVENT
DTSTART;TZID=America/Kentucky/Louisville:20261205T090000
DTEND;TZID=America/Kentucky/Louisville:20261205T110000
DTSTAMP:20260422T181944
CREATED:20251103T211858Z
LAST-MODIFIED:20251103T211858Z
UID:5792-1796461200-1796468400@charlestonfsc.com
SUMMARY:Freestyle Session
DESCRIPTION:$10 per hour
URL:https://charlestonfsc.com/event/freestyle-session-145/
LOCATION:<span class='tooltipsall tooltip_post_id_473 classtoolTips473'>SCMIA</span>\, 20 RHL Blvd\, South Charleston\, WV\, 25309\, United States
CATEGORIES:Calendar Event
ORGANIZER;CN="CFSC":MAILTO:charlestonfscwv@gmail.com
END:VEVENT
BEGIN:VEVENT
DTSTART;TZID=America/Kentucky/Louisville:20261206T180000
DTEND;TZID=America/Kentucky/Louisville:20261206T200000
DTSTAMP:20260422T181944
CREATED:20251103T213249Z
LAST-MODIFIED:20251103T213249Z
UID:5845-1796580000-1796587200@charlestonfsc.com
SUMMARY:Freestyle Session
DESCRIPTION:$10 per hour
URL:https://charlestonfsc.com/event/freestyle-session-197/
LOCATION:<span class='tooltipsall tooltip_post_id_473 classtoolTips473'>SCMIA</span>\, 20 RHL Blvd\, South Charleston\, WV\, 25309\, United States
CATEGORIES:Calendar Event
ORGANIZER;CN="CFSC":MAILTO:charlestonfscwv@gmail.com
END:VEVENT
BEGIN:VEVENT
DTSTART;TZID=America/Kentucky/Louisville:20261209T171500
DTEND;TZID=America/Kentucky/Louisville:20261209T194500
DTSTAMP:20260422T181944
CREATED:20251103T213846Z
LAST-MODIFIED:20251103T213846Z
UID:5898-1796836500-1796845500@charlestonfsc.com
SUMMARY:Club Ice Session
DESCRIPTION:$10 per hour
URL:https://charlestonfsc.com/event/club-ice-session-96/
LOCATION:<span class='tooltipsall tooltip_post_id_473 classtoolTips473'>SCMIA</span>\, 20 RHL Blvd\, South Charleston\, WV\, 25309\, United States
CATEGORIES:Calendar Event
ORGANIZER;CN="CFSC":MAILTO:charlestonfscwv@gmail.com
END:VEVENT
BEGIN:VEVENT
DTSTART;TZID=America/Kentucky/Louisville:20261212T090000
DTEND;TZID=America/Kentucky/Louisville:20261212T110000
DTSTAMP:20260422T181944
CREATED:20251103T211859Z
LAST-MODIFIED:20251103T211859Z
UID:5793-1797066000-1797073200@charlestonfsc.com
SUMMARY:Freestyle Session
DESCRIPTION:$10 per hour
URL:https://charlestonfsc.com/event/freestyle-session-146/
LOCATION:<span class='tooltipsall tooltip_post_id_473 classtoolTips473'>SCMIA</span>\, 20 RHL Blvd\, South Charleston\, WV\, 25309\, United States
CATEGORIES:Calendar Event
ORGANIZER;CN="CFSC":MAILTO:charlestonfscwv@gmail.com
END:VEVENT
BEGIN:VEVENT
DTSTART;TZID=America/Kentucky/Louisville:20261213T180000
DTEND;TZID=America/Kentucky/Louisville:20261213T200000
DTSTAMP:20260422T181944
CREATED:20251103T213249Z
LAST-MODIFIED:20251103T213249Z
UID:5846-1797184800-1797192000@charlestonfsc.com
SUMMARY:Freestyle Session
DESCRIPTION:$10 per hour
URL:https://charlestonfsc.com/event/freestyle-session-198/
LOCATION:<span class='tooltipsall tooltip_post_id_473 classtoolTips473'>SCMIA</span>\, 20 RHL Blvd\, South Charleston\, WV\, 25309\, United States
CATEGORIES:Calendar Event
ORGANIZER;CN="CFSC":MAILTO:charlestonfscwv@gmail.com
END:VEVENT
BEGIN:VEVENT
DTSTART;TZID=America/Kentucky/Louisville:20261216T171500
DTEND;TZID=America/Kentucky/Louisville:20261216T194500
DTSTAMP:20260422T181944
CREATED:20251103T213847Z
LAST-MODIFIED:20251103T213847Z
UID:5899-1797441300-1797450300@charlestonfsc.com
SUMMARY:Club Ice Session
DESCRIPTION:$10 per hour
URL:https://charlestonfsc.com/event/club-ice-session-97/
LOCATION:<span class='tooltipsall tooltip_post_id_473 classtoolTips473'>SCMIA</span>\, 20 RHL Blvd\, South Charleston\, WV\, 25309\, United States
CATEGORIES:Calendar Event
ORGANIZER;CN="CFSC":MAILTO:charlestonfscwv@gmail.com
END:VEVENT
BEGIN:VEVENT
DTSTART;TZID=America/Kentucky/Louisville:20261219T090000
DTEND;TZID=America/Kentucky/Louisville:20261219T110000
DTSTAMP:20260422T181944
CREATED:20251103T211921Z
LAST-MODIFIED:20251103T211921Z
UID:5794-1797670800-1797678000@charlestonfsc.com
SUMMARY:Freestyle Session
DESCRIPTION:$10 per hour
URL:https://charlestonfsc.com/event/freestyle-session-147/
LOCATION:<span class='tooltipsall tooltip_post_id_473 classtoolTips473'>SCMIA</span>\, 20 RHL Blvd\, South Charleston\, WV\, 25309\, United States
CATEGORIES:Calendar Event
ORGANIZER;CN="CFSC":MAILTO:charlestonfscwv@gmail.com
END:VEVENT
BEGIN:VEVENT
DTSTART;TZID=America/Kentucky/Louisville:20261220T180000
DTEND;TZID=America/Kentucky/Louisville:20261220T200000
DTSTAMP:20260422T181944
CREATED:20251103T213526Z
LAST-MODIFIED:20251103T213526Z
UID:5847-1797789600-1797796800@charlestonfsc.com
SUMMARY:Freestyle Session
DESCRIPTION:$10 per hour
URL:https://charlestonfsc.com/event/freestyle-session-199/
LOCATION:<span class='tooltipsall tooltip_post_id_473 classtoolTips473'>SCMIA</span>\, 20 RHL Blvd\, South Charleston\, WV\, 25309\, United States
CATEGORIES:Calendar Event
ORGANIZER;CN="CFSC":MAILTO:charlestonfscwv@gmail.com
END:VEVENT
BEGIN:VEVENT
DTSTART;TZID=America/Kentucky/Louisville:20261223T171500
DTEND;TZID=America/Kentucky/Louisville:20261223T194500
DTSTAMP:20260422T181944
CREATED:20251103T213858Z
LAST-MODIFIED:20251103T213858Z
UID:5900-1798046100-1798055100@charlestonfsc.com
SUMMARY:Club Ice Session
DESCRIPTION:$10 per hour
URL:https://charlestonfsc.com/event/club-ice-session-98/
LOCATION:<span class='tooltipsall tooltip_post_id_473 classtoolTips473'>SCMIA</span>\, 20 RHL Blvd\, South Charleston\, WV\, 25309\, United States
CATEGORIES:Calendar Event
ORGANIZER;CN="CFSC":MAILTO:charlestonfscwv@gmail.com
END:VEVENT
BEGIN:VEVENT
DTSTART;TZID=America/Kentucky/Louisville:20261226T090000
DTEND;TZID=America/Kentucky/Louisville:20261226T110000
DTSTAMP:20260422T181944
CREATED:20251103T211922Z
LAST-MODIFIED:20251103T211922Z
UID:5795-1798275600-1798282800@charlestonfsc.com
SUMMARY:Freestyle Session
DESCRIPTION:$10 per hour
URL:https://charlestonfsc.com/event/freestyle-session-148/
LOCATION:<span class='tooltipsall tooltip_post_id_473 classtoolTips473'>SCMIA</span>\, 20 RHL Blvd\, South Charleston\, WV\, 25309\, United States
CATEGORIES:Calendar Event
ORGANIZER;CN="CFSC":MAILTO:charlestonfscwv@gmail.com
END:VEVENT
BEGIN:VEVENT
DTSTART;TZID=America/Kentucky/Louisville:20261227T180000
DTEND;TZID=America/Kentucky/Louisville:20261227T200000
DTSTAMP:20260422T181944
CREATED:20251103T213527Z
LAST-MODIFIED:20251103T213527Z
UID:5848-1798394400-1798401600@charlestonfsc.com
SUMMARY:Freestyle Session
DESCRIPTION:$10 per hour
URL:https://charlestonfsc.com/event/freestyle-session-200/
LOCATION:<span class='tooltipsall tooltip_post_id_473 classtoolTips473'>SCMIA</span>\, 20 RHL Blvd\, South Charleston\, WV\, 25309\, United States
CATEGORIES:Calendar Event
ORGANIZER;CN="CFSC":MAILTO:charlestonfscwv@gmail.com
END:VEVENT
BEGIN:VEVENT
DTSTART;TZID=America/Kentucky/Louisville:20261230T171500
DTEND;TZID=America/Kentucky/Louisville:20261230T194500
DTSTAMP:20260422T181944
CREATED:20251103T213859Z
LAST-MODIFIED:20251103T213859Z
UID:5901-1798650900-1798659900@charlestonfsc.com
SUMMARY:Club Ice Session
DESCRIPTION:$10 per hour
URL:https://charlestonfsc.com/event/club-ice-session-99/
LOCATION:<span class='tooltipsall tooltip_post_id_473 classtoolTips473'>SCMIA</span>\, 20 RHL Blvd\, South Charleston\, WV\, 25309\, United States
CATEGORIES:Calendar Event
ORGANIZER;CN="CFSC":MAILTO:charlestonfscwv@gmail.com
END:VEVENT
END:VCALENDAR