BEGIN:VCALENDAR
VERSION:2.0
PRODID:-//Charleston Figure Skating Club - ECPv6.15.20//NONSGML v1.0//EN
CALSCALE:GREGORIAN
METHOD:PUBLISH
X-ORIGINAL-URL:https://charlestonfsc.com
X-WR-CALDESC:Events for Charleston Figure Skating Club
REFRESH-INTERVAL;VALUE=DURATION:PT1H
X-Robots-Tag:noindex
X-PUBLISHED-TTL:PT1H
BEGIN:VTIMEZONE
TZID:America/Kentucky/Louisville
BEGIN:DAYLIGHT
TZOFFSETFROM:-0500
TZOFFSETTO:-0400
TZNAME:EDT
DTSTART:20240310T070000
END:DAYLIGHT
BEGIN:STANDARD
TZOFFSETFROM:-0400
TZOFFSETTO:-0500
TZNAME:EST
DTSTART:20241103T060000
END:STANDARD
BEGIN:DAYLIGHT
TZOFFSETFROM:-0500
TZOFFSETTO:-0400
TZNAME:EDT
DTSTART:20250309T070000
END:DAYLIGHT
BEGIN:STANDARD
TZOFFSETFROM:-0400
TZOFFSETTO:-0500
TZNAME:EST
DTSTART:20251102T060000
END:STANDARD
BEGIN:DAYLIGHT
TZOFFSETFROM:-0500
TZOFFSETTO:-0400
TZNAME:EDT
DTSTART:20260308T070000
END:DAYLIGHT
BEGIN:STANDARD
TZOFFSETFROM:-0400
TZOFFSETTO:-0500
TZNAME:EST
DTSTART:20261101T060000
END:STANDARD
END:VTIMEZONE
BEGIN:VEVENT
DTSTART;TZID=America/Kentucky/Louisville:20250903T171500
DTEND;TZID=America/Kentucky/Louisville:20250903T194500
DTSTAMP:20260422T170548
CREATED:20250213T194730Z
LAST-MODIFIED:20250220T162136Z
UID:1878-1756919700-1756928700@charlestonfsc.com
SUMMARY:Club Ice Session
DESCRIPTION:$10 per hour
URL:https://charlestonfsc.com/event/club-ice-session-30/
LOCATION:<span class='tooltipsall tooltip_post_id_473 classtoolTips473'>SCMIA</span>\, 20 RHL Blvd\, South Charleston\, WV\, 25309\, United States
CATEGORIES:Calendar Event
ORGANIZER;CN="CFSC":MAILTO:charlestonfscwv@gmail.com
END:VEVENT
BEGIN:VEVENT
DTSTART;TZID=America/Kentucky/Louisville:20250905T000000
DTEND;TZID=America/Kentucky/Louisville:20250907T235959
DTSTAMP:20260422T170548
CREATED:20250616T183258Z
LAST-MODIFIED:20250616T183435Z
UID:5173-1757030400-1757289599@charlestonfsc.com
SUMMARY:John Smith Memorial
DESCRIPTION:Well-balanced\, Excel\, Adult\, Basic Skills\, Aspire\, Showcase
URL:https://charlestonfsc.com/event/john-smith-memorial/
LOCATION:Extreme Ice Center\, 4705 Indian Trail - Fairview Road\, Indian Trail\, NC\, 28078\, United States
CATEGORIES:Calendar Event,Competition
ORGANIZER;CN="Carolinas Figure Skating Club":MAILTO:president@carolinasfsc.org
END:VEVENT
BEGIN:VEVENT
DTSTART;TZID=America/Kentucky/Louisville:20250906T090000
DTEND;TZID=America/Kentucky/Louisville:20250906T110000
DTSTAMP:20260422T170548
CREATED:20250213T195729Z
LAST-MODIFIED:20250220T162132Z
UID:1929-1757149200-1757156400@charlestonfsc.com
SUMMARY:Freestyle Session
DESCRIPTION:$10 per hour
URL:https://charlestonfsc.com/event/freestyle-session-32/
LOCATION:<span class='tooltipsall tooltip_post_id_473 classtoolTips473'>SCMIA</span>\, 20 RHL Blvd\, South Charleston\, WV\, 25309\, United States
CATEGORIES:Calendar Event
ORGANIZER;CN="CFSC":MAILTO:charlestonfscwv@gmail.com
END:VEVENT
BEGIN:VEVENT
DTSTART;TZID=America/Kentucky/Louisville:20250907T180000
DTEND;TZID=America/Kentucky/Louisville:20250907T200000
DTSTAMP:20260422T170548
CREATED:20250213T201323Z
LAST-MODIFIED:20250220T162127Z
UID:1979-1757268000-1757275200@charlestonfsc.com
SUMMARY:Freestyle Session
DESCRIPTION:$10 per hour
URL:https://charlestonfsc.com/event/freestyle-session-80/
LOCATION:<span class='tooltipsall tooltip_post_id_473 classtoolTips473'>SCMIA</span>\, 20 RHL Blvd\, South Charleston\, WV\, 25309\, United States
CATEGORIES:Calendar Event
ORGANIZER;CN="CFSC":MAILTO:charlestonfscwv@gmail.com
END:VEVENT
BEGIN:VEVENT
DTSTART;TZID=America/Kentucky/Louisville:20250910T171500
DTEND;TZID=America/Kentucky/Louisville:20250910T194500
DTSTAMP:20260422T170548
CREATED:20250213T194730Z
LAST-MODIFIED:20250220T162123Z
UID:1879-1757524500-1757533500@charlestonfsc.com
SUMMARY:Club Ice Session
DESCRIPTION:$10 per hour
URL:https://charlestonfsc.com/event/club-ice-session-31/
LOCATION:<span class='tooltipsall tooltip_post_id_473 classtoolTips473'>SCMIA</span>\, 20 RHL Blvd\, South Charleston\, WV\, 25309\, United States
CATEGORIES:Calendar Event
ORGANIZER;CN="CFSC":MAILTO:charlestonfscwv@gmail.com
END:VEVENT
BEGIN:VEVENT
DTSTART;TZID=America/Kentucky/Louisville:20250913T090000
DTEND;TZID=America/Kentucky/Louisville:20250913T110000
DTSTAMP:20260422T170548
CREATED:20250213T195729Z
LAST-MODIFIED:20250220T162119Z
UID:1930-1757754000-1757761200@charlestonfsc.com
SUMMARY:Freestyle Session
DESCRIPTION:$10 per hour
URL:https://charlestonfsc.com/event/freestyle-session-33/
LOCATION:<span class='tooltipsall tooltip_post_id_473 classtoolTips473'>SCMIA</span>\, 20 RHL Blvd\, South Charleston\, WV\, 25309\, United States
CATEGORIES:Calendar Event
ORGANIZER;CN="CFSC":MAILTO:charlestonfscwv@gmail.com
END:VEVENT
BEGIN:VEVENT
DTSTART;TZID=America/Kentucky/Louisville:20250914T180000
DTEND;TZID=America/Kentucky/Louisville:20250914T200000
DTSTAMP:20260422T170548
CREATED:20250213T201323Z
LAST-MODIFIED:20250220T162115Z
UID:1980-1757872800-1757880000@charlestonfsc.com
SUMMARY:Freestyle Session
DESCRIPTION:$10 per hour
URL:https://charlestonfsc.com/event/freestyle-session-81/
LOCATION:<span class='tooltipsall tooltip_post_id_473 classtoolTips473'>SCMIA</span>\, 20 RHL Blvd\, South Charleston\, WV\, 25309\, United States
CATEGORIES:Calendar Event
ORGANIZER;CN="CFSC":MAILTO:charlestonfscwv@gmail.com
END:VEVENT
BEGIN:VEVENT
DTSTART;TZID=America/Kentucky/Louisville:20250915T000000
DTEND;TZID=America/Kentucky/Louisville:20250915T235959
DTSTAMP:20260422T170548
CREATED:20250828T123615Z
LAST-MODIFIED:20250828T123615Z
UID:5502-1757894400-1757980799@charlestonfsc.com
SUMMARY:Registration Deadline for Skating Spooktacular
DESCRIPTION:Excel\, Well Balanced Events\, Adult Events\, Compete USA
URL:https://charlestonfsc.com/event/registration-deadline-for-skating-spooktacular/
LOCATION:Center Ice Sports Complex\, 8319 Port Jackson Ave NW\, North Canton\, OH\, 44720\, United States
CATEGORIES:Calendar Event,Competition
ORGANIZER;CN="Center Ice Skating Club":MAILTO:board.skatingsmylife@gmail.com
END:VEVENT
BEGIN:VEVENT
DTSTART;TZID=America/Kentucky/Louisville:20250917T171500
DTEND;TZID=America/Kentucky/Louisville:20250917T194500
DTSTAMP:20260422T170548
CREATED:20250213T194730Z
LAST-MODIFIED:20250220T162111Z
UID:1880-1758129300-1758138300@charlestonfsc.com
SUMMARY:Club Ice Session
DESCRIPTION:$10 per hour
URL:https://charlestonfsc.com/event/club-ice-session-32/
LOCATION:<span class='tooltipsall tooltip_post_id_473 classtoolTips473'>SCMIA</span>\, 20 RHL Blvd\, South Charleston\, WV\, 25309\, United States
CATEGORIES:Calendar Event
ORGANIZER;CN="CFSC":MAILTO:charlestonfscwv@gmail.com
END:VEVENT
BEGIN:VEVENT
DTSTART;TZID=America/Kentucky/Louisville:20250919T000000
DTEND;TZID=America/Kentucky/Louisville:20250921T235959
DTSTAMP:20260422T170548
CREATED:20250616T184531Z
LAST-MODIFIED:20250616T184531Z
UID:5179-1758240000-1758499199@charlestonfsc.com
SUMMARY:Skate Cleveland
DESCRIPTION:NQS\, Excel\, Well-balanced\, Adult\, Compulsory Moves\, Basic Skills\, Aspire
URL:https://charlestonfsc.com/event/skate-cleveland/
LOCATION:Winterhurst Ice Arena\, 14740 Lakewood Heights Blvd\, Lakewood\, OH\, 44107\, United States
CATEGORIES:Calendar Event,Competition
ORGANIZER;CN="Winterhurst Figure Skating Club":MAILTO:winterhurstfsc@gmail.com
END:VEVENT
BEGIN:VEVENT
DTSTART;TZID=America/Kentucky/Louisville:20250920T090000
DTEND;TZID=America/Kentucky/Louisville:20250920T110000
DTSTAMP:20260422T170548
CREATED:20250213T195729Z
LAST-MODIFIED:20250220T162107Z
UID:1931-1758358800-1758366000@charlestonfsc.com
SUMMARY:Freestyle Session
DESCRIPTION:$10 per hour
URL:https://charlestonfsc.com/event/freestyle-session-34/
LOCATION:<span class='tooltipsall tooltip_post_id_473 classtoolTips473'>SCMIA</span>\, 20 RHL Blvd\, South Charleston\, WV\, 25309\, United States
CATEGORIES:Calendar Event
ORGANIZER;CN="CFSC":MAILTO:charlestonfscwv@gmail.com
END:VEVENT
BEGIN:VEVENT
DTSTART;TZID=America/Kentucky/Louisville:20250921T180000
DTEND;TZID=America/Kentucky/Louisville:20250921T200000
DTSTAMP:20260422T170548
CREATED:20250213T201324Z
LAST-MODIFIED:20250220T162103Z
UID:1981-1758477600-1758484800@charlestonfsc.com
SUMMARY:Freestyle Session
DESCRIPTION:$10 per hour
URL:https://charlestonfsc.com/event/freestyle-session-82/
LOCATION:<span class='tooltipsall tooltip_post_id_473 classtoolTips473'>SCMIA</span>\, 20 RHL Blvd\, South Charleston\, WV\, 25309\, United States
CATEGORIES:Calendar Event
ORGANIZER;CN="CFSC":MAILTO:charlestonfscwv@gmail.com
END:VEVENT
BEGIN:VEVENT
DTSTART;TZID=America/Kentucky/Louisville:20250924T171500
DTEND;TZID=America/Kentucky/Louisville:20250924T194500
DTSTAMP:20260422T170548
CREATED:20250213T194744Z
LAST-MODIFIED:20250220T162100Z
UID:1881-1758734100-1758743100@charlestonfsc.com
SUMMARY:Club Ice Session
DESCRIPTION:$10 per hour
URL:https://charlestonfsc.com/event/club-ice-session-33/
LOCATION:<span class='tooltipsall tooltip_post_id_473 classtoolTips473'>SCMIA</span>\, 20 RHL Blvd\, South Charleston\, WV\, 25309\, United States
CATEGORIES:Calendar Event
ORGANIZER;CN="CFSC":MAILTO:charlestonfscwv@gmail.com
END:VEVENT
BEGIN:VEVENT
DTSTART;TZID=America/Kentucky/Louisville:20250927T090000
DTEND;TZID=America/Kentucky/Louisville:20250927T110000
DTSTAMP:20260422T170548
CREATED:20250213T195729Z
LAST-MODIFIED:20250220T162055Z
UID:1932-1758963600-1758970800@charlestonfsc.com
SUMMARY:Freestyle Session
DESCRIPTION:$10 per hour
URL:https://charlestonfsc.com/event/freestyle-session-35/
LOCATION:<span class='tooltipsall tooltip_post_id_473 classtoolTips473'>SCMIA</span>\, 20 RHL Blvd\, South Charleston\, WV\, 25309\, United States
CATEGORIES:Calendar Event
ORGANIZER;CN="CFSC":MAILTO:charlestonfscwv@gmail.com
END:VEVENT
BEGIN:VEVENT
DTSTART;TZID=America/Kentucky/Louisville:20250928T173000
DTEND;TZID=America/Kentucky/Louisville:20250928T190000
DTSTAMP:20260422T170548
CREATED:20250827T125153Z
LAST-MODIFIED:20250827T125153Z
UID:5483-1759080600-1759086000@charlestonfsc.com
SUMMARY:Paws on Ice
DESCRIPTION:Join us for an evening of fun on and off the ice! This family-friendly fundraiser features world-renown skaters putting on an unforgettable show\, the Frosty Paws Pup Parade\, raffles\, VIP Skater Meet & Greet after the show\, and an exclusive Snuggle Lounge with adoptable dogs. \nAll proceeds benefit Little Victories Animal Rescue and our mission to rescue and rehabilitate the unwanted and abandoned animals in our community.
URL:https://charlestonfsc.com/event/paws-on-ice/
LOCATION:<span class='tooltipsall tooltip_post_id_473 classtoolTips473'>SCMIA</span>\, 20 RHL Blvd\, South Charleston\, WV\, 25309\, United States
CATEGORIES:Calendar Event,Special Event
ORGANIZER;CN="Little Victories Animal Rescue":MAILTO:info@littlevictories.org
END:VEVENT
BEGIN:VEVENT
DTSTART;TZID=America/Kentucky/Louisville:20251001T171500
DTEND;TZID=America/Kentucky/Louisville:20251001T194500
DTSTAMP:20260422T170548
CREATED:20250213T194745Z
LAST-MODIFIED:20250220T162039Z
UID:1882-1759338900-1759347900@charlestonfsc.com
SUMMARY:Club Ice Session
DESCRIPTION:$10 per hour
URL:https://charlestonfsc.com/event/club-ice-session-34/
LOCATION:<span class='tooltipsall tooltip_post_id_473 classtoolTips473'>SCMIA</span>\, 20 RHL Blvd\, South Charleston\, WV\, 25309\, United States
CATEGORIES:Calendar Event
ORGANIZER;CN="CFSC":MAILTO:charlestonfscwv@gmail.com
END:VEVENT
BEGIN:VEVENT
DTSTART;TZID=America/Kentucky/Louisville:20251004T090000
DTEND;TZID=America/Kentucky/Louisville:20251004T110000
DTSTAMP:20260422T170548
CREATED:20250213T195744Z
LAST-MODIFIED:20250220T162035Z
UID:1933-1759568400-1759575600@charlestonfsc.com
SUMMARY:Freestyle Session
DESCRIPTION:$10 per hour
URL:https://charlestonfsc.com/event/freestyle-session-36/
LOCATION:<span class='tooltipsall tooltip_post_id_473 classtoolTips473'>SCMIA</span>\, 20 RHL Blvd\, South Charleston\, WV\, 25309\, United States
CATEGORIES:Calendar Event
ORGANIZER;CN="CFSC":MAILTO:charlestonfscwv@gmail.com
END:VEVENT
BEGIN:VEVENT
DTSTART;TZID=America/Kentucky/Louisville:20251005T180000
DTEND;TZID=America/Kentucky/Louisville:20251005T200000
DTSTAMP:20260422T170548
CREATED:20250213T201418Z
LAST-MODIFIED:20250220T162032Z
UID:1983-1759687200-1759694400@charlestonfsc.com
SUMMARY:Freestyle Session
DESCRIPTION:$10 per hour
URL:https://charlestonfsc.com/event/freestyle-session-84/
LOCATION:<span class='tooltipsall tooltip_post_id_473 classtoolTips473'>SCMIA</span>\, 20 RHL Blvd\, South Charleston\, WV\, 25309\, United States
CATEGORIES:Calendar Event
ORGANIZER;CN="CFSC":MAILTO:charlestonfscwv@gmail.com
END:VEVENT
BEGIN:VEVENT
DTSTART;TZID=America/Kentucky/Louisville:20251008T171500
DTEND;TZID=America/Kentucky/Louisville:20251008T194500
DTSTAMP:20260422T170548
CREATED:20250213T194745Z
LAST-MODIFIED:20250220T162028Z
UID:1883-1759943700-1759952700@charlestonfsc.com
SUMMARY:Club Ice Session
DESCRIPTION:$10 per hour
URL:https://charlestonfsc.com/event/club-ice-session-35/
LOCATION:<span class='tooltipsall tooltip_post_id_473 classtoolTips473'>SCMIA</span>\, 20 RHL Blvd\, South Charleston\, WV\, 25309\, United States
CATEGORIES:Calendar Event
ORGANIZER;CN="CFSC":MAILTO:charlestonfscwv@gmail.com
END:VEVENT
BEGIN:VEVENT
DTSTART;TZID=America/Kentucky/Louisville:20251011T090000
DTEND;TZID=America/Kentucky/Louisville:20251011T110000
DTSTAMP:20260422T170548
CREATED:20250213T195744Z
LAST-MODIFIED:20250220T162024Z
UID:1934-1760173200-1760180400@charlestonfsc.com
SUMMARY:Freestyle Session
DESCRIPTION:$10 per hour
URL:https://charlestonfsc.com/event/freestyle-session-37/
LOCATION:<span class='tooltipsall tooltip_post_id_473 classtoolTips473'>SCMIA</span>\, 20 RHL Blvd\, South Charleston\, WV\, 25309\, United States
CATEGORIES:Calendar Event
ORGANIZER;CN="CFSC":MAILTO:charlestonfscwv@gmail.com
END:VEVENT
BEGIN:VEVENT
DTSTART;TZID=America/Kentucky/Louisville:20251012T180000
DTEND;TZID=America/Kentucky/Louisville:20251012T200000
DTSTAMP:20260422T170548
CREATED:20250213T201418Z
LAST-MODIFIED:20250220T162013Z
UID:1984-1760292000-1760299200@charlestonfsc.com
SUMMARY:Freestyle Session
DESCRIPTION:$10 per hour
URL:https://charlestonfsc.com/event/freestyle-session-85/
LOCATION:<span class='tooltipsall tooltip_post_id_473 classtoolTips473'>SCMIA</span>\, 20 RHL Blvd\, South Charleston\, WV\, 25309\, United States
CATEGORIES:Calendar Event
ORGANIZER;CN="CFSC":MAILTO:charlestonfscwv@gmail.com
END:VEVENT
BEGIN:VEVENT
DTSTART;TZID=America/Kentucky/Louisville:20251013T000000
DTEND;TZID=America/Kentucky/Louisville:20251013T235959
DTSTAMP:20260422T170548
CREATED:20250826T192749Z
LAST-MODIFIED:20250826T192749Z
UID:5472-1760313600-1760399999@charlestonfsc.com
SUMMARY:Virtual Test Session
DESCRIPTION:All video submissions must be filmed between Monday\, September 29th and Monday\, October 13th.
URL:https://charlestonfsc.com/event/virtual-test-session-2/
LOCATION:<span class='tooltipsall tooltip_post_id_473 classtoolTips473'>SCMIA</span>\, 20 RHL Blvd\, South Charleston\, WV\, 25309\, United States
CATEGORIES:Calendar Event,Special Event
ORGANIZER;CN="CFSC":MAILTO:charlestonfscwv@gmail.com
END:VEVENT
BEGIN:VEVENT
DTSTART;TZID=America/Kentucky/Louisville:20251015T000000
DTEND;TZID=America/Kentucky/Louisville:20251015T235959
DTSTAMP:20260422T170548
CREATED:20250828T123618Z
LAST-MODIFIED:20250828T123618Z
UID:5504-1760486400-1760572799@charlestonfsc.com
SUMMARY:Registration Deadline for Louisville Fall Compete USA
DESCRIPTION:Compete USA
URL:https://charlestonfsc.com/event/registration-deadline-for-louisville-fall-compete-usa/
LOCATION:Iceland Sports Complex\, 1701 UPS Drive\, Louisville\, KY\, 40223\, United States
CATEGORIES:Calendar Event,Competition
ORGANIZER;CN="Louisville Skating Academy":MAILTO:lsask8director@gmail.com
END:VEVENT
BEGIN:VEVENT
DTSTART;TZID=America/Kentucky/Louisville:20251015T171500
DTEND;TZID=America/Kentucky/Louisville:20251015T194500
DTSTAMP:20260422T170548
CREATED:20250213T194745Z
LAST-MODIFIED:20250220T162008Z
UID:1884-1760548500-1760557500@charlestonfsc.com
SUMMARY:Club Ice Session
DESCRIPTION:$10 per hour
URL:https://charlestonfsc.com/event/club-ice-session-36/
LOCATION:<span class='tooltipsall tooltip_post_id_473 classtoolTips473'>SCMIA</span>\, 20 RHL Blvd\, South Charleston\, WV\, 25309\, United States
CATEGORIES:Calendar Event
ORGANIZER;CN="CFSC":MAILTO:charlestonfscwv@gmail.com
END:VEVENT
BEGIN:VEVENT
DTSTART;TZID=America/Kentucky/Louisville:20251018T090000
DTEND;TZID=America/Kentucky/Louisville:20251018T110000
DTSTAMP:20260422T170548
CREATED:20250213T195744Z
LAST-MODIFIED:20250220T162004Z
UID:1935-1760778000-1760785200@charlestonfsc.com
SUMMARY:Freestyle Session
DESCRIPTION:$10 per hour
URL:https://charlestonfsc.com/event/freestyle-session-38/
LOCATION:<span class='tooltipsall tooltip_post_id_473 classtoolTips473'>SCMIA</span>\, 20 RHL Blvd\, South Charleston\, WV\, 25309\, United States
CATEGORIES:Calendar Event
ORGANIZER;CN="CFSC":MAILTO:charlestonfscwv@gmail.com
END:VEVENT
BEGIN:VEVENT
DTSTART;TZID=America/Kentucky/Louisville:20251019T180000
DTEND;TZID=America/Kentucky/Louisville:20251019T200000
DTSTAMP:20260422T170548
CREATED:20250213T201418Z
LAST-MODIFIED:20250220T162000Z
UID:1985-1760896800-1760904000@charlestonfsc.com
SUMMARY:Freestyle Session
DESCRIPTION:$10 per hour
URL:https://charlestonfsc.com/event/freestyle-session-86/
LOCATION:<span class='tooltipsall tooltip_post_id_473 classtoolTips473'>SCMIA</span>\, 20 RHL Blvd\, South Charleston\, WV\, 25309\, United States
CATEGORIES:Calendar Event
ORGANIZER;CN="CFSC":MAILTO:charlestonfscwv@gmail.com
END:VEVENT
BEGIN:VEVENT
DTSTART;TZID=America/Kentucky/Louisville:20251022T170000
DTEND;TZID=America/Kentucky/Louisville:20251022T183000
DTSTAMP:20260422T170548
CREATED:20250826T185505Z
LAST-MODIFIED:20250926T160510Z
UID:5464-1761152400-1761157800@charlestonfsc.com
SUMMARY:Board Member Elections
DESCRIPTION:There will be 3 open positions that we’ll be voting on to fill.
URL:https://charlestonfsc.com/event/annual-elections/
LOCATION:<span class='tooltipsall tooltip_post_id_473 classtoolTips473'>SCMIA</span>\, 20 RHL Blvd\, South Charleston\, WV\, 25309\, United States
CATEGORIES:Calendar Event
ORGANIZER;CN="CFSC":MAILTO:charlestonfscwv@gmail.com
END:VEVENT
BEGIN:VEVENT
DTSTART;TZID=America/Kentucky/Louisville:20251022T171500
DTEND;TZID=America/Kentucky/Louisville:20251022T194500
DTSTAMP:20260422T170548
CREATED:20250213T194745Z
LAST-MODIFIED:20250220T161957Z
UID:1885-1761153300-1761162300@charlestonfsc.com
SUMMARY:Club Ice Session
DESCRIPTION:$10 per hour
URL:https://charlestonfsc.com/event/club-ice-session-37/
LOCATION:<span class='tooltipsall tooltip_post_id_473 classtoolTips473'>SCMIA</span>\, 20 RHL Blvd\, South Charleston\, WV\, 25309\, United States
CATEGORIES:Calendar Event
ORGANIZER;CN="CFSC":MAILTO:charlestonfscwv@gmail.com
END:VEVENT
BEGIN:VEVENT
DTSTART;TZID=America/Kentucky/Louisville:20251022T171500
DTEND;TZID=America/Kentucky/Louisville:20251022T194500
DTSTAMP:20260422T170548
CREATED:20250826T190644Z
LAST-MODIFIED:20250826T190644Z
UID:5470-1761153300-1761162300@charlestonfsc.com
SUMMARY:Club Photos
DESCRIPTION:Club photos will be provided through Josh Sharp.
URL:https://charlestonfsc.com/event/club-photos/
LOCATION:<span class='tooltipsall tooltip_post_id_473 classtoolTips473'>SCMIA</span>\, 20 RHL Blvd\, South Charleston\, WV\, 25309\, United States
CATEGORIES:Calendar Event,Special Event
ORGANIZER;CN="CFSC":MAILTO:charlestonfscwv@gmail.com
END:VEVENT
BEGIN:VEVENT
DTSTART;TZID=America/Kentucky/Louisville:20251022T190000
DTEND;TZID=America/Kentucky/Louisville:20251022T200000
DTSTAMP:20260422T170548
CREATED:20250826T185628Z
LAST-MODIFIED:20250826T185628Z
UID:5466-1761159600-1761163200@charlestonfsc.com
SUMMARY:Annual Meeting
DESCRIPTION:We’ll be reporting on the election results and determining board positions.
URL:https://charlestonfsc.com/event/annual-meeting/
LOCATION:<span class='tooltipsall tooltip_post_id_473 classtoolTips473'>SCMIA</span>\, 20 RHL Blvd\, South Charleston\, WV\, 25309\, United States
CATEGORIES:Calendar Event
ORGANIZER;CN="CFSC":MAILTO:charlestonfscwv@gmail.com
END:VEVENT
END:VCALENDAR