BEGIN:VCALENDAR
VERSION:2.0
PRODID:-//Charleston Figure Skating Club - ECPv6.15.20//NONSGML v1.0//EN
CALSCALE:GREGORIAN
METHOD:PUBLISH
X-WR-CALNAME:Charleston Figure Skating Club
X-ORIGINAL-URL:https://charlestonfsc.com
X-WR-CALDESC:Events for Charleston Figure Skating Club
REFRESH-INTERVAL;VALUE=DURATION:PT1H
X-Robots-Tag:noindex
X-PUBLISHED-TTL:PT1H
BEGIN:VTIMEZONE
TZID:America/Kentucky/Louisville
BEGIN:DAYLIGHT
TZOFFSETFROM:-0500
TZOFFSETTO:-0400
TZNAME:EDT
DTSTART:20240310T070000
END:DAYLIGHT
BEGIN:STANDARD
TZOFFSETFROM:-0400
TZOFFSETTO:-0500
TZNAME:EST
DTSTART:20241103T060000
END:STANDARD
BEGIN:DAYLIGHT
TZOFFSETFROM:-0500
TZOFFSETTO:-0400
TZNAME:EDT
DTSTART:20250309T070000
END:DAYLIGHT
BEGIN:STANDARD
TZOFFSETFROM:-0400
TZOFFSETTO:-0500
TZNAME:EST
DTSTART:20251102T060000
END:STANDARD
BEGIN:DAYLIGHT
TZOFFSETFROM:-0500
TZOFFSETTO:-0400
TZNAME:EDT
DTSTART:20260308T070000
END:DAYLIGHT
BEGIN:STANDARD
TZOFFSETFROM:-0400
TZOFFSETTO:-0500
TZNAME:EST
DTSTART:20261101T060000
END:STANDARD
END:VTIMEZONE
BEGIN:VEVENT
DTSTART;TZID=America/Kentucky/Louisville:20250927T090000
DTEND;TZID=America/Kentucky/Louisville:20250927T110000
DTSTAMP:20260422T182054
CREATED:20250213T195729Z
LAST-MODIFIED:20250220T162055Z
UID:1932-1758963600-1758970800@charlestonfsc.com
SUMMARY:Freestyle Session
DESCRIPTION:$10 per hour
URL:https://charlestonfsc.com/event/freestyle-session-35/
LOCATION:<span class='tooltipsall tooltip_post_id_473 classtoolTips473'>SCMIA</span>\, 20 RHL Blvd\, South Charleston\, WV\, 25309\, United States
CATEGORIES:Calendar Event
ORGANIZER;CN="CFSC":MAILTO:charlestonfscwv@gmail.com
END:VEVENT
BEGIN:VEVENT
DTSTART;TZID=America/Kentucky/Louisville:20250924T171500
DTEND;TZID=America/Kentucky/Louisville:20250924T194500
DTSTAMP:20260422T182054
CREATED:20250213T194744Z
LAST-MODIFIED:20250220T162100Z
UID:1881-1758734100-1758743100@charlestonfsc.com
SUMMARY:Club Ice Session
DESCRIPTION:$10 per hour
URL:https://charlestonfsc.com/event/club-ice-session-33/
LOCATION:<span class='tooltipsall tooltip_post_id_473 classtoolTips473'>SCMIA</span>\, 20 RHL Blvd\, South Charleston\, WV\, 25309\, United States
CATEGORIES:Calendar Event
ORGANIZER;CN="CFSC":MAILTO:charlestonfscwv@gmail.com
END:VEVENT
BEGIN:VEVENT
DTSTART;TZID=America/Kentucky/Louisville:20250921T180000
DTEND;TZID=America/Kentucky/Louisville:20250921T200000
DTSTAMP:20260422T182054
CREATED:20250213T201324Z
LAST-MODIFIED:20250220T162103Z
UID:1981-1758477600-1758484800@charlestonfsc.com
SUMMARY:Freestyle Session
DESCRIPTION:$10 per hour
URL:https://charlestonfsc.com/event/freestyle-session-82/
LOCATION:<span class='tooltipsall tooltip_post_id_473 classtoolTips473'>SCMIA</span>\, 20 RHL Blvd\, South Charleston\, WV\, 25309\, United States
CATEGORIES:Calendar Event
ORGANIZER;CN="CFSC":MAILTO:charlestonfscwv@gmail.com
END:VEVENT
BEGIN:VEVENT
DTSTART;TZID=America/Kentucky/Louisville:20250920T090000
DTEND;TZID=America/Kentucky/Louisville:20250920T110000
DTSTAMP:20260422T182054
CREATED:20250213T195729Z
LAST-MODIFIED:20250220T162107Z
UID:1931-1758358800-1758366000@charlestonfsc.com
SUMMARY:Freestyle Session
DESCRIPTION:$10 per hour
URL:https://charlestonfsc.com/event/freestyle-session-34/
LOCATION:<span class='tooltipsall tooltip_post_id_473 classtoolTips473'>SCMIA</span>\, 20 RHL Blvd\, South Charleston\, WV\, 25309\, United States
CATEGORIES:Calendar Event
ORGANIZER;CN="CFSC":MAILTO:charlestonfscwv@gmail.com
END:VEVENT
BEGIN:VEVENT
DTSTART;TZID=America/Kentucky/Louisville:20250919T000000
DTEND;TZID=America/Kentucky/Louisville:20250921T235959
DTSTAMP:20260422T182054
CREATED:20250616T184531Z
LAST-MODIFIED:20250616T184531Z
UID:5179-1758240000-1758499199@charlestonfsc.com
SUMMARY:Skate Cleveland
DESCRIPTION:NQS\, Excel\, Well-balanced\, Adult\, Compulsory Moves\, Basic Skills\, Aspire
URL:https://charlestonfsc.com/event/skate-cleveland/
LOCATION:Winterhurst Ice Arena\, 14740 Lakewood Heights Blvd\, Lakewood\, OH\, 44107\, United States
CATEGORIES:Calendar Event,Competition
ORGANIZER;CN="Winterhurst Figure Skating Club":MAILTO:winterhurstfsc@gmail.com
END:VEVENT
BEGIN:VEVENT
DTSTART;TZID=America/Kentucky/Louisville:20250917T171500
DTEND;TZID=America/Kentucky/Louisville:20250917T194500
DTSTAMP:20260422T182054
CREATED:20250213T194730Z
LAST-MODIFIED:20250220T162111Z
UID:1880-1758129300-1758138300@charlestonfsc.com
SUMMARY:Club Ice Session
DESCRIPTION:$10 per hour
URL:https://charlestonfsc.com/event/club-ice-session-32/
LOCATION:<span class='tooltipsall tooltip_post_id_473 classtoolTips473'>SCMIA</span>\, 20 RHL Blvd\, South Charleston\, WV\, 25309\, United States
CATEGORIES:Calendar Event
ORGANIZER;CN="CFSC":MAILTO:charlestonfscwv@gmail.com
END:VEVENT
BEGIN:VEVENT
DTSTART;TZID=America/Kentucky/Louisville:20250915T000000
DTEND;TZID=America/Kentucky/Louisville:20250915T235959
DTSTAMP:20260422T182054
CREATED:20250828T123615Z
LAST-MODIFIED:20250828T123615Z
UID:5502-1757894400-1757980799@charlestonfsc.com
SUMMARY:Registration Deadline for Skating Spooktacular
DESCRIPTION:Excel\, Well Balanced Events\, Adult Events\, Compete USA
URL:https://charlestonfsc.com/event/registration-deadline-for-skating-spooktacular/
LOCATION:Center Ice Sports Complex\, 8319 Port Jackson Ave NW\, North Canton\, OH\, 44720\, United States
CATEGORIES:Calendar Event,Competition
ORGANIZER;CN="Center Ice Skating Club":MAILTO:board.skatingsmylife@gmail.com
END:VEVENT
BEGIN:VEVENT
DTSTART;TZID=America/Kentucky/Louisville:20250914T180000
DTEND;TZID=America/Kentucky/Louisville:20250914T200000
DTSTAMP:20260422T182054
CREATED:20250213T201323Z
LAST-MODIFIED:20250220T162115Z
UID:1980-1757872800-1757880000@charlestonfsc.com
SUMMARY:Freestyle Session
DESCRIPTION:$10 per hour
URL:https://charlestonfsc.com/event/freestyle-session-81/
LOCATION:<span class='tooltipsall tooltip_post_id_473 classtoolTips473'>SCMIA</span>\, 20 RHL Blvd\, South Charleston\, WV\, 25309\, United States
CATEGORIES:Calendar Event
ORGANIZER;CN="CFSC":MAILTO:charlestonfscwv@gmail.com
END:VEVENT
BEGIN:VEVENT
DTSTART;TZID=America/Kentucky/Louisville:20250913T090000
DTEND;TZID=America/Kentucky/Louisville:20250913T110000
DTSTAMP:20260422T182054
CREATED:20250213T195729Z
LAST-MODIFIED:20250220T162119Z
UID:1930-1757754000-1757761200@charlestonfsc.com
SUMMARY:Freestyle Session
DESCRIPTION:$10 per hour
URL:https://charlestonfsc.com/event/freestyle-session-33/
LOCATION:<span class='tooltipsall tooltip_post_id_473 classtoolTips473'>SCMIA</span>\, 20 RHL Blvd\, South Charleston\, WV\, 25309\, United States
CATEGORIES:Calendar Event
ORGANIZER;CN="CFSC":MAILTO:charlestonfscwv@gmail.com
END:VEVENT
BEGIN:VEVENT
DTSTART;TZID=America/Kentucky/Louisville:20250910T171500
DTEND;TZID=America/Kentucky/Louisville:20250910T194500
DTSTAMP:20260422T182054
CREATED:20250213T194730Z
LAST-MODIFIED:20250220T162123Z
UID:1879-1757524500-1757533500@charlestonfsc.com
SUMMARY:Club Ice Session
DESCRIPTION:$10 per hour
URL:https://charlestonfsc.com/event/club-ice-session-31/
LOCATION:<span class='tooltipsall tooltip_post_id_473 classtoolTips473'>SCMIA</span>\, 20 RHL Blvd\, South Charleston\, WV\, 25309\, United States
CATEGORIES:Calendar Event
ORGANIZER;CN="CFSC":MAILTO:charlestonfscwv@gmail.com
END:VEVENT
BEGIN:VEVENT
DTSTART;TZID=America/Kentucky/Louisville:20250907T180000
DTEND;TZID=America/Kentucky/Louisville:20250907T200000
DTSTAMP:20260422T182054
CREATED:20250213T201323Z
LAST-MODIFIED:20250220T162127Z
UID:1979-1757268000-1757275200@charlestonfsc.com
SUMMARY:Freestyle Session
DESCRIPTION:$10 per hour
URL:https://charlestonfsc.com/event/freestyle-session-80/
LOCATION:<span class='tooltipsall tooltip_post_id_473 classtoolTips473'>SCMIA</span>\, 20 RHL Blvd\, South Charleston\, WV\, 25309\, United States
CATEGORIES:Calendar Event
ORGANIZER;CN="CFSC":MAILTO:charlestonfscwv@gmail.com
END:VEVENT
BEGIN:VEVENT
DTSTART;TZID=America/Kentucky/Louisville:20250906T090000
DTEND;TZID=America/Kentucky/Louisville:20250906T110000
DTSTAMP:20260422T182054
CREATED:20250213T195729Z
LAST-MODIFIED:20250220T162132Z
UID:1929-1757149200-1757156400@charlestonfsc.com
SUMMARY:Freestyle Session
DESCRIPTION:$10 per hour
URL:https://charlestonfsc.com/event/freestyle-session-32/
LOCATION:<span class='tooltipsall tooltip_post_id_473 classtoolTips473'>SCMIA</span>\, 20 RHL Blvd\, South Charleston\, WV\, 25309\, United States
CATEGORIES:Calendar Event
ORGANIZER;CN="CFSC":MAILTO:charlestonfscwv@gmail.com
END:VEVENT
BEGIN:VEVENT
DTSTART;TZID=America/Kentucky/Louisville:20250905T000000
DTEND;TZID=America/Kentucky/Louisville:20250907T235959
DTSTAMP:20260422T182054
CREATED:20250616T183258Z
LAST-MODIFIED:20250616T183435Z
UID:5173-1757030400-1757289599@charlestonfsc.com
SUMMARY:John Smith Memorial
DESCRIPTION:Well-balanced\, Excel\, Adult\, Basic Skills\, Aspire\, Showcase
URL:https://charlestonfsc.com/event/john-smith-memorial/
LOCATION:Extreme Ice Center\, 4705 Indian Trail - Fairview Road\, Indian Trail\, NC\, 28078\, United States
CATEGORIES:Calendar Event,Competition
ORGANIZER;CN="Carolinas Figure Skating Club":MAILTO:president@carolinasfsc.org
END:VEVENT
BEGIN:VEVENT
DTSTART;TZID=America/Kentucky/Louisville:20250903T171500
DTEND;TZID=America/Kentucky/Louisville:20250903T194500
DTSTAMP:20260422T182054
CREATED:20250213T194730Z
LAST-MODIFIED:20250220T162136Z
UID:1878-1756919700-1756928700@charlestonfsc.com
SUMMARY:Club Ice Session
DESCRIPTION:$10 per hour
URL:https://charlestonfsc.com/event/club-ice-session-30/
LOCATION:<span class='tooltipsall tooltip_post_id_473 classtoolTips473'>SCMIA</span>\, 20 RHL Blvd\, South Charleston\, WV\, 25309\, United States
CATEGORIES:Calendar Event
ORGANIZER;CN="CFSC":MAILTO:charlestonfscwv@gmail.com
END:VEVENT
BEGIN:VEVENT
DTSTART;TZID=America/Kentucky/Louisville:20250831T180000
DTEND;TZID=America/Kentucky/Louisville:20250831T200000
DTSTAMP:20260422T182054
CREATED:20250213T201323Z
LAST-MODIFIED:20250220T162143Z
UID:1978-1756663200-1756670400@charlestonfsc.com
SUMMARY:Freestyle Session
DESCRIPTION:$10 per hour
URL:https://charlestonfsc.com/event/freestyle-session-79/
LOCATION:<span class='tooltipsall tooltip_post_id_473 classtoolTips473'>SCMIA</span>\, 20 RHL Blvd\, South Charleston\, WV\, 25309\, United States
CATEGORIES:Calendar Event
ORGANIZER;CN="CFSC":MAILTO:charlestonfscwv@gmail.com
END:VEVENT
BEGIN:VEVENT
DTSTART;TZID=America/Kentucky/Louisville:20250830T090000
DTEND;TZID=America/Kentucky/Louisville:20250830T110000
DTSTAMP:20260422T182054
CREATED:20250213T195729Z
LAST-MODIFIED:20250220T162147Z
UID:1928-1756544400-1756551600@charlestonfsc.com
SUMMARY:Freestyle Session
DESCRIPTION:$10 per hour
URL:https://charlestonfsc.com/event/freestyle-session-31/
LOCATION:<span class='tooltipsall tooltip_post_id_473 classtoolTips473'>SCMIA</span>\, 20 RHL Blvd\, South Charleston\, WV\, 25309\, United States
CATEGORIES:Calendar Event
ORGANIZER;CN="CFSC":MAILTO:charlestonfscwv@gmail.com
END:VEVENT
BEGIN:VEVENT
DTSTART;TZID=America/Kentucky/Louisville:20250827T171500
DTEND;TZID=America/Kentucky/Louisville:20250827T194500
DTSTAMP:20260422T182054
CREATED:20250213T194730Z
LAST-MODIFIED:20250220T162151Z
UID:1877-1756314900-1756323900@charlestonfsc.com
SUMMARY:Club Ice Session
DESCRIPTION:$10 per hour
URL:https://charlestonfsc.com/event/club-ice-session-29/
LOCATION:<span class='tooltipsall tooltip_post_id_473 classtoolTips473'>SCMIA</span>\, 20 RHL Blvd\, South Charleston\, WV\, 25309\, United States
CATEGORIES:Calendar Event
ORGANIZER;CN="CFSC":MAILTO:charlestonfscwv@gmail.com
END:VEVENT
BEGIN:VEVENT
DTSTART;TZID=America/Kentucky/Louisville:20250824T180000
DTEND;TZID=America/Kentucky/Louisville:20250824T200000
DTSTAMP:20260422T182054
CREATED:20250213T201309Z
LAST-MODIFIED:20250220T162154Z
UID:1977-1756058400-1756065600@charlestonfsc.com
SUMMARY:Freestyle Session
DESCRIPTION:$10 per hour
URL:https://charlestonfsc.com/event/freestyle-session-78/
LOCATION:<span class='tooltipsall tooltip_post_id_473 classtoolTips473'>SCMIA</span>\, 20 RHL Blvd\, South Charleston\, WV\, 25309\, United States
CATEGORIES:Calendar Event
ORGANIZER;CN="CFSC":MAILTO:charlestonfscwv@gmail.com
END:VEVENT
BEGIN:VEVENT
DTSTART;TZID=America/Kentucky/Louisville:20250823T090000
DTEND;TZID=America/Kentucky/Louisville:20250823T110000
DTSTAMP:20260422T182054
CREATED:20250213T195653Z
LAST-MODIFIED:20250220T162159Z
UID:1927-1755939600-1755946800@charlestonfsc.com
SUMMARY:Freestyle Session
DESCRIPTION:$10 per hour
URL:https://charlestonfsc.com/event/freestyle-session-30/
LOCATION:<span class='tooltipsall tooltip_post_id_473 classtoolTips473'>SCMIA</span>\, 20 RHL Blvd\, South Charleston\, WV\, 25309\, United States
CATEGORIES:Calendar Event
ORGANIZER;CN="CFSC":MAILTO:charlestonfscwv@gmail.com
END:VEVENT
BEGIN:VEVENT
DTSTART;TZID=America/Kentucky/Louisville:20250820T171500
DTEND;TZID=America/Kentucky/Louisville:20250820T194500
DTSTAMP:20260422T182054
CREATED:20250213T194729Z
LAST-MODIFIED:20250220T162208Z
UID:1876-1755710100-1755719100@charlestonfsc.com
SUMMARY:Club Ice Session
DESCRIPTION:$10 per hour
URL:https://charlestonfsc.com/event/club-ice-session-28/
LOCATION:<span class='tooltipsall tooltip_post_id_473 classtoolTips473'>SCMIA</span>\, 20 RHL Blvd\, South Charleston\, WV\, 25309\, United States
CATEGORIES:Calendar Event
ORGANIZER;CN="CFSC":MAILTO:charlestonfscwv@gmail.com
END:VEVENT
BEGIN:VEVENT
DTSTART;TZID=America/Kentucky/Louisville:20250817T180000
DTEND;TZID=America/Kentucky/Louisville:20250817T200000
DTSTAMP:20260422T182054
CREATED:20250213T201309Z
LAST-MODIFIED:20250220T162212Z
UID:1976-1755453600-1755460800@charlestonfsc.com
SUMMARY:Freestyle Session
DESCRIPTION:$10 per hour
URL:https://charlestonfsc.com/event/freestyle-session-77/
LOCATION:<span class='tooltipsall tooltip_post_id_473 classtoolTips473'>SCMIA</span>\, 20 RHL Blvd\, South Charleston\, WV\, 25309\, United States
CATEGORIES:Calendar Event
ORGANIZER;CN="CFSC":MAILTO:charlestonfscwv@gmail.com
END:VEVENT
BEGIN:VEVENT
DTSTART;TZID=America/Kentucky/Louisville:20250816T190000
DTEND;TZID=America/Kentucky/Louisville:20250816T210000
DTSTAMP:20260422T182054
CREATED:20250804T234308Z
LAST-MODIFIED:20250804T234308Z
UID:5410-1755370800-1755378000@charlestonfsc.com
SUMMARY:Summer Luau Pool Party - rescheduled
DESCRIPTION:Join us for some summer fun. Members and non-swimmers are free. Additional family members are $2.00 per person. Please bring an appetizer or dessert to share.
URL:https://charlestonfsc.com/event/summer-luau-pool-party-rescheduled/
LOCATION:Little Creek Pool\, 99 Fairway Drive South\, South Charleston\, WV\, 25303\, United States
CATEGORIES:Calendar Event,Special Event
ORGANIZER;CN="CFSC":MAILTO:charlestonfscwv@gmail.com
END:VEVENT
BEGIN:VEVENT
DTSTART;TZID=America/Kentucky/Louisville:20250816T090000
DTEND;TZID=America/Kentucky/Louisville:20250816T110000
DTSTAMP:20260422T182054
CREATED:20250213T195653Z
LAST-MODIFIED:20250220T162218Z
UID:1926-1755334800-1755342000@charlestonfsc.com
SUMMARY:Freestyle Session
DESCRIPTION:$10 per hour
URL:https://charlestonfsc.com/event/freestyle-session-29/
LOCATION:<span class='tooltipsall tooltip_post_id_473 classtoolTips473'>SCMIA</span>\, 20 RHL Blvd\, South Charleston\, WV\, 25309\, United States
CATEGORIES:Calendar Event
ORGANIZER;CN="CFSC":MAILTO:charlestonfscwv@gmail.com
END:VEVENT
BEGIN:VEVENT
DTSTART;TZID=America/Kentucky/Louisville:20250815T000000
DTEND;TZID=America/Kentucky/Louisville:20250817T235959
DTSTAMP:20260422T182054
CREATED:20250616T181440Z
LAST-MODIFIED:20250616T181625Z
UID:5167-1755216000-1755475199@charlestonfsc.com
SUMMARY:Potomac Memorial Open
DESCRIPTION:NQS\, Well-balanced\, Excel\, Aspire
URL:https://charlestonfsc.com/event/potomac-memorial-open/
LOCATION:Ashburn Ice House\, 21595 Smith Switch Rd\, Ashburn\, VA\, 20147\, United States
CATEGORIES:Calendar Event,Competition
END:VEVENT
BEGIN:VEVENT
DTSTART;TZID=America/Kentucky/Louisville:20250813T171500
DTEND;TZID=America/Kentucky/Louisville:20250813T194500
DTSTAMP:20260422T182054
CREATED:20250213T194606Z
LAST-MODIFIED:20250220T162227Z
UID:1875-1755105300-1755114300@charlestonfsc.com
SUMMARY:Club Ice Session
DESCRIPTION:$10 per hour
URL:https://charlestonfsc.com/event/club-ice-session-27/
LOCATION:<span class='tooltipsall tooltip_post_id_473 classtoolTips473'>SCMIA</span>\, 20 RHL Blvd\, South Charleston\, WV\, 25309\, United States
CATEGORIES:Calendar Event
ORGANIZER;CN="CFSC":MAILTO:charlestonfscwv@gmail.com
END:VEVENT
BEGIN:VEVENT
DTSTART;TZID=America/Kentucky/Louisville:20250810T180000
DTEND;TZID=America/Kentucky/Louisville:20250810T200000
DTSTAMP:20260422T182054
CREATED:20250213T201309Z
LAST-MODIFIED:20250220T162231Z
UID:1975-1754848800-1754856000@charlestonfsc.com
SUMMARY:Freestyle Session
DESCRIPTION:$10 per hour
URL:https://charlestonfsc.com/event/freestyle-session-76/
LOCATION:<span class='tooltipsall tooltip_post_id_473 classtoolTips473'>SCMIA</span>\, 20 RHL Blvd\, South Charleston\, WV\, 25309\, United States
CATEGORIES:Calendar Event
ORGANIZER;CN="CFSC":MAILTO:charlestonfscwv@gmail.com
END:VEVENT
BEGIN:VEVENT
DTSTART;TZID=America/Kentucky/Louisville:20250810T000000
DTEND;TZID=America/Kentucky/Louisville:20250810T235959
DTSTAMP:20260422T182054
CREATED:20250616T184654Z
LAST-MODIFIED:20250616T184654Z
UID:5181-1754784000-1754870399@charlestonfsc.com
SUMMARY:Registration Deadline for Skate Cleveland
DESCRIPTION:NQS\, Excel\, Well-balanced\, Adult\, Compulsory Moves\, Basic Skills\, Aspire
URL:https://charlestonfsc.com/event/registration-deadline-for-skate-cleveland/
LOCATION:Winterhurst Ice Arena\, 14740 Lakewood Heights Blvd\, Lakewood\, OH\, 44107\, United States
CATEGORIES:Calendar Event,Competition
ORGANIZER;CN="Winterhurst Figure Skating Club":MAILTO:winterhurstfsc@gmail.com
END:VEVENT
BEGIN:VEVENT
DTSTART;TZID=America/Kentucky/Louisville:20250809T090000
DTEND;TZID=America/Kentucky/Louisville:20250809T110000
DTSTAMP:20260422T182054
CREATED:20250213T195653Z
LAST-MODIFIED:20250220T162235Z
UID:1925-1754730000-1754737200@charlestonfsc.com
SUMMARY:Freestyle Session
DESCRIPTION:$10 per hour
URL:https://charlestonfsc.com/event/freestyle-session-28/
LOCATION:<span class='tooltipsall tooltip_post_id_473 classtoolTips473'>SCMIA</span>\, 20 RHL Blvd\, South Charleston\, WV\, 25309\, United States
CATEGORIES:Calendar Event
ORGANIZER;CN="CFSC":MAILTO:charlestonfscwv@gmail.com
END:VEVENT
BEGIN:VEVENT
DTSTART;TZID=America/Kentucky/Louisville:20250806T171500
DTEND;TZID=America/Kentucky/Louisville:20250806T194500
DTSTAMP:20260422T182054
CREATED:20250213T194606Z
LAST-MODIFIED:20250220T162240Z
UID:1874-1754500500-1754509500@charlestonfsc.com
SUMMARY:Club Ice Session
DESCRIPTION:$10 per hour
URL:https://charlestonfsc.com/event/club-ice-session-26/
LOCATION:<span class='tooltipsall tooltip_post_id_473 classtoolTips473'>SCMIA</span>\, 20 RHL Blvd\, South Charleston\, WV\, 25309\, United States
CATEGORIES:Calendar Event
ORGANIZER;CN="CFSC":MAILTO:charlestonfscwv@gmail.com
END:VEVENT
BEGIN:VEVENT
DTSTART;TZID=America/Kentucky/Louisville:20250806T000000
DTEND;TZID=America/Kentucky/Louisville:20250809T235959
DTSTAMP:20260422T182054
CREATED:20250616T180542Z
LAST-MODIFIED:20250616T180542Z
UID:5159-1754438400-1754783999@charlestonfsc.com
SUMMARY:Hershey Open and Neal Wood Memorial Open
DESCRIPTION:Excel\, Well-balanced\, Adult\, Compulsory\, Showcase\, Basic Skills\, Aspire
URL:https://charlestonfsc.com/event/hershey-open-and-neal-wood-memorial-open/
LOCATION:Hersheypark Arena\, 100 W Hershey Park Drive\, Hershey\, PA\, 17033\, United States
CATEGORIES:Calendar Event,Competition
ORGANIZER;CN="Hershey Figure Skating Club":MAILTO:hersheyfigureskating1934@gmail.com
END:VEVENT
END:VCALENDAR