BEGIN:VCALENDAR
VERSION:2.0
PRODID:-//Charleston Figure Skating Club - ECPv6.15.20//NONSGML v1.0//EN
CALSCALE:GREGORIAN
METHOD:PUBLISH
X-WR-CALNAME:Charleston Figure Skating Club
X-ORIGINAL-URL:https://charlestonfsc.com
X-WR-CALDESC:Events for Charleston Figure Skating Club
REFRESH-INTERVAL;VALUE=DURATION:PT1H
X-Robots-Tag:noindex
X-PUBLISHED-TTL:PT1H
BEGIN:VTIMEZONE
TZID:America/Kentucky/Louisville
BEGIN:DAYLIGHT
TZOFFSETFROM:-0500
TZOFFSETTO:-0400
TZNAME:EDT
DTSTART:20240310T070000
END:DAYLIGHT
BEGIN:STANDARD
TZOFFSETFROM:-0400
TZOFFSETTO:-0500
TZNAME:EST
DTSTART:20241103T060000
END:STANDARD
BEGIN:DAYLIGHT
TZOFFSETFROM:-0500
TZOFFSETTO:-0400
TZNAME:EDT
DTSTART:20250309T070000
END:DAYLIGHT
BEGIN:STANDARD
TZOFFSETFROM:-0400
TZOFFSETTO:-0500
TZNAME:EST
DTSTART:20251102T060000
END:STANDARD
BEGIN:DAYLIGHT
TZOFFSETFROM:-0500
TZOFFSETTO:-0400
TZNAME:EDT
DTSTART:20260308T070000
END:DAYLIGHT
BEGIN:STANDARD
TZOFFSETFROM:-0400
TZOFFSETTO:-0500
TZNAME:EST
DTSTART:20261101T060000
END:STANDARD
END:VTIMEZONE
BEGIN:VEVENT
DTSTART;TZID=America/Kentucky/Louisville:20250301T090000
DTEND;TZID=America/Kentucky/Louisville:20250301T110000
DTSTAMP:20260423T031747
CREATED:20250213T195542Z
LAST-MODIFIED:20250220T160006Z
UID:1902-1740819600-1740826800@charlestonfsc.com
SUMMARY:Freestyle Session
DESCRIPTION:$10 per hour
URL:https://charlestonfsc.com/event/freestyle-session-5/
LOCATION:<span class='tooltipsall tooltip_post_id_473 classtoolTips473'>SCMIA</span>\, 20 RHL Blvd\, South Charleston\, WV\, 25309\, United States
CATEGORIES:Calendar Event
ORGANIZER;CN="CFSC":MAILTO:charlestonfscwv@gmail.com
END:VEVENT
BEGIN:VEVENT
DTSTART;TZID=America/Kentucky/Louisville:20250226T171500
DTEND;TZID=America/Kentucky/Louisville:20250226T194500
DTSTAMP:20260423T031747
CREATED:20250213T180837Z
LAST-MODIFIED:20250220T160011Z
UID:1846-1740590100-1740599100@charlestonfsc.com
SUMMARY:Club Ice Session
DESCRIPTION:$10 per hour
URL:https://charlestonfsc.com/event/club-ice-session-3/
LOCATION:<span class='tooltipsall tooltip_post_id_473 classtoolTips473'>SCMIA</span>\, 20 RHL Blvd\, South Charleston\, WV\, 25309\, United States
CATEGORIES:Calendar Event
ORGANIZER;CN="CFSC":MAILTO:charlestonfscwv@gmail.com
END:VEVENT
BEGIN:VEVENT
DTSTART;TZID=America/Kentucky/Louisville:20250223T180000
DTEND;TZID=America/Kentucky/Louisville:20250223T200000
DTSTAMP:20260423T031747
CREATED:20250213T201205Z
LAST-MODIFIED:20250220T160016Z
UID:1951-1740333600-1740340800@charlestonfsc.com
SUMMARY:Freestyle Session
DESCRIPTION:$10 per hour
URL:https://charlestonfsc.com/event/freestyle-session-52/
LOCATION:<span class='tooltipsall tooltip_post_id_473 classtoolTips473'>SCMIA</span>\, 20 RHL Blvd\, South Charleston\, WV\, 25309\, United States
CATEGORIES:Calendar Event
ORGANIZER;CN="CFSC":MAILTO:charlestonfscwv@gmail.com
END:VEVENT
BEGIN:VEVENT
DTSTART;TZID=America/Kentucky/Louisville:20250223T143000
DTEND;TZID=America/Kentucky/Louisville:20250223T163000
DTSTAMP:20260423T031747
CREATED:20250213T202444Z
LAST-MODIFIED:20250220T160915Z
UID:1998-1740321000-1740328200@charlestonfsc.com
SUMMARY:Princess Skate
DESCRIPTION:
URL:https://charlestonfsc.com/event/princess-skate/
LOCATION:<span class='tooltipsall tooltip_post_id_473 classtoolTips473'>SCMIA</span>\, 20 RHL Blvd\, South Charleston\, WV\, 25309\, United States
CATEGORIES:Calendar Event,Special Event
END:VEVENT
BEGIN:VEVENT
DTSTART;TZID=America/Kentucky/Louisville:20250222T090000
DTEND;TZID=America/Kentucky/Louisville:20250222T110000
DTSTAMP:20260423T031747
CREATED:20250213T195542Z
LAST-MODIFIED:20250220T160027Z
UID:1901-1740214800-1740222000@charlestonfsc.com
SUMMARY:Freestyle Session
DESCRIPTION:$10 per hour
URL:https://charlestonfsc.com/event/freestyle-session-4/
LOCATION:<span class='tooltipsall tooltip_post_id_473 classtoolTips473'>SCMIA</span>\, 20 RHL Blvd\, South Charleston\, WV\, 25309\, United States
CATEGORIES:Calendar Event
ORGANIZER;CN="CFSC":MAILTO:charlestonfscwv@gmail.com
END:VEVENT
BEGIN:VEVENT
DTSTART;TZID=America/Kentucky/Louisville:20250221T000000
DTEND;TZID=America/Kentucky/Louisville:20250221T235959
DTSTAMP:20260423T031747
CREATED:20250212T213211Z
LAST-MODIFIED:20250220T160825Z
UID:1721-1740096000-1740182399@charlestonfsc.com
SUMMARY:Registration Deadline for Louisville Skating Academy Spring Invitational
DESCRIPTION:Excel Series\, Well Balanced Events\, Adult Free Skate\, Athlete Development\, Showcase\, Adult Showcase\, Solo Dance Events\, Adult Solo Dance Events\, Compete USA\, Adaptive
URL:https://charlestonfsc.com/event/registration-deadline-for-louisville-skating-academy-spring-invitational/
LOCATION:Iceland Sports Complex\, 1701 UPS Drive\, Louisville\, KY\, 40223\, United States
CATEGORIES:Calendar Event,Competition
ORGANIZER;CN="Louisville Skating Academy":MAILTO:lsask8director@gmail.com
END:VEVENT
BEGIN:VEVENT
DTSTART;TZID=America/Kentucky/Louisville:20250219T171500
DTEND;TZID=America/Kentucky/Louisville:20250219T194500
DTSTAMP:20260423T031747
CREATED:20250213T180837Z
LAST-MODIFIED:20250220T160035Z
UID:1845-1739985300-1739994300@charlestonfsc.com
SUMMARY:Club Ice Session
DESCRIPTION:$10 per hour
URL:https://charlestonfsc.com/event/club-ice-session-2/
LOCATION:<span class='tooltipsall tooltip_post_id_473 classtoolTips473'>SCMIA</span>\, 20 RHL Blvd\, South Charleston\, WV\, 25309\, United States
CATEGORIES:Calendar Event
ORGANIZER;CN="CFSC":MAILTO:charlestonfscwv@gmail.com
END:VEVENT
BEGIN:VEVENT
DTSTART;TZID=America/Kentucky/Louisville:20250216T180000
DTEND;TZID=America/Kentucky/Louisville:20250216T200000
DTSTAMP:20260423T031747
CREATED:20250213T201205Z
LAST-MODIFIED:20250220T160040Z
UID:1950-1739728800-1739736000@charlestonfsc.com
SUMMARY:Freestyle Session
DESCRIPTION:$10 per hour
URL:https://charlestonfsc.com/event/freestyle-session-51/
LOCATION:<span class='tooltipsall tooltip_post_id_473 classtoolTips473'>SCMIA</span>\, 20 RHL Blvd\, South Charleston\, WV\, 25309\, United States
CATEGORIES:Calendar Event
ORGANIZER;CN="CFSC":MAILTO:charlestonfscwv@gmail.com
END:VEVENT
BEGIN:VEVENT
DTSTART;TZID=America/Kentucky/Louisville:20250215T090000
DTEND;TZID=America/Kentucky/Louisville:20250215T110000
DTSTAMP:20260423T031747
CREATED:20250213T195542Z
LAST-MODIFIED:20250220T160046Z
UID:1900-1739610000-1739617200@charlestonfsc.com
SUMMARY:Freestyle Session
DESCRIPTION:$10 per hour
URL:https://charlestonfsc.com/event/freestyle-session-3/
LOCATION:<span class='tooltipsall tooltip_post_id_473 classtoolTips473'>SCMIA</span>\, 20 RHL Blvd\, South Charleston\, WV\, 25309\, United States
CATEGORIES:Calendar Event
ORGANIZER;CN="CFSC":MAILTO:charlestonfscwv@gmail.com
END:VEVENT
BEGIN:VEVENT
DTSTART;TZID=America/Kentucky/Louisville:20250215T000000
DTEND;TZID=America/Kentucky/Louisville:20250215T235959
DTSTAMP:20260423T031747
CREATED:20250212T212822Z
LAST-MODIFIED:20250226T141810Z
UID:1719-1739577600-1739663999@charlestonfsc.com
SUMMARY:Registration Deadline for Cleveland Invitational Championships
DESCRIPTION:Excel Series\, Well balanced events\, Adult Free Skate\, Athlete Development\, Adult Specialty\, Showcase\, CompeteUSA
URL:https://charlestonfsc.com/event/registration-deadline-for-cleveland-invitational-championships/
LOCATION:Michael A. Ries Rink\, 5000 Forestwood Dr.\, Parma\, OH\, 44134\, United States
CATEGORIES:Calendar Event,Competition
ORGANIZER;CN="Forestwood Skating Club of Parma":MAILTO:support@forestwoodskatingclub.com
END:VEVENT
BEGIN:VEVENT
DTSTART;TZID=America/Kentucky/Louisville:20250214T000000
DTEND;TZID=America/Kentucky/Louisville:20250216T235959
DTSTAMP:20260423T031747
CREATED:20250212T164450Z
LAST-MODIFIED:20250220T160811Z
UID:1669-1739491200-1739750399@charlestonfsc.com
SUMMARY:Albert Viviani Memorial Competition/Deborah Burgoyne North American Invitational
DESCRIPTION:Registration Deadline: 1/20/2025 \nExcel Series\, Well Balanced Events\, Aspire Events\, Adult Events\, Showcase\, Compete USA
URL:https://charlestonfsc.com/event/albert-viviani-memorial-deborah-burgoyne-north-american-invitational-competitions/
LOCATION:Benjamin F. Yack Recreation Center\, 3131 3rd Street\, Wyandotte\, MI\, 48192\, United States
CATEGORIES:Calendar Event,Competition
ORGANIZER;CN="Wyandotte Figure Skating Club":MAILTO:wyandotteskater@msn.com
END:VEVENT
BEGIN:VEVENT
DTSTART;TZID=America/Kentucky/Louisville:20250212T171500
DTEND;TZID=America/Kentucky/Louisville:20250212T194500
DTSTAMP:20260423T031747
CREATED:20250208T234849Z
LAST-MODIFIED:20250220T160100Z
UID:1621-1739380500-1739389500@charlestonfsc.com
SUMMARY:Club Ice Session
DESCRIPTION:$10 per hour
URL:https://charlestonfsc.com/event/club-ice-session/
LOCATION:<span class='tooltipsall tooltip_post_id_473 classtoolTips473'>SCMIA</span>\, 20 RHL Blvd\, South Charleston\, WV\, 25309\, United States
CATEGORIES:Calendar Event
ORGANIZER;CN="CFSC":MAILTO:charlestonfscwv@gmail.com
END:VEVENT
BEGIN:VEVENT
DTSTART;TZID=America/Kentucky/Louisville:20250210T000000
DTEND;TZID=America/Kentucky/Louisville:20250210T235959
DTSTAMP:20260423T031747
CREATED:20250212T204532Z
LAST-MODIFIED:20250220T160803Z
UID:1695-1739145600-1739231999@charlestonfsc.com
SUMMARY:Registration Deadline for Skate Pittsburgh
DESCRIPTION:Excel Series\, Well Balanced Events\, Adult Free Skate\, Athlete Development\, Showcase\, Adult Showcase\, Compete USA\,
URL:https://charlestonfsc.com/event/registration-deadline-for-skate-pittsburgh/
LOCATION:Robert Morris University Island Sports Center\, 7600 Grand Avenue\, PIttsburgh\, PA\, 15225\, United States
CATEGORIES:Calendar Event,Competition
ORGANIZER;CN="Pittsburgh Figure Skating Club":MAILTO:skatepgh@gmail.com
END:VEVENT
BEGIN:VEVENT
DTSTART;TZID=America/Kentucky/Louisville:20250209T180000
DTEND;TZID=America/Kentucky/Louisville:20250209T200000
DTSTAMP:20260423T031747
CREATED:20250213T201205Z
LAST-MODIFIED:20250220T160111Z
UID:1949-1739124000-1739131200@charlestonfsc.com
SUMMARY:Freestyle Session
DESCRIPTION:$10 per hour
URL:https://charlestonfsc.com/event/freestyle-session-50/
LOCATION:<span class='tooltipsall tooltip_post_id_473 classtoolTips473'>SCMIA</span>\, 20 RHL Blvd\, South Charleston\, WV\, 25309\, United States
CATEGORIES:Calendar Event
ORGANIZER;CN="CFSC":MAILTO:charlestonfscwv@gmail.com
END:VEVENT
BEGIN:VEVENT
DTSTART;TZID=America/Kentucky/Louisville:20250208T190000
DTEND;TZID=America/Kentucky/Louisville:20250208T200000
DTSTAMP:20260423T031747
CREATED:20250213T203536Z
LAST-MODIFIED:20250220T160756Z
UID:2008-1739041200-1739044800@charlestonfsc.com
SUMMARY:Skating Show at Canaan Valley Resort
DESCRIPTION:
URL:https://charlestonfsc.com/event/skating-show-at-canaan-valley-resort-3/
LOCATION:Canaan Valley Resort State Park\, 230 Main Lodge Rd.\, Davis\, WV\, 26260\, United States
CATEGORIES:Calendar Event,Show
ORGANIZER;CN="Canaan Valley Resort State Park":MAILTO:reservations@canaanresort.com
END:VEVENT
BEGIN:VEVENT
DTSTART;TZID=America/Kentucky/Louisville:20250208T140000
DTEND;TZID=America/Kentucky/Louisville:20250208T150000
DTSTAMP:20260423T031747
CREATED:20250213T203458Z
LAST-MODIFIED:20250220T160746Z
UID:2006-1739023200-1739026800@charlestonfsc.com
SUMMARY:Skating Show at Canaan Valley Resort
DESCRIPTION:
URL:https://charlestonfsc.com/event/skating-show-at-canaan-valley-resort-2/
LOCATION:Canaan Valley Resort State Park\, 230 Main Lodge Rd.\, Davis\, WV\, 26260\, United States
CATEGORIES:Calendar Event,Show
ORGANIZER;CN="Canaan Valley Resort State Park":MAILTO:reservations@canaanresort.com
END:VEVENT
BEGIN:VEVENT
DTSTART;TZID=America/Kentucky/Louisville:20250208T120000
DTEND;TZID=America/Kentucky/Louisville:20250208T140000
DTSTAMP:20260423T031747
CREATED:20250213T195542Z
LAST-MODIFIED:20250220T155920Z
UID:1899-1739016000-1739023200@charlestonfsc.com
SUMMARY:Freestyle Session
DESCRIPTION:$10 per hour
URL:https://charlestonfsc.com/event/freestyle-session-2/
LOCATION:<span class='tooltipsall tooltip_post_id_473 classtoolTips473'>SCMIA</span>\, 20 RHL Blvd\, South Charleston\, WV\, 25309\, United States
CATEGORIES:Calendar Event
ORGANIZER;CN="CFSC":MAILTO:charlestonfscwv@gmail.com
END:VEVENT
BEGIN:VEVENT
DTSTART;TZID=America/Kentucky/Louisville:20250207T190000
DTEND;TZID=America/Kentucky/Louisville:20250207T200000
DTSTAMP:20260423T031747
CREATED:20250213T203406Z
LAST-MODIFIED:20250220T160737Z
UID:2004-1738954800-1738958400@charlestonfsc.com
SUMMARY:Skating Show at Canaan Valley Resort
DESCRIPTION:
URL:https://charlestonfsc.com/event/skating-show-at-canaan-valley-resort/
LOCATION:Canaan Valley Resort State Park\, 230 Main Lodge Rd.\, Davis\, WV\, 26260\, United States
CATEGORIES:Calendar Event,Show
ORGANIZER;CN="Canaan Valley Resort State Park":MAILTO:reservations@canaanresort.com
END:VEVENT
BEGIN:VEVENT
DTSTART;TZID=America/Kentucky/Louisville:20250207T000000
DTEND;TZID=America/Kentucky/Louisville:20250207T235959
DTSTAMP:20260423T031747
CREATED:20250212T174711Z
LAST-MODIFIED:20250220T160648Z
UID:1687-1738886400-1738972799@charlestonfsc.com
SUMMARY:Registration Deadline for Columbus Invitational
DESCRIPTION:Excel Series\, Well Balanced Events\, Aspire Events\, Adult Free Skate\, Athlete Development\, Showcase\, Compete USA
URL:https://charlestonfsc.com/event/registration-deadline-for-columbus-invitational/
LOCATION:Hamilton Community Center and Ice Arena\, 2501 Lincoln Park Drive\, Columbus\, IN\, 47201\, United States
CATEGORIES:Calendar Event,Competition
ORGANIZER;CN="Lincoln Center Skate Club":MAILTO:sk8columbus@gmail.com
END:VEVENT
BEGIN:VEVENT
DTSTART;TZID=America/Kentucky/Louisville:20250202T180000
DTEND;TZID=America/Kentucky/Louisville:20250202T200000
DTSTAMP:20260423T031747
CREATED:20250213T201205Z
LAST-MODIFIED:20250220T155857Z
UID:1948-1738519200-1738526400@charlestonfsc.com
SUMMARY:Freestyle Session
DESCRIPTION:$10 per hour
URL:https://charlestonfsc.com/event/freestyle-session-49/
LOCATION:<span class='tooltipsall tooltip_post_id_473 classtoolTips473'>SCMIA</span>\, 20 RHL Blvd\, South Charleston\, WV\, 25309\, United States
CATEGORIES:Calendar Event
ORGANIZER;CN="CFSC":MAILTO:charlestonfscwv@gmail.com
END:VEVENT
BEGIN:VEVENT
DTSTART;TZID=America/Kentucky/Louisville:20250201T090000
DTEND;TZID=America/Kentucky/Louisville:20250201T110000
DTSTAMP:20260423T031747
CREATED:20250213T195542Z
LAST-MODIFIED:20250220T155851Z
UID:1898-1738400400-1738407600@charlestonfsc.com
SUMMARY:Freestyle Session
DESCRIPTION:$10 per hour
URL:https://charlestonfsc.com/event/freestyle-session/
LOCATION:<span class='tooltipsall tooltip_post_id_473 classtoolTips473'>SCMIA</span>\, 20 RHL Blvd\, South Charleston\, WV\, 25309\, United States
CATEGORIES:Calendar Event
ORGANIZER;CN="CFSC":MAILTO:charlestonfscwv@gmail.com
END:VEVENT
BEGIN:VEVENT
DTSTART;TZID=America/Kentucky/Louisville:20250201T000000
DTEND;TZID=America/Kentucky/Louisville:20250201T235959
DTSTAMP:20260423T031747
CREATED:20250212T210357Z
LAST-MODIFIED:20250220T160640Z
UID:1703-1738368000-1738454399@charlestonfsc.com
SUMMARY:Registration Deadline for Eastern Adult Sectional Championships
DESCRIPTION:Adult Singles\, Adult Pairs\, Adult Dance\, Adult Showcase\, Adult Solo Dance
URL:https://charlestonfsc.com/event/registration-deadline-for-eastern-adult-sectional-championships/
LOCATION:Extreme Ice Center\, 4705 Indian Trail - Fairview Road\, Indian Trail\, NC\, 28078\, United States
CATEGORIES:Calendar Event,Competition
ORGANIZER;CN="USFSA":MAILTO:Events@usfigureskating.org
END:VEVENT
BEGIN:VEVENT
DTSTART;TZID=America/Kentucky/Louisville:20250120T000000
DTEND;TZID=America/Kentucky/Louisville:20250120T235959
DTSTAMP:20260423T031747
CREATED:20250212T174442Z
LAST-MODIFIED:20250220T160633Z
UID:1685-1737331200-1737417599@charlestonfsc.com
SUMMARY:Registration Deadline for Albert Viviani Memorial Competition/Deborah Burgoyne North American Invitational
DESCRIPTION:Excel Series\, Well Balanced Events\, Aspire Events\, Adult Events\, Showcase\, Compete USA
URL:https://charlestonfsc.com/event/registration-deadline-for-albert-viviani-memorial-competition-deborah-burgoyne-north-american-invitational/
LOCATION:Benjamin F. Yack Recreation Center\, 3131 3rd Street\, Wyandotte\, MI\, 48192\, United States
CATEGORIES:Calendar Event,Competition
ORGANIZER;CN="Wyandotte Figure Skating Club":MAILTO:wyandotteskater@msn.com
END:VEVENT
END:VCALENDAR