BEGIN:VCALENDAR
VERSION:2.0
PRODID:-//Charleston Figure Skating Club - ECPv6.15.20//NONSGML v1.0//EN
CALSCALE:GREGORIAN
METHOD:PUBLISH
X-WR-CALNAME:Charleston Figure Skating Club
X-ORIGINAL-URL:https://charlestonfsc.com
X-WR-CALDESC:Events for Charleston Figure Skating Club
REFRESH-INTERVAL;VALUE=DURATION:PT1H
X-Robots-Tag:noindex
X-PUBLISHED-TTL:PT1H
BEGIN:VTIMEZONE
TZID:America/Kentucky/Louisville
BEGIN:DAYLIGHT
TZOFFSETFROM:-0500
TZOFFSETTO:-0400
TZNAME:EDT
DTSTART:20240310T070000
END:DAYLIGHT
BEGIN:STANDARD
TZOFFSETFROM:-0400
TZOFFSETTO:-0500
TZNAME:EST
DTSTART:20241103T060000
END:STANDARD
BEGIN:DAYLIGHT
TZOFFSETFROM:-0500
TZOFFSETTO:-0400
TZNAME:EDT
DTSTART:20250309T070000
END:DAYLIGHT
BEGIN:STANDARD
TZOFFSETFROM:-0400
TZOFFSETTO:-0500
TZNAME:EST
DTSTART:20251102T060000
END:STANDARD
BEGIN:DAYLIGHT
TZOFFSETFROM:-0500
TZOFFSETTO:-0400
TZNAME:EDT
DTSTART:20260308T070000
END:DAYLIGHT
BEGIN:STANDARD
TZOFFSETFROM:-0400
TZOFFSETTO:-0500
TZNAME:EST
DTSTART:20261101T060000
END:STANDARD
BEGIN:DAYLIGHT
TZOFFSETFROM:-0500
TZOFFSETTO:-0400
TZNAME:EDT
DTSTART:20270314T070000
END:DAYLIGHT
BEGIN:STANDARD
TZOFFSETFROM:-0400
TZOFFSETTO:-0500
TZNAME:EST
DTSTART:20271107T060000
END:STANDARD
END:VTIMEZONE
BEGIN:VEVENT
DTSTART;TZID=America/Kentucky/Louisville:20251219T193000
DTEND;TZID=America/Kentucky/Louisville:20251219T200000
DTSTAMP:20260423T072127
CREATED:20251113T205843Z
LAST-MODIFIED:20251113T205843Z
UID:5946-1766172600-1766174400@charlestonfsc.com
SUMMARY:Skating Show at Canaan Valley Resort
DESCRIPTION:
URL:https://charlestonfsc.com/event/skating-show-at-canaan-valley-resort-7/
LOCATION:Canaan Valley Resort State Park\, 230 Main Lodge Rd.\, Davis\, WV\, 26260\, United States
CATEGORIES:Calendar Event,Show
ORGANIZER;CN="CFSC":MAILTO:charlestonfscwv@gmail.com
END:VEVENT
BEGIN:VEVENT
DTSTART;TZID=America/Kentucky/Louisville:20251220T140000
DTEND;TZID=America/Kentucky/Louisville:20251220T150000
DTSTAMP:20260423T072127
CREATED:20251113T205945Z
LAST-MODIFIED:20251113T210215Z
UID:5948-1766239200-1766242800@charlestonfsc.com
SUMMARY:Skating Show at Canaan Valley Resort
DESCRIPTION:
URL:https://charlestonfsc.com/event/skating-show-at-canaan-valley-resort-8/
LOCATION:Canaan Valley Resort State Park\, 230 Main Lodge Rd.\, Davis\, WV\, 26260\, United States
CATEGORIES:Calendar Event,Show
ORGANIZER;CN="CFSC":MAILTO:charlestonfscwv@gmail.com
END:VEVENT
BEGIN:VEVENT
DTSTART;TZID=America/Kentucky/Louisville:20251220T190000
DTEND;TZID=America/Kentucky/Louisville:20251220T200000
DTSTAMP:20260423T072127
CREATED:20251113T210247Z
LAST-MODIFIED:20251113T210247Z
UID:5950-1766257200-1766260800@charlestonfsc.com
SUMMARY:Skating Show at Canaan Valley Resort
DESCRIPTION:
URL:https://charlestonfsc.com/event/skating-show-at-canaan-valley-resort-9/
LOCATION:Canaan Valley Resort State Park\, 230 Main Lodge Rd.\, Davis\, WV\, 26260\, United States
CATEGORIES:Calendar Event,Show
ORGANIZER;CN="CFSC":MAILTO:charlestonfscwv@gmail.com
END:VEVENT
BEGIN:VEVENT
DTSTART;TZID=America/Kentucky/Louisville:20260123T190000
DTEND;TZID=America/Kentucky/Louisville:20260123T200000
DTSTAMP:20260423T072127
CREATED:20251113T210452Z
LAST-MODIFIED:20251113T210452Z
UID:5952-1769194800-1769198400@charlestonfsc.com
SUMMARY:Skating Show at Canaan Valley Resort
DESCRIPTION:
URL:https://charlestonfsc.com/event/skating-show-at-canaan-valley-resort-10/
LOCATION:Canaan Valley Resort State Park\, 230 Main Lodge Rd.\, Davis\, WV\, 26260\, United States
CATEGORIES:Calendar Event,Show
ORGANIZER;CN="CFSC":MAILTO:charlestonfscwv@gmail.com
END:VEVENT
BEGIN:VEVENT
DTSTART;TZID=America/Kentucky/Louisville:20260124T140000
DTEND;TZID=America/Kentucky/Louisville:20260124T150000
DTSTAMP:20260423T072127
CREATED:20251113T210540Z
LAST-MODIFIED:20251113T210540Z
UID:5954-1769263200-1769266800@charlestonfsc.com
SUMMARY:Skating Show at Canaan Valley Resort
DESCRIPTION:
URL:https://charlestonfsc.com/event/skating-show-at-canaan-valley-resort-11/
LOCATION:Canaan Valley Resort State Park\, 230 Main Lodge Rd.\, Davis\, WV\, 26260\, United States
CATEGORIES:Calendar Event,Show
ORGANIZER;CN="CFSC":MAILTO:charlestonfscwv@gmail.com
END:VEVENT
BEGIN:VEVENT
DTSTART;TZID=America/Kentucky/Louisville:20260124T190000
DTEND;TZID=America/Kentucky/Louisville:20260124T200000
DTSTAMP:20260423T072127
CREATED:20251113T210651Z
LAST-MODIFIED:20251113T210651Z
UID:5956-1769281200-1769284800@charlestonfsc.com
SUMMARY:Skating Show at Canaan Valley Resort
DESCRIPTION:
URL:https://charlestonfsc.com/event/skating-show-at-canaan-valley-resort-12/
LOCATION:Canaan Valley Resort State Park\, 230 Main Lodge Rd.\, Davis\, WV\, 26260\, United States
CATEGORIES:Calendar Event,Show
ORGANIZER;CN="CFSC":MAILTO:charlestonfscwv@gmail.com
END:VEVENT
BEGIN:VEVENT
DTSTART;TZID=America/Kentucky/Louisville:20260220T190000
DTEND;TZID=America/Kentucky/Louisville:20260220T200000
DTSTAMP:20260423T072127
CREATED:20251113T210752Z
LAST-MODIFIED:20251113T210752Z
UID:5958-1771614000-1771617600@charlestonfsc.com
SUMMARY:Skating Show at Canaan Valley Resort
DESCRIPTION:
URL:https://charlestonfsc.com/event/skating-show-at-canaan-valley-resort-13/
LOCATION:Canaan Valley Resort State Park\, 230 Main Lodge Rd.\, Davis\, WV\, 26260\, United States
CATEGORIES:Calendar Event,Show
ORGANIZER;CN="CFSC":MAILTO:charlestonfscwv@gmail.com
END:VEVENT
BEGIN:VEVENT
DTSTART;TZID=America/Kentucky/Louisville:20260221T140000
DTEND;TZID=America/Kentucky/Louisville:20260221T150000
DTSTAMP:20260423T072127
CREATED:20251113T210831Z
LAST-MODIFIED:20251113T210831Z
UID:5960-1771682400-1771686000@charlestonfsc.com
SUMMARY:Skating Show at Canaan Valley Resort
DESCRIPTION:
URL:https://charlestonfsc.com/event/skating-show-at-canaan-valley-resort-14/
LOCATION:Canaan Valley Resort State Park\, 230 Main Lodge Rd.\, Davis\, WV\, 26260\, United States
CATEGORIES:Calendar Event,Show
ORGANIZER;CN="CFSC":MAILTO:charlestonfscwv@gmail.com
END:VEVENT
BEGIN:VEVENT
DTSTART;TZID=America/Kentucky/Louisville:20260221T190000
DTEND;TZID=America/Kentucky/Louisville:20260221T200000
DTSTAMP:20260423T072127
CREATED:20251113T210917Z
LAST-MODIFIED:20251113T210917Z
UID:5962-1771700400-1771704000@charlestonfsc.com
SUMMARY:Skating Show at Canaan Valley Resort
DESCRIPTION:
URL:https://charlestonfsc.com/event/skating-show-at-canaan-valley-resort-15/
LOCATION:Canaan Valley Resort State Park\, 230 Main Lodge Rd.\, Davis\, WV\, 26260\, United States
CATEGORIES:Calendar Event,Show
ORGANIZER;CN="CFSC":MAILTO:charlestonfscwv@gmail.com
END:VEVENT
BEGIN:VEVENT
DTSTART;TZID=America/Kentucky/Louisville:20260313T190000
DTEND;TZID=America/Kentucky/Louisville:20260313T200000
DTSTAMP:20260423T072127
CREATED:20251113T211010Z
LAST-MODIFIED:20251113T211010Z
UID:5964-1773428400-1773432000@charlestonfsc.com
SUMMARY:Skating Show at Canaan Valley Resort
DESCRIPTION:
URL:https://charlestonfsc.com/event/skating-show-at-canaan-valley-resort-16/
LOCATION:Canaan Valley Resort State Park\, 230 Main Lodge Rd.\, Davis\, WV\, 26260\, United States
CATEGORIES:Calendar Event,Show
ORGANIZER;CN="CFSC":MAILTO:charlestonfscwv@gmail.com
END:VEVENT
BEGIN:VEVENT
DTSTART;TZID=America/Kentucky/Louisville:20260314T140000
DTEND;TZID=America/Kentucky/Louisville:20260314T150000
DTSTAMP:20260423T072127
CREATED:20251113T211041Z
LAST-MODIFIED:20251113T211041Z
UID:5966-1773496800-1773500400@charlestonfsc.com
SUMMARY:Skating Show at Canaan Valley Resort
DESCRIPTION:
URL:https://charlestonfsc.com/event/skating-show-at-canaan-valley-resort-17/
LOCATION:Canaan Valley Resort State Park\, 230 Main Lodge Rd.\, Davis\, WV\, 26260\, United States
CATEGORIES:Calendar Event,Show
ORGANIZER;CN="CFSC":MAILTO:charlestonfscwv@gmail.com
END:VEVENT
BEGIN:VEVENT
DTSTART;TZID=America/Kentucky/Louisville:20260314T190000
DTEND;TZID=America/Kentucky/Louisville:20260314T200000
DTSTAMP:20260423T072127
CREATED:20251113T211121Z
LAST-MODIFIED:20251113T211121Z
UID:5968-1773514800-1773518400@charlestonfsc.com
SUMMARY:Skating Show at Canaan Valley Resort
DESCRIPTION:
URL:https://charlestonfsc.com/event/skating-show-at-canaan-valley-resort-18/
LOCATION:Canaan Valley Resort State Park\, 230 Main Lodge Rd.\, Davis\, WV\, 26260\, United States
CATEGORIES:Calendar Event,Show
ORGANIZER;CN="CFSC":MAILTO:charlestonfscwv@gmail.com
END:VEVENT
END:VCALENDAR