BEGIN:VCALENDAR
VERSION:2.0
PRODID:-//Charleston Figure Skating Club - ECPv6.15.20//NONSGML v1.0//EN
CALSCALE:GREGORIAN
METHOD:PUBLISH
X-WR-CALNAME:Charleston Figure Skating Club
X-ORIGINAL-URL:https://charlestonfsc.com
X-WR-CALDESC:Events for Charleston Figure Skating Club
REFRESH-INTERVAL;VALUE=DURATION:PT1H
X-Robots-Tag:noindex
X-PUBLISHED-TTL:PT1H
BEGIN:VTIMEZONE
TZID:America/Kentucky/Louisville
BEGIN:DAYLIGHT
TZOFFSETFROM:-0500
TZOFFSETTO:-0400
TZNAME:EDT
DTSTART:20250309T070000
END:DAYLIGHT
BEGIN:STANDARD
TZOFFSETFROM:-0400
TZOFFSETTO:-0500
TZNAME:EST
DTSTART:20251102T060000
END:STANDARD
BEGIN:DAYLIGHT
TZOFFSETFROM:-0500
TZOFFSETTO:-0400
TZNAME:EDT
DTSTART:20260308T070000
END:DAYLIGHT
BEGIN:STANDARD
TZOFFSETFROM:-0400
TZOFFSETTO:-0500
TZNAME:EST
DTSTART:20261101T060000
END:STANDARD
BEGIN:DAYLIGHT
TZOFFSETFROM:-0500
TZOFFSETTO:-0400
TZNAME:EDT
DTSTART:20270314T070000
END:DAYLIGHT
BEGIN:STANDARD
TZOFFSETFROM:-0400
TZOFFSETTO:-0500
TZNAME:EST
DTSTART:20271107T060000
END:STANDARD
END:VTIMEZONE
BEGIN:VEVENT
DTSTART;TZID=America/Kentucky/Louisville:20260509T000000
DTEND;TZID=America/Kentucky/Louisville:20260509T235959
DTSTAMP:20260422T183716
CREATED:20251223T145617Z
LAST-MODIFIED:20251223T145617Z
UID:6127-1778284800-1778371199@charlestonfsc.com
SUMMARY:Registration Deadline for Chesapeake Open
DESCRIPTION:Solo Dance Series\, Excel Free Skate (non-series)\, Well Balanced Events\, Adult Free Skate\, Partnered Ice Dance\, Adult Solo Dance\, Compete USA
URL:https://charlestonfsc.com/event/registration-deadline-for-chesapeake-open-2/
LOCATION:The Gardens Ice House\, 13800 Old Gunpowder Rd\, Laurel\, MD\, 20707\, United States
CATEGORIES:Calendar Event,Competition
ORGANIZER;CN="Baltimore Figure Skating Club":MAILTO:info@baltimorefigureskatingclub.com
END:VEVENT
BEGIN:VEVENT
DTSTART;TZID=America/Kentucky/Louisville:20260514T000000
DTEND;TZID=America/Kentucky/Louisville:20260517T235959
DTSTAMP:20260422T183716
CREATED:20260220T151408Z
LAST-MODIFIED:20260220T151408Z
UID:6196-1778716800-1779062399@charlestonfsc.com
SUMMARY:42nd Margaret Faulkner Springtime Invitational
DESCRIPTION:Excel Series\, Well Balanced Events\, Adult Free Skate\, Pairs\, Partnered Ice Dance\, Aspire\, Athlete Development\, Showcase\, Solo Dance (non-series)
URL:https://charlestonfsc.com/event/42nd-margaret-faulkner-springtime-invitational/
LOCATION:VA
CATEGORIES:Calendar Event,Competition
END:VEVENT
BEGIN:VEVENT
DTSTART;TZID=America/Kentucky/Louisville:20260515T000000
DTEND;TZID=America/Kentucky/Louisville:20260517T235959
DTSTAMP:20260422T183716
CREATED:20251223T145534Z
LAST-MODIFIED:20251223T145534Z
UID:6122-1778803200-1779062399@charlestonfsc.com
SUMMARY:Central Carolina Skating Classic
DESCRIPTION:Excel Series\, Well Balanced\, Adaptive\, Adult\, Aspire\, Compete USA\, Showcase
URL:https://charlestonfsc.com/event/central-carolina-skating-classic-2/
LOCATION:Orange County Sportsplex\, 101 Meadowlands Dr.\, Hillsborough\, NC\, 27278\, United States
CATEGORIES:Calendar Event,Competition
END:VEVENT
BEGIN:VEVENT
DTSTART;TZID=America/Kentucky/Louisville:20260523T000000
DTEND;TZID=America/Kentucky/Louisville:20260524T235959
DTSTAMP:20260422T183716
CREATED:20260220T151412Z
LAST-MODIFIED:20260220T151412Z
UID:6199-1779494400-1779667199@charlestonfsc.com
SUMMARY:White Rose Invitational
DESCRIPTION:Excel Series\, Well Balanced Events\, Adult Free Skate\, Partnered Ice Dance\, Adult Partnered Ice Dance\, Athlete Development\, Showcase\, Solo Dance (non-series)\, Compete USA
URL:https://charlestonfsc.com/event/white-rose-invitational-2/
LOCATION:York Ice Arena at Memorial Park\, 941 S. Vander Ave.\, York\, PA\, 17403\, United States
CATEGORIES:Calendar Event,Competition
ORGANIZER;CN="White Rose Figure Skating Club":MAILTO:WhiteRoseFSCcontact@gmail.com
END:VEVENT
BEGIN:VEVENT
DTSTART;TZID=America/Kentucky/Louisville:20260529T000000
DTEND;TZID=America/Kentucky/Louisville:20260531T235959
DTSTAMP:20260422T183716
CREATED:20251223T145616Z
LAST-MODIFIED:20251223T145616Z
UID:6126-1780012800-1780271999@charlestonfsc.com
SUMMARY:Metro Indy Skating Challenge
DESCRIPTION:Excel Series\, Well Balanced Events\, Adult Free Skate\, Athlete Development\, Showcase\, Compete USA
URL:https://charlestonfsc.com/event/metro-indy-skating-challenge-2/
LOCATION:Carmel Ice Skadium\, 1040 3rd Avenue SW\, Carmel\, IN\, 46032\, United States
CATEGORIES:Calendar Event,Competition
ORGANIZER;CN="Ice Skating Club of Indianapolis":MAILTO:iscicarmel@gmail.com
END:VEVENT
BEGIN:VEVENT
DTSTART;TZID=America/Kentucky/Louisville:20260529T000000
DTEND;TZID=America/Kentucky/Louisville:20260531T235959
DTSTAMP:20260422T183716
CREATED:20260220T151411Z
LAST-MODIFIED:20260220T151411Z
UID:6198-1780012800-1780271999@charlestonfsc.com
SUMMARY:Cardinal Classic
DESCRIPTION:Excel Series\, Well Balanced Events\, Adult Free Skate\, Adult Pairs\, Showcase\, Compete USA\, Adaptive
URL:https://charlestonfsc.com/event/cardinal-classic-2/
LOCATION:Prince William Ice Center\, 5180 Dale Blvd\, Woodbridge\, VA\, 22193\, United States
CATEGORIES:Calendar Event,Competition
ORGANIZER;CN="Skating Club of Northern Virginia":MAILTO:president@scnv.org
END:VEVENT
BEGIN:VEVENT
DTSTART;TZID=America/Kentucky/Louisville:20260625T000000
DTEND;TZID=America/Kentucky/Louisville:20260628T235959
DTSTAMP:20260422T183716
CREATED:20251223T145618Z
LAST-MODIFIED:20251223T145618Z
UID:6128-1782345600-1782691199@charlestonfsc.com
SUMMARY:Chesapeake Open
DESCRIPTION:Solo Dance Series\, Excel Free Skate (non-series)\, Well Balanced Events\, Adult Free Skate\, Partnered Ice Dance\, Adult Solo Dance\, Compete USA
URL:https://charlestonfsc.com/event/chesapeake-open-2/
LOCATION:The Gardens Ice House\, 13800 Old Gunpowder Rd\, Laurel\, MD\, 20707\, United States
CATEGORIES:Calendar Event,Competition
ORGANIZER;CN="Baltimore Figure Skating Club":MAILTO:info@baltimorefigureskatingclub.com
END:VEVENT
END:VCALENDAR