BEGIN:VCALENDAR
VERSION:2.0
PRODID:-//Charleston Figure Skating Club - ECPv6.15.20//NONSGML v1.0//EN
CALSCALE:GREGORIAN
METHOD:PUBLISH
X-ORIGINAL-URL:https://charlestonfsc.com
X-WR-CALDESC:Events for Charleston Figure Skating Club
REFRESH-INTERVAL;VALUE=DURATION:PT1H
X-Robots-Tag:noindex
X-PUBLISHED-TTL:PT1H
BEGIN:VTIMEZONE
TZID:America/Kentucky/Louisville
BEGIN:DAYLIGHT
TZOFFSETFROM:-0500
TZOFFSETTO:-0400
TZNAME:EDT
DTSTART:20250309T070000
END:DAYLIGHT
BEGIN:STANDARD
TZOFFSETFROM:-0400
TZOFFSETTO:-0500
TZNAME:EST
DTSTART:20251102T060000
END:STANDARD
BEGIN:DAYLIGHT
TZOFFSETFROM:-0500
TZOFFSETTO:-0400
TZNAME:EDT
DTSTART:20260308T070000
END:DAYLIGHT
BEGIN:STANDARD
TZOFFSETFROM:-0400
TZOFFSETTO:-0500
TZNAME:EST
DTSTART:20261101T060000
END:STANDARD
BEGIN:DAYLIGHT
TZOFFSETFROM:-0500
TZOFFSETTO:-0400
TZNAME:EDT
DTSTART:20270314T070000
END:DAYLIGHT
BEGIN:STANDARD
TZOFFSETFROM:-0400
TZOFFSETTO:-0500
TZNAME:EST
DTSTART:20271107T060000
END:STANDARD
END:VTIMEZONE
BEGIN:VEVENT
DTSTART;TZID=America/Kentucky/Louisville:20260315T180000
DTEND;TZID=America/Kentucky/Louisville:20260315T200000
DTSTAMP:20260422T185612
CREATED:20251103T212114Z
LAST-MODIFIED:20251103T212114Z
UID:5807-1773597600-1773604800@charlestonfsc.com
SUMMARY:Freestyle Session
DESCRIPTION:$10 per hour
URL:https://charlestonfsc.com/event/freestyle-session-159/
LOCATION:<span class='tooltipsall tooltip_post_id_473 classtoolTips473'>SCMIA</span>\, 20 RHL Blvd\, South Charleston\, WV\, 25309\, United States
CATEGORIES:Calendar Event
ORGANIZER;CN="CFSC":MAILTO:charlestonfscwv@gmail.com
END:VEVENT
BEGIN:VEVENT
DTSTART;TZID=America/Kentucky/Louisville:20260316T000000
DTEND;TZID=America/Kentucky/Louisville:20260316T235959
DTSTAMP:20260422T185612
CREATED:20260220T151343Z
LAST-MODIFIED:20260220T151343Z
UID:6189-1773619200-1773705599@charlestonfsc.com
SUMMARY:Registration Deadline for Spring Fling
DESCRIPTION:Excel Series\, Well Balanced events\, Adult Free Skate\, Compulsory Moves\, Compete USA
URL:https://charlestonfsc.com/event/registration-deadline-for-spring-fling-2/
LOCATION:Winterhurst Ice Arena\, 14740 Lakewood Heights Blvd\, Lakewood\, OH\, 44107\, United States
CATEGORIES:Calendar Event,Competition
ORGANIZER;CN="Winterhurst Figure Skating Club":MAILTO:winterhurstfsc@gmail.com
END:VEVENT
BEGIN:VEVENT
DTSTART;TZID=America/Kentucky/Louisville:20260318T000000
DTEND;TZID=America/Kentucky/Louisville:20260318T235959
DTSTAMP:20260422T185612
CREATED:20260220T151341Z
LAST-MODIFIED:20260220T151341Z
UID:6187-1773792000-1773878399@charlestonfsc.com
SUMMARY:Registration Deadline for Skate Nashville
DESCRIPTION:Excel Series\, Solo Dance Series\, Well Balanced Events\, Adult Free Skate\, Pairs\, Adult Pairs\, Athlete Development\, Showcase\, Compete USA\, Adaptive
URL:https://charlestonfsc.com/event/registration-deadline-for-skate-nashville-2/
LOCATION:Centennial Sportsplex\, 222 25th Ave. N\, Nashville\, TN\, 37209\, United States
CATEGORIES:Calendar Event,Competition
ORGANIZER;CN="Nashville Figure Skating Club":MAILTO:nashvilleskatingacademy@gmail.com
END:VEVENT
BEGIN:VEVENT
DTSTART;TZID=America/Kentucky/Louisville:20260318T171500
DTEND;TZID=America/Kentucky/Louisville:20260318T194500
DTSTAMP:20260422T185612
CREATED:20251103T213658Z
LAST-MODIFIED:20251103T213658Z
UID:5860-1773854100-1773863100@charlestonfsc.com
SUMMARY:Club Ice Session
DESCRIPTION:$10 per hour
URL:https://charlestonfsc.com/event/club-ice-session-58/
LOCATION:<span class='tooltipsall tooltip_post_id_473 classtoolTips473'>SCMIA</span>\, 20 RHL Blvd\, South Charleston\, WV\, 25309\, United States
CATEGORIES:Calendar Event
ORGANIZER;CN="CFSC":MAILTO:charlestonfscwv@gmail.com
END:VEVENT
BEGIN:VEVENT
DTSTART;TZID=America/Kentucky/Louisville:20260320T000000
DTEND;TZID=America/Kentucky/Louisville:20260320T235959
DTSTAMP:20260422T185612
CREATED:20260220T151353Z
LAST-MODIFIED:20260220T151353Z
UID:6191-1773964800-1774051199@charlestonfsc.com
SUMMARY:Registration Deadline for 2026 Tri-State Memorial Figure Skating Competition
DESCRIPTION:Excel Series\, Well Balanced Events\, Adult Free Skate\, Athlete Development\, Showcase\, Compete USA
URL:https://charlestonfsc.com/event/registration-deadline-for-2026-tri-state-memorial-figure-skating-competition/
LOCATION:Arctic Edge Ice Arena\, 46615 Michigan Avenue\, Canton\, MI\, 48188\, United States
CATEGORIES:Calendar Event,Competition
ORGANIZER;CN="Arctic Figure Skating Club":MAILTO:arcticfsclub@gmail.com
END:VEVENT
BEGIN:VEVENT
DTSTART;TZID=America/Kentucky/Louisville:20260320T000000
DTEND;TZID=America/Kentucky/Louisville:20260322T235959
DTSTAMP:20260422T185612
CREATED:20251223T145518Z
LAST-MODIFIED:20251223T145518Z
UID:6116-1773964800-1774223999@charlestonfsc.com
SUMMARY:Louisville Skating Academy SEGL Spring Invitational
DESCRIPTION:Excel Series\, Well Balanced Events\, Adult Free Skate\, Athlete Development\, Showcase\, Adult Showcase\, Solo Dance Events\, Adult Solo Dance Events\, Compete USA\, Adaptive
URL:https://charlestonfsc.com/event/louisville-skating-academy-segl-spring-invitational/
LOCATION:Iceland Sports Complex\, 1701 UPS Drive\, Louisville\, KY\, 40223\, United States
CATEGORIES:Calendar Event,Competition
ORGANIZER;CN="Louisville Skating Academy":MAILTO:lsask8director@gmail.com
END:VEVENT
BEGIN:VEVENT
DTSTART;TZID=America/Kentucky/Louisville:20260320T000000
DTEND;TZID=America/Kentucky/Louisville:20260322T235959
DTSTAMP:20260422T185612
CREATED:20260220T151340Z
LAST-MODIFIED:20260220T151340Z
UID:6186-1773964800-1774223999@charlestonfsc.com
SUMMARY:Cleveland Invitational Championships
DESCRIPTION:Excel Series\, Well balanced events\, Adult Free Skate\, Athlete Development\, Adult Specialty\, Showcase\, CompeteUSA
URL:https://charlestonfsc.com/event/cleveland-invitational-championships-2/
LOCATION:Michael A. Ries Rink\, 5000 Forestwood Dr.\, Parma\, OH\, 44134\, United States
CATEGORIES:Calendar Event,Competition
ORGANIZER;CN="Forestwood Skating Club of Parma":MAILTO:support@forestwoodskatingclub.com
END:VEVENT
BEGIN:VEVENT
DTSTART;TZID=America/Kentucky/Louisville:20260321T090000
DTEND;TZID=America/Kentucky/Louisville:20260321T110000
DTSTAMP:20260422T185612
CREATED:20251103T211228Z
LAST-MODIFIED:20251103T211228Z
UID:5755-1774083600-1774090800@charlestonfsc.com
SUMMARY:Freestyle Session
DESCRIPTION:$10 per hour
URL:https://charlestonfsc.com/event/freestyle-session-108/
LOCATION:<span class='tooltipsall tooltip_post_id_473 classtoolTips473'>SCMIA</span>\, 20 RHL Blvd\, South Charleston\, WV\, 25309\, United States
CATEGORIES:Calendar Event
ORGANIZER;CN="CFSC":MAILTO:charlestonfscwv@gmail.com
END:VEVENT
BEGIN:VEVENT
DTSTART;TZID=America/Kentucky/Louisville:20260322T180000
DTEND;TZID=America/Kentucky/Louisville:20260322T200000
DTSTAMP:20260422T185612
CREATED:20251103T212115Z
LAST-MODIFIED:20251103T212115Z
UID:5808-1774202400-1774209600@charlestonfsc.com
SUMMARY:Freestyle Session
DESCRIPTION:$10 per hour
URL:https://charlestonfsc.com/event/freestyle-session-160/
LOCATION:<span class='tooltipsall tooltip_post_id_473 classtoolTips473'>SCMIA</span>\, 20 RHL Blvd\, South Charleston\, WV\, 25309\, United States
CATEGORIES:Calendar Event
ORGANIZER;CN="CFSC":MAILTO:charlestonfscwv@gmail.com
END:VEVENT
BEGIN:VEVENT
DTSTART;TZID=America/Kentucky/Louisville:20260324T000000
DTEND;TZID=America/Kentucky/Louisville:20260324T235959
DTSTAMP:20260422T185612
CREATED:20251223T145519Z
LAST-MODIFIED:20251223T145519Z
UID:6117-1774310400-1774396799@charlestonfsc.com
SUMMARY:Registration Deadline for CRC Kickoff
DESCRIPTION:Excel Series\, Well Balanced Events\, Adult Free Skate\, Athlete Development\, Showcase\, Solo Dance\, Adult Solo Dance\, Compete USA\, Adaptive
URL:https://charlestonfsc.com/event/registration-deadline-for-crc-kickoff-2/
LOCATION:Chilled Ponds Ice Sports Complex\, 1416 Stephanie Way\, Chesapeake\, VA\, 23320\, United States
CATEGORIES:Calendar Event,Competition
ORGANIZER;CN="Tidewater Figure Skating Club":MAILTO:Tidewaterfsc@gmail.com
END:VEVENT
BEGIN:VEVENT
DTSTART;TZID=America/Kentucky/Louisville:20260325T171500
DTEND;TZID=America/Kentucky/Louisville:20260325T194500
DTSTAMP:20260422T185612
CREATED:20251103T213659Z
LAST-MODIFIED:20251103T213659Z
UID:5861-1774458900-1774467900@charlestonfsc.com
SUMMARY:Club Ice Session
DESCRIPTION:$10 per hour
URL:https://charlestonfsc.com/event/club-ice-session-59/
LOCATION:<span class='tooltipsall tooltip_post_id_473 classtoolTips473'>SCMIA</span>\, 20 RHL Blvd\, South Charleston\, WV\, 25309\, United States
CATEGORIES:Calendar Event
ORGANIZER;CN="CFSC":MAILTO:charlestonfscwv@gmail.com
END:VEVENT
BEGIN:VEVENT
DTSTART;TZID=America/Kentucky/Louisville:20260327T000000
DTEND;TZID=America/Kentucky/Louisville:20260327T235959
DTSTAMP:20260422T185612
CREATED:20260220T151354Z
LAST-MODIFIED:20260220T151354Z
UID:6193-1774569600-1774655999@charlestonfsc.com
SUMMARY:Registration Deadline for Three Rivers Spring Skate
DESCRIPTION:Excel Series\, Well Balanced Events\, Adult Free Skate\, Athlete Development\, Compete USA
URL:https://charlestonfsc.com/event/registration-deadline-for-three-rivers-spring-skate-2/
LOCATION:Mt. Lebanon Recreation Center\, 900 Cedar Blvd.\, Mt. Lebanon\, PA\, 15228\, United States
CATEGORIES:Calendar Event,Competition
ORGANIZER;CN="Skating Club of Mt. Lebanon":MAILTO:scofmtlebanon@gmail.com
END:VEVENT
BEGIN:VEVENT
DTSTART;TZID=America/Kentucky/Louisville:20260328T090000
DTEND;TZID=America/Kentucky/Louisville:20260328T110000
DTSTAMP:20260422T185612
CREATED:20251103T211229Z
LAST-MODIFIED:20251103T211229Z
UID:5756-1774688400-1774695600@charlestonfsc.com
SUMMARY:Freestyle Session
DESCRIPTION:$10 per hour
URL:https://charlestonfsc.com/event/freestyle-session-109/
LOCATION:<span class='tooltipsall tooltip_post_id_473 classtoolTips473'>SCMIA</span>\, 20 RHL Blvd\, South Charleston\, WV\, 25309\, United States
CATEGORIES:Calendar Event
ORGANIZER;CN="CFSC":MAILTO:charlestonfscwv@gmail.com
END:VEVENT
BEGIN:VEVENT
DTSTART;TZID=America/Kentucky/Louisville:20260329T000000
DTEND;TZID=America/Kentucky/Louisville:20260329T235959
DTSTAMP:20260422T185612
CREATED:20251223T145531Z
LAST-MODIFIED:20251223T145531Z
UID:6119-1774742400-1774828799@charlestonfsc.com
SUMMARY:Registration Deadline for Picken Dance Classic
DESCRIPTION:Solo Dance Series\, Partnered Ice Dance
URL:https://charlestonfsc.com/event/registration-deadline-for-picken-dance-classic-2/
LOCATION:SkateQuest\, 1800 Michael Faraday Ct\, Reston\, VA\, 20190\, United States
CATEGORIES:Calendar Event,Competition
END:VEVENT
BEGIN:VEVENT
DTSTART;TZID=America/Kentucky/Louisville:20260329T180000
DTEND;TZID=America/Kentucky/Louisville:20260329T200000
DTSTAMP:20260422T185612
CREATED:20251103T212116Z
LAST-MODIFIED:20251103T212116Z
UID:5809-1774807200-1774814400@charlestonfsc.com
SUMMARY:Freestyle Session
DESCRIPTION:$10 per hour
URL:https://charlestonfsc.com/event/freestyle-session-161/
LOCATION:<span class='tooltipsall tooltip_post_id_473 classtoolTips473'>SCMIA</span>\, 20 RHL Blvd\, South Charleston\, WV\, 25309\, United States
CATEGORIES:Calendar Event
ORGANIZER;CN="CFSC":MAILTO:charlestonfscwv@gmail.com
END:VEVENT
BEGIN:VEVENT
DTSTART;TZID=America/Kentucky/Louisville:20260401T000000
DTEND;TZID=America/Kentucky/Louisville:20260401T235959
DTSTAMP:20260422T185612
CREATED:20260220T151406Z
LAST-MODIFIED:20260220T151406Z
UID:6195-1775001600-1775087999@charlestonfsc.com
SUMMARY:Registration Deadline for 42nd Margaret Faulkner Springtime Invitational
DESCRIPTION:Excel Series\, Well Balanced Events\, Adult Free Skate\, Pairs\, Partnered Ice Dance\, Aspire\, Athlete Development\, Showcase\, Solo Dance (non-series)
URL:https://charlestonfsc.com/event/registration-deadline-for-42nd-margaret-faulkner-springtime-invitational/
LOCATION:WV
CATEGORIES:Calendar Event,Competition
END:VEVENT
BEGIN:VEVENT
DTSTART;TZID=America/Kentucky/Louisville:20260401T171500
DTEND;TZID=America/Kentucky/Louisville:20260401T194500
DTSTAMP:20260422T185612
CREATED:20251103T213700Z
LAST-MODIFIED:20251103T213700Z
UID:5862-1775063700-1775072700@charlestonfsc.com
SUMMARY:Club Ice Session
DESCRIPTION:$10 per hour
URL:https://charlestonfsc.com/event/club-ice-session-60/
LOCATION:<span class='tooltipsall tooltip_post_id_473 classtoolTips473'>SCMIA</span>\, 20 RHL Blvd\, South Charleston\, WV\, 25309\, United States
CATEGORIES:Calendar Event
ORGANIZER;CN="CFSC":MAILTO:charlestonfscwv@gmail.com
END:VEVENT
BEGIN:VEVENT
DTSTART;TZID=America/Kentucky/Louisville:20260404T090000
DTEND;TZID=America/Kentucky/Louisville:20260404T110000
DTSTAMP:20260422T185612
CREATED:20251103T211230Z
LAST-MODIFIED:20251103T211230Z
UID:5757-1775293200-1775300400@charlestonfsc.com
SUMMARY:Freestyle Session
DESCRIPTION:$10 per hour
URL:https://charlestonfsc.com/event/freestyle-session-110/
LOCATION:<span class='tooltipsall tooltip_post_id_473 classtoolTips473'>SCMIA</span>\, 20 RHL Blvd\, South Charleston\, WV\, 25309\, United States
CATEGORIES:Calendar Event
ORGANIZER;CN="CFSC":MAILTO:charlestonfscwv@gmail.com
END:VEVENT
BEGIN:VEVENT
DTSTART;TZID=America/Kentucky/Louisville:20260405T180000
DTEND;TZID=America/Kentucky/Louisville:20260405T200000
DTSTAMP:20260422T185612
CREATED:20251103T212117Z
LAST-MODIFIED:20251103T212117Z
UID:5810-1775412000-1775419200@charlestonfsc.com
SUMMARY:Freestyle Session
DESCRIPTION:$10 per hour
URL:https://charlestonfsc.com/event/freestyle-session-162/
LOCATION:<span class='tooltipsall tooltip_post_id_473 classtoolTips473'>SCMIA</span>\, 20 RHL Blvd\, South Charleston\, WV\, 25309\, United States
CATEGORIES:Calendar Event
ORGANIZER;CN="CFSC":MAILTO:charlestonfscwv@gmail.com
END:VEVENT
BEGIN:VEVENT
DTSTART;TZID=America/Kentucky/Louisville:20260408T171500
DTEND;TZID=America/Kentucky/Louisville:20260408T194500
DTSTAMP:20260422T185612
CREATED:20251103T213701Z
LAST-MODIFIED:20251103T213701Z
UID:5863-1775668500-1775677500@charlestonfsc.com
SUMMARY:Club Ice Session
DESCRIPTION:$10 per hour
URL:https://charlestonfsc.com/event/club-ice-session-61/
LOCATION:<span class='tooltipsall tooltip_post_id_473 classtoolTips473'>SCMIA</span>\, 20 RHL Blvd\, South Charleston\, WV\, 25309\, United States
CATEGORIES:Calendar Event
ORGANIZER;CN="CFSC":MAILTO:charlestonfscwv@gmail.com
END:VEVENT
BEGIN:VEVENT
DTSTART;TZID=America/Kentucky/Louisville:20260411T000000
DTEND;TZID=America/Kentucky/Louisville:20260412T235959
DTSTAMP:20260422T185612
CREATED:20251223T145613Z
LAST-MODIFIED:20251223T145613Z
UID:6124-1775865600-1776038399@charlestonfsc.com
SUMMARY:Sikumi Invitational
DESCRIPTION:Excel Series\, Well Balanced events\, Adult Free Skate\, Compulsory Moves\, Showcase\, Compete USA
URL:https://charlestonfsc.com/event/sikumi-invitational-2/
LOCATION:Kick Lewis Arena\, 101 LANDINGS DRIVE\, Annville\, PA\, 17003\, United States
CATEGORIES:Calendar Event,Competition
END:VEVENT
BEGIN:VEVENT
DTSTART;TZID=America/Kentucky/Louisville:20260411T000000
DTEND;TZID=America/Kentucky/Louisville:20260412T235959
DTSTAMP:20260422T185612
CREATED:20260220T151354Z
LAST-MODIFIED:20260220T151354Z
UID:6192-1775865600-1776038399@charlestonfsc.com
SUMMARY:2026 Tri-State Memorial Figure Skating Competition
DESCRIPTION:Excel Series\, Well Balanced Events\, Adult Free Skate\, Athlete Development\, Showcase\, Compete USA
URL:https://charlestonfsc.com/event/2026-tri-state-memorial-figure-skating-competition/
LOCATION:Arctic Edge Ice Arena\, 46615 Michigan Avenue\, Canton\, MI\, 48188\, United States
CATEGORIES:Calendar Event,Competition
ORGANIZER;CN="Arctic Figure Skating Club":MAILTO:arcticfsclub@gmail.com
END:VEVENT
BEGIN:VEVENT
DTSTART;TZID=America/Kentucky/Louisville:20260411T090000
DTEND;TZID=America/Kentucky/Louisville:20260411T110000
DTSTAMP:20260422T185612
CREATED:20251103T211231Z
LAST-MODIFIED:20251103T211231Z
UID:5758-1775898000-1775905200@charlestonfsc.com
SUMMARY:Freestyle Session
DESCRIPTION:$10 per hour
URL:https://charlestonfsc.com/event/freestyle-session-111/
LOCATION:<span class='tooltipsall tooltip_post_id_473 classtoolTips473'>SCMIA</span>\, 20 RHL Blvd\, South Charleston\, WV\, 25309\, United States
CATEGORIES:Calendar Event
ORGANIZER;CN="CFSC":MAILTO:charlestonfscwv@gmail.com
END:VEVENT
BEGIN:VEVENT
DTSTART;TZID=America/Kentucky/Louisville:20260412T180000
DTEND;TZID=America/Kentucky/Louisville:20260412T200000
DTSTAMP:20260422T185612
CREATED:20251103T212118Z
LAST-MODIFIED:20251103T212118Z
UID:5811-1776016800-1776024000@charlestonfsc.com
SUMMARY:Freestyle Session
DESCRIPTION:$10 per hour
URL:https://charlestonfsc.com/event/freestyle-session-163/
LOCATION:<span class='tooltipsall tooltip_post_id_473 classtoolTips473'>SCMIA</span>\, 20 RHL Blvd\, South Charleston\, WV\, 25309\, United States
CATEGORIES:Calendar Event
ORGANIZER;CN="CFSC":MAILTO:charlestonfscwv@gmail.com
END:VEVENT
BEGIN:VEVENT
DTSTART;TZID=America/Kentucky/Louisville:20260413T000000
DTEND;TZID=America/Kentucky/Louisville:20260413T235959
DTSTAMP:20260422T185612
CREATED:20260220T151409Z
LAST-MODIFIED:20260220T151409Z
UID:6197-1776038400-1776124799@charlestonfsc.com
SUMMARY:Registration Deadline for Cardinal Classic
DESCRIPTION:Excel Series\, Well Balanced Events\, Adult Free Skate\, Adult Pairs\, Showcase\, Compete USA\, Adaptive
URL:https://charlestonfsc.com/event/registration-deadline-for-cardinal-classic-2/
LOCATION:Prince William Ice Center\, 5180 Dale Blvd\, Woodbridge\, VA\, 22193\, United States
CATEGORIES:Calendar Event,Competition
ORGANIZER;CN="Skating Club of Northern Virginia":MAILTO:president@scnv.org
END:VEVENT
BEGIN:VEVENT
DTSTART;TZID=America/Kentucky/Louisville:20260415T171500
DTEND;TZID=America/Kentucky/Louisville:20260415T194500
DTSTAMP:20260422T185612
CREATED:20251103T213701Z
LAST-MODIFIED:20251103T213701Z
UID:5864-1776273300-1776282300@charlestonfsc.com
SUMMARY:Club Ice Session
DESCRIPTION:$10 per hour
URL:https://charlestonfsc.com/event/club-ice-session-62/
LOCATION:<span class='tooltipsall tooltip_post_id_473 classtoolTips473'>SCMIA</span>\, 20 RHL Blvd\, South Charleston\, WV\, 25309\, United States
CATEGORIES:Calendar Event
ORGANIZER;CN="CFSC":MAILTO:charlestonfscwv@gmail.com
END:VEVENT
BEGIN:VEVENT
DTSTART;TZID=America/Kentucky/Louisville:20260416T000000
DTEND;TZID=America/Kentucky/Louisville:20260419T235959
DTSTAMP:20260422T185612
CREATED:20260220T151342Z
LAST-MODIFIED:20260220T151342Z
UID:6188-1776297600-1776643199@charlestonfsc.com
SUMMARY:Skate Nashville
DESCRIPTION:Excel Series\, Solo Dance Series\, Well Balanced Events\, Adult Free Skate\, Pairs\, Adult Pairs\, Athlete Development\, Showcase\, Compete USA\, Adaptive
URL:https://charlestonfsc.com/event/skate-nashville-2/
LOCATION:Centennial Sportsplex\, 222 25th Ave. N\, Nashville\, TN\, 37209\, United States
CATEGORIES:Calendar Event,Competition
ORGANIZER;CN="Nashville Figure Skating Club":MAILTO:nashvilleskatingacademy@gmail.com
END:VEVENT
BEGIN:VEVENT
DTSTART;TZID=America/Kentucky/Louisville:20260418T000000
DTEND;TZID=America/Kentucky/Louisville:20260419T235959
DTSTAMP:20260422T185612
CREATED:20251223T145515Z
LAST-MODIFIED:20251223T145515Z
UID:6114-1776470400-1776643199@charlestonfsc.com
SUMMARY:Skate Pittsburgh
DESCRIPTION:Excel Series\, Well Balanced Events\, Adult Free Skate\, Athlete Development\, Showcase\, Adult Showcase\, Compete USA
URL:https://charlestonfsc.com/event/skate-pittsburgh-2/
LOCATION:Robert Morris University Island Sports Center\, 7600 Grand Avenue\, PIttsburgh\, PA\, 15225\, United States
CATEGORIES:Calendar Event,Competition
ORGANIZER;CN="Pittsburgh Figure Skating Club":MAILTO:skatepgh@gmail.com
END:VEVENT
BEGIN:VEVENT
DTSTART;TZID=America/Kentucky/Louisville:20260418T090000
DTEND;TZID=America/Kentucky/Louisville:20260418T110000
DTSTAMP:20260422T185612
CREATED:20251103T211242Z
LAST-MODIFIED:20251103T211242Z
UID:5759-1776502800-1776510000@charlestonfsc.com
SUMMARY:Freestyle Session
DESCRIPTION:$10 per hour
URL:https://charlestonfsc.com/event/freestyle-session-112/
LOCATION:<span class='tooltipsall tooltip_post_id_473 classtoolTips473'>SCMIA</span>\, 20 RHL Blvd\, South Charleston\, WV\, 25309\, United States
CATEGORIES:Calendar Event
ORGANIZER;CN="CFSC":MAILTO:charlestonfscwv@gmail.com
END:VEVENT
BEGIN:VEVENT
DTSTART;TZID=America/Kentucky/Louisville:20260419T180000
DTEND;TZID=America/Kentucky/Louisville:20260419T200000
DTSTAMP:20260422T185612
CREATED:20251103T212231Z
LAST-MODIFIED:20251103T212231Z
UID:5812-1776621600-1776628800@charlestonfsc.com
SUMMARY:Freestyle Session
DESCRIPTION:$10 per hour
URL:https://charlestonfsc.com/event/freestyle-session-164/
LOCATION:<span class='tooltipsall tooltip_post_id_473 classtoolTips473'>SCMIA</span>\, 20 RHL Blvd\, South Charleston\, WV\, 25309\, United States
CATEGORIES:Calendar Event
ORGANIZER;CN="CFSC":MAILTO:charlestonfscwv@gmail.com
END:VEVENT
END:VCALENDAR