BEGIN:VCALENDAR
VERSION:2.0
PRODID:-//Charleston Figure Skating Club - ECPv6.15.20//NONSGML v1.0//EN
CALSCALE:GREGORIAN
METHOD:PUBLISH
X-ORIGINAL-URL:https://charlestonfsc.com
X-WR-CALDESC:Events for Charleston Figure Skating Club
REFRESH-INTERVAL;VALUE=DURATION:PT1H
X-Robots-Tag:noindex
X-PUBLISHED-TTL:PT1H
BEGIN:VTIMEZONE
TZID:America/Kentucky/Louisville
BEGIN:DAYLIGHT
TZOFFSETFROM:-0500
TZOFFSETTO:-0400
TZNAME:EDT
DTSTART:20240310T070000
END:DAYLIGHT
BEGIN:STANDARD
TZOFFSETFROM:-0400
TZOFFSETTO:-0500
TZNAME:EST
DTSTART:20241103T060000
END:STANDARD
BEGIN:DAYLIGHT
TZOFFSETFROM:-0500
TZOFFSETTO:-0400
TZNAME:EDT
DTSTART:20250309T070000
END:DAYLIGHT
BEGIN:STANDARD
TZOFFSETFROM:-0400
TZOFFSETTO:-0500
TZNAME:EST
DTSTART:20251102T060000
END:STANDARD
BEGIN:DAYLIGHT
TZOFFSETFROM:-0500
TZOFFSETTO:-0400
TZNAME:EDT
DTSTART:20260308T070000
END:DAYLIGHT
BEGIN:STANDARD
TZOFFSETFROM:-0400
TZOFFSETTO:-0500
TZNAME:EST
DTSTART:20261101T060000
END:STANDARD
END:VTIMEZONE
BEGIN:VEVENT
DTSTART;TZID=America/Kentucky/Louisville:20250521T171500
DTEND;TZID=America/Kentucky/Louisville:20250521T194500
DTSTAMP:20260423T070756
CREATED:20250213T194534Z
LAST-MODIFIED:20250220T161355Z
UID:1863-1747847700-1747856700@charlestonfsc.com
SUMMARY:Club Ice Session
DESCRIPTION:$10 per hour
URL:https://charlestonfsc.com/event/club-ice-session-15/
LOCATION:<span class='tooltipsall tooltip_post_id_473 classtoolTips473'>SCMIA</span>\, 20 RHL Blvd\, South Charleston\, WV\, 25309\, United States
CATEGORIES:Calendar Event
ORGANIZER;CN="CFSC":MAILTO:charlestonfscwv@gmail.com
END:VEVENT
BEGIN:VEVENT
DTSTART;TZID=America/Kentucky/Louisville:20250524T000000
DTEND;TZID=America/Kentucky/Louisville:20250524T235959
DTSTAMP:20260423T070756
CREATED:20250213T150330Z
LAST-MODIFIED:20250220T161347Z
UID:1795-1748044800-1748131199@charlestonfsc.com
SUMMARY:White Rose Invitational
DESCRIPTION:Registration Deadline: 5/1/2025 \nExcel Series\, Well Balanced Events\, Adult Free Skate\, Partnered Ice Dance\, Adult Partnered Ice Dance\, Athlete Development\, Showcase\, Solo Dance (non-series)\, Compete USA
URL:https://charlestonfsc.com/event/white-rose-invitational/
LOCATION:York Ice Arena at Memorial Park\, 941 S. Vander Ave.\, York\, PA\, 17403\, United States
CATEGORIES:Calendar Event,Competition
ORGANIZER;CN="White Rose Figure Skating Club":MAILTO:WhiteRoseFSCcontact@gmail.com
END:VEVENT
BEGIN:VEVENT
DTSTART;TZID=America/Kentucky/Louisville:20250524T090000
DTEND;TZID=America/Kentucky/Louisville:20250524T110000
DTSTAMP:20260423T070756
CREATED:20250213T195623Z
LAST-MODIFIED:20250220T161339Z
UID:1914-1748077200-1748084400@charlestonfsc.com
SUMMARY:Freestyle Session
DESCRIPTION:$10 per hour
URL:https://charlestonfsc.com/event/freestyle-session-17/
LOCATION:<span class='tooltipsall tooltip_post_id_473 classtoolTips473'>SCMIA</span>\, 20 RHL Blvd\, South Charleston\, WV\, 25309\, United States
CATEGORIES:Calendar Event
ORGANIZER;CN="CFSC":MAILTO:charlestonfscwv@gmail.com
END:VEVENT
BEGIN:VEVENT
DTSTART;TZID=America/Kentucky/Louisville:20250525T180000
DTEND;TZID=America/Kentucky/Louisville:20250525T200000
DTSTAMP:20260423T070756
CREATED:20250213T201239Z
LAST-MODIFIED:20250220T161335Z
UID:1964-1748196000-1748203200@charlestonfsc.com
SUMMARY:Freestyle Session
DESCRIPTION:$10 per hour
URL:https://charlestonfsc.com/event/freestyle-session-65/
LOCATION:<span class='tooltipsall tooltip_post_id_473 classtoolTips473'>SCMIA</span>\, 20 RHL Blvd\, South Charleston\, WV\, 25309\, United States
CATEGORIES:Calendar Event
ORGANIZER;CN="CFSC":MAILTO:charlestonfscwv@gmail.com
END:VEVENT
BEGIN:VEVENT
DTSTART;TZID=America/Kentucky/Louisville:20250528T171500
DTEND;TZID=America/Kentucky/Louisville:20250528T194500
DTSTAMP:20260423T070756
CREATED:20250213T194534Z
LAST-MODIFIED:20250220T161707Z
UID:1864-1748452500-1748461500@charlestonfsc.com
SUMMARY:Club Ice Session
DESCRIPTION:$10 per hour
URL:https://charlestonfsc.com/event/club-ice-session-16/
LOCATION:<span class='tooltipsall tooltip_post_id_473 classtoolTips473'>SCMIA</span>\, 20 RHL Blvd\, South Charleston\, WV\, 25309\, United States
CATEGORIES:Calendar Event
ORGANIZER;CN="CFSC":MAILTO:charlestonfscwv@gmail.com
END:VEVENT
BEGIN:VEVENT
DTSTART;TZID=America/Kentucky/Louisville:20250530T000000
DTEND;TZID=America/Kentucky/Louisville:20250601T235959
DTSTAMP:20260423T070756
CREATED:20250213T151724Z
LAST-MODIFIED:20250223T173248Z
UID:1805-1748563200-1748822399@charlestonfsc.com
SUMMARY:Metro Indy Skating Challenge
DESCRIPTION:Registration Deadline: 5/2/2025 \nExcel Series\, Well Balanced Events\, Adult Free Skate\, Athlete Development\, Showcase\, Compete USA
URL:https://charlestonfsc.com/event/metro-indy-skating-challenge/
LOCATION:Carmel Ice Skadium\, 1040 3rd Avenue SW\, Carmel\, IN\, 46032\, United States
CATEGORIES:Calendar Event,Competition
ORGANIZER;CN="Ice Skating Club of Indianapolis":MAILTO:iscicarmel@gmail.com
END:VEVENT
BEGIN:VEVENT
DTSTART;TZID=America/Kentucky/Louisville:20250530T000000
DTEND;TZID=America/Kentucky/Louisville:20250601T235959
DTSTAMP:20260423T070756
CREATED:20250213T154212Z
LAST-MODIFIED:20250220T161656Z
UID:1813-1748563200-1748822399@charlestonfsc.com
SUMMARY:Cardinal Classic
DESCRIPTION:Registration Deadline: 4/14/2025 \nExcel Series\, Well Balanced Events\, Adult Free Skate\, Adult Pairs\, Showcase\, Compete USA\, Adaptive
URL:https://charlestonfsc.com/event/cardinal-classic/
LOCATION:Prince William Ice Center\, 5180 Dale Blvd\, Woodbridge\, VA\, 22193\, United States
CATEGORIES:Calendar Event,Competition
ORGANIZER;CN="Skating Club of Northern Virginia":MAILTO:president@scnv.org
END:VEVENT
BEGIN:VEVENT
DTSTART;TZID=America/Kentucky/Louisville:20250531T090000
DTEND;TZID=America/Kentucky/Louisville:20250531T110000
DTSTAMP:20260423T070756
CREATED:20250213T195623Z
LAST-MODIFIED:20250220T161650Z
UID:1915-1748682000-1748689200@charlestonfsc.com
SUMMARY:Freestyle Session
DESCRIPTION:$10 per hour
URL:https://charlestonfsc.com/event/freestyle-session-18/
LOCATION:<span class='tooltipsall tooltip_post_id_473 classtoolTips473'>SCMIA</span>\, 20 RHL Blvd\, South Charleston\, WV\, 25309\, United States
CATEGORIES:Calendar Event
ORGANIZER;CN="CFSC":MAILTO:charlestonfscwv@gmail.com
END:VEVENT
BEGIN:VEVENT
DTSTART;TZID=America/Kentucky/Louisville:20250601T180000
DTEND;TZID=America/Kentucky/Louisville:20250601T200000
DTSTAMP:20260423T070756
CREATED:20250213T201239Z
LAST-MODIFIED:20250220T161645Z
UID:1965-1748800800-1748808000@charlestonfsc.com
SUMMARY:Freestyle Session
DESCRIPTION:$10 per hour
URL:https://charlestonfsc.com/event/freestyle-session-66/
LOCATION:<span class='tooltipsall tooltip_post_id_473 classtoolTips473'>SCMIA</span>\, 20 RHL Blvd\, South Charleston\, WV\, 25309\, United States
CATEGORIES:Calendar Event
ORGANIZER;CN="CFSC":MAILTO:charlestonfscwv@gmail.com
END:VEVENT
BEGIN:VEVENT
DTSTART;TZID=America/Kentucky/Louisville:20250604T171500
DTEND;TZID=America/Kentucky/Louisville:20250604T194500
DTSTAMP:20260423T070756
CREATED:20250213T194534Z
LAST-MODIFIED:20250220T161642Z
UID:1865-1749057300-1749066300@charlestonfsc.com
SUMMARY:Club Ice Session
DESCRIPTION:$10 per hour
URL:https://charlestonfsc.com/event/club-ice-session-17/
LOCATION:<span class='tooltipsall tooltip_post_id_473 classtoolTips473'>SCMIA</span>\, 20 RHL Blvd\, South Charleston\, WV\, 25309\, United States
CATEGORIES:Calendar Event
ORGANIZER;CN="CFSC":MAILTO:charlestonfscwv@gmail.com
END:VEVENT
BEGIN:VEVENT
DTSTART;TZID=America/Kentucky/Louisville:20250607T090000
DTEND;TZID=America/Kentucky/Louisville:20250607T110000
DTSTAMP:20260423T070756
CREATED:20250213T195623Z
LAST-MODIFIED:20250220T161636Z
UID:1916-1749286800-1749294000@charlestonfsc.com
SUMMARY:Freestyle Session
DESCRIPTION:$10 per hour
URL:https://charlestonfsc.com/event/freestyle-session-19/
LOCATION:<span class='tooltipsall tooltip_post_id_473 classtoolTips473'>SCMIA</span>\, 20 RHL Blvd\, South Charleston\, WV\, 25309\, United States
CATEGORIES:Calendar Event
ORGANIZER;CN="CFSC":MAILTO:charlestonfscwv@gmail.com
END:VEVENT
BEGIN:VEVENT
DTSTART;TZID=America/Kentucky/Louisville:20250608T180000
DTEND;TZID=America/Kentucky/Louisville:20250608T200000
DTSTAMP:20260423T070756
CREATED:20250213T201239Z
LAST-MODIFIED:20250220T161632Z
UID:1966-1749405600-1749412800@charlestonfsc.com
SUMMARY:Freestyle Session
DESCRIPTION:$10 per hour
URL:https://charlestonfsc.com/event/freestyle-session-67/
LOCATION:<span class='tooltipsall tooltip_post_id_473 classtoolTips473'>SCMIA</span>\, 20 RHL Blvd\, South Charleston\, WV\, 25309\, United States
CATEGORIES:Calendar Event
ORGANIZER;CN="CFSC":MAILTO:charlestonfscwv@gmail.com
END:VEVENT
BEGIN:VEVENT
DTSTART;TZID=America/Kentucky/Louisville:20250611T171500
DTEND;TZID=America/Kentucky/Louisville:20250611T194500
DTSTAMP:20260423T070756
CREATED:20250213T194551Z
LAST-MODIFIED:20250220T161627Z
UID:1866-1749662100-1749671100@charlestonfsc.com
SUMMARY:Club Ice Session
DESCRIPTION:$10 per hour
URL:https://charlestonfsc.com/event/club-ice-session-18/
LOCATION:<span class='tooltipsall tooltip_post_id_473 classtoolTips473'>SCMIA</span>\, 20 RHL Blvd\, South Charleston\, WV\, 25309\, United States
CATEGORIES:Calendar Event
ORGANIZER;CN="CFSC":MAILTO:charlestonfscwv@gmail.com
END:VEVENT
BEGIN:VEVENT
DTSTART;TZID=America/Kentucky/Louisville:20250614T090000
DTEND;TZID=America/Kentucky/Louisville:20250614T110000
DTSTAMP:20260423T070756
CREATED:20250213T195623Z
LAST-MODIFIED:20250220T161624Z
UID:1917-1749891600-1749898800@charlestonfsc.com
SUMMARY:Freestyle Session
DESCRIPTION:$10 per hour
URL:https://charlestonfsc.com/event/freestyle-session-20/
LOCATION:<span class='tooltipsall tooltip_post_id_473 classtoolTips473'>SCMIA</span>\, 20 RHL Blvd\, South Charleston\, WV\, 25309\, United States
CATEGORIES:Calendar Event
ORGANIZER;CN="CFSC":MAILTO:charlestonfscwv@gmail.com
END:VEVENT
BEGIN:VEVENT
DTSTART;TZID=America/Kentucky/Louisville:20250615T180000
DTEND;TZID=America/Kentucky/Louisville:20250615T200000
DTSTAMP:20260423T070756
CREATED:20250213T201239Z
LAST-MODIFIED:20250220T161618Z
UID:1967-1750010400-1750017600@charlestonfsc.com
SUMMARY:Freestyle Session
DESCRIPTION:$10 per hour
URL:https://charlestonfsc.com/event/freestyle-session-68/
LOCATION:<span class='tooltipsall tooltip_post_id_473 classtoolTips473'>SCMIA</span>\, 20 RHL Blvd\, South Charleston\, WV\, 25309\, United States
CATEGORIES:Calendar Event
ORGANIZER;CN="CFSC":MAILTO:charlestonfscwv@gmail.com
END:VEVENT
BEGIN:VEVENT
DTSTART;TZID=America/Kentucky/Louisville:20250618T000000
DTEND;TZID=America/Kentucky/Louisville:20250621T235959
DTSTAMP:20260423T070756
CREATED:20250213T165224Z
LAST-MODIFIED:20250319T153432Z
UID:1824-1750204800-1750550399@charlestonfsc.com
SUMMARY:Chesapeake Open
DESCRIPTION:Registration deadline: 5/10/2025 \nSolo Dance Series
URL:https://charlestonfsc.com/event/chesapeake-open/
LOCATION:The Gardens Ice House\, 13800 Old Gunpowder Rd\, Laurel\, MD\, 20707\, United States
CATEGORIES:Calendar Event,Competition
ORGANIZER;CN="Baltimore Figure Skating Club":MAILTO:info@baltimorefigureskatingclub.com
END:VEVENT
BEGIN:VEVENT
DTSTART;TZID=America/Kentucky/Louisville:20250618T171500
DTEND;TZID=America/Kentucky/Louisville:20250618T194500
DTSTAMP:20260423T070756
CREATED:20250213T194551Z
LAST-MODIFIED:20250220T161604Z
UID:1867-1750266900-1750275900@charlestonfsc.com
SUMMARY:Club Ice Session
DESCRIPTION:$10 per hour
URL:https://charlestonfsc.com/event/club-ice-session-19/
LOCATION:<span class='tooltipsall tooltip_post_id_473 classtoolTips473'>SCMIA</span>\, 20 RHL Blvd\, South Charleston\, WV\, 25309\, United States
CATEGORIES:Calendar Event
ORGANIZER;CN="CFSC":MAILTO:charlestonfscwv@gmail.com
END:VEVENT
BEGIN:VEVENT
DTSTART;TZID=America/Kentucky/Louisville:20250621T090000
DTEND;TZID=America/Kentucky/Louisville:20250621T110000
DTSTAMP:20260423T070756
CREATED:20250213T195638Z
LAST-MODIFIED:20250220T161556Z
UID:1918-1750496400-1750503600@charlestonfsc.com
SUMMARY:Freestyle Session
DESCRIPTION:$10 per hour
URL:https://charlestonfsc.com/event/freestyle-session-21/
LOCATION:<span class='tooltipsall tooltip_post_id_473 classtoolTips473'>SCMIA</span>\, 20 RHL Blvd\, South Charleston\, WV\, 25309\, United States
CATEGORIES:Calendar Event
ORGANIZER;CN="CFSC":MAILTO:charlestonfscwv@gmail.com
END:VEVENT
BEGIN:VEVENT
DTSTART;TZID=America/Kentucky/Louisville:20250622T180000
DTEND;TZID=America/Kentucky/Louisville:20250622T200000
DTSTAMP:20260423T070756
CREATED:20250213T201253Z
LAST-MODIFIED:20250220T161553Z
UID:1968-1750615200-1750622400@charlestonfsc.com
SUMMARY:Freestyle Session
DESCRIPTION:$10 per hour
URL:https://charlestonfsc.com/event/freestyle-session-69/
LOCATION:<span class='tooltipsall tooltip_post_id_473 classtoolTips473'>SCMIA</span>\, 20 RHL Blvd\, South Charleston\, WV\, 25309\, United States
CATEGORIES:Calendar Event
ORGANIZER;CN="CFSC":MAILTO:charlestonfscwv@gmail.com
END:VEVENT
BEGIN:VEVENT
DTSTART;TZID=America/Kentucky/Louisville:20250625T171500
DTEND;TZID=America/Kentucky/Louisville:20250625T194500
DTSTAMP:20260423T070756
CREATED:20250213T194551Z
LAST-MODIFIED:20250220T161549Z
UID:1868-1750871700-1750880700@charlestonfsc.com
SUMMARY:Club Ice Session
DESCRIPTION:$10 per hour
URL:https://charlestonfsc.com/event/club-ice-session-20/
LOCATION:<span class='tooltipsall tooltip_post_id_473 classtoolTips473'>SCMIA</span>\, 20 RHL Blvd\, South Charleston\, WV\, 25309\, United States
CATEGORIES:Calendar Event
ORGANIZER;CN="CFSC":MAILTO:charlestonfscwv@gmail.com
END:VEVENT
BEGIN:VEVENT
DTSTART;TZID=America/Kentucky/Louisville:20250627T000000
DTEND;TZID=America/Kentucky/Louisville:20250629T235959
DTSTAMP:20260423T070756
CREATED:20250213T170330Z
LAST-MODIFIED:20250521T185702Z
UID:1830-1750982400-1751241599@charlestonfsc.com
SUMMARY:Kathy Slack Troy Summer Competition
DESCRIPTION:Excel Series\, Well-Balanced Events\, Adult Free Skate\, Showcase\, Solo Dance (non-series)\, Adult Solo Dance\, Compete USA
URL:https://charlestonfsc.com/event/kathy-slack-troy-summer-competition/
LOCATION:Hobart Arena\, 255 Adams Street\, Troy\, OH\, 45373\, United States
CATEGORIES:Calendar Event,Competition
ORGANIZER;CN="Troy Skating Club":MAILTO:Skatingdirector@troyskatingclub.org
END:VEVENT
BEGIN:VEVENT
DTSTART;TZID=America/Kentucky/Louisville:20250628T000000
DTEND;TZID=America/Kentucky/Louisville:20250628T235959
DTSTAMP:20260423T070756
CREATED:20250616T171152Z
LAST-MODIFIED:20250616T171152Z
UID:5151-1751068800-1751155199@charlestonfsc.com
SUMMARY:Registration Deadline for Scott Hamilton Invitational
DESCRIPTION:Excel\, Well-balanced\, Adult\, Compulsory\, Jumps\, Spins\, Showcase\, Basic Skills\, Aspire\, Adaptive
URL:https://charlestonfsc.com/event/registration-deadline-for-scott-hamilton-invitational/
LOCATION:Ford Ice Center\, Bellevue\, 7638 Highway 70 S\, Nashville\, TN\, 37221\, United States
CATEGORIES:Calendar Event,Competition
END:VEVENT
BEGIN:VEVENT
DTSTART;TZID=America/Kentucky/Louisville:20250628T090000
DTEND;TZID=America/Kentucky/Louisville:20250628T110000
DTSTAMP:20260423T070756
CREATED:20250213T195638Z
LAST-MODIFIED:20250220T161537Z
UID:1919-1751101200-1751108400@charlestonfsc.com
SUMMARY:Freestyle Session
DESCRIPTION:$10 per hour
URL:https://charlestonfsc.com/event/freestyle-session-22/
LOCATION:<span class='tooltipsall tooltip_post_id_473 classtoolTips473'>SCMIA</span>\, 20 RHL Blvd\, South Charleston\, WV\, 25309\, United States
CATEGORIES:Calendar Event
ORGANIZER;CN="CFSC":MAILTO:charlestonfscwv@gmail.com
END:VEVENT
BEGIN:VEVENT
DTSTART;TZID=America/Kentucky/Louisville:20250629T180000
DTEND;TZID=America/Kentucky/Louisville:20250629T200000
DTSTAMP:20260423T070756
CREATED:20250213T201253Z
LAST-MODIFIED:20250220T161534Z
UID:1969-1751220000-1751227200@charlestonfsc.com
SUMMARY:Freestyle Session
DESCRIPTION:$10 per hour
URL:https://charlestonfsc.com/event/freestyle-session-70/
LOCATION:<span class='tooltipsall tooltip_post_id_473 classtoolTips473'>SCMIA</span>\, 20 RHL Blvd\, South Charleston\, WV\, 25309\, United States
CATEGORIES:Calendar Event
ORGANIZER;CN="CFSC":MAILTO:charlestonfscwv@gmail.com
END:VEVENT
BEGIN:VEVENT
DTSTART;TZID=America/Kentucky/Louisville:20250630T000000
DTEND;TZID=America/Kentucky/Louisville:20250630T235959
DTSTAMP:20260423T070756
CREATED:20250627T194803Z
LAST-MODIFIED:20250627T194803Z
UID:5281-1751241600-1751327999@charlestonfsc.com
SUMMARY:Virtual Test Session
DESCRIPTION:CFSC is hosting a virtual test session. Tests for this session must be filmed between June 16\, 2025 and June 30\, 2025. The registration deadline is Sunday\, June 29\, 2025.
URL:https://charlestonfsc.com/event/virtual-test-session/
LOCATION:<span class='tooltipsall tooltip_post_id_473 classtoolTips473'>SCMIA</span>\, 20 RHL Blvd\, South Charleston\, WV\, 25309\, United States
CATEGORIES:Calendar Event,Special Event
ORGANIZER;CN="CFSC":MAILTO:charlestonfscwv@gmail.com
END:VEVENT
BEGIN:VEVENT
DTSTART;TZID=America/Kentucky/Louisville:20250630T000000
DTEND;TZID=America/Kentucky/Louisville:20250731T235959
DTSTAMP:20260423T070756
CREATED:20250616T131105Z
LAST-MODIFIED:20250616T131105Z
UID:5131-1751241600-1754006399@charlestonfsc.com
SUMMARY:Rink Closed
DESCRIPTION:The rink is closed for maintenance and repairs. Please check the SCMIA Facebook page\, CFSC website\, or CFSC Facebook page for reopening information.
URL:https://charlestonfsc.com/event/rink-closed-2/
LOCATION:<span class='tooltipsall tooltip_post_id_473 classtoolTips473'>SCMIA</span>\, 20 RHL Blvd\, South Charleston\, WV\, 25309\, United States
CATEGORIES:Calendar Event
END:VEVENT
BEGIN:VEVENT
DTSTART;TZID=America/Kentucky/Louisville:20250709T000000
DTEND;TZID=America/Kentucky/Louisville:20250713T235959
DTSTAMP:20260423T070756
CREATED:20250213T170947Z
LAST-MODIFIED:20250220T162350Z
UID:1834-1752019200-1752451199@charlestonfsc.com
SUMMARY:Excel National Final and Festival
DESCRIPTION:
URL:https://charlestonfsc.com/event/excel-national-final-and-festival/
LOCATION:Broadmoor World Arena\, 3185 Venetucci Boulevard\, Colorado Springs\, CO\, 80906\, United States
CATEGORIES:Calendar Event,Competition
ORGANIZER;CN="USFSA":MAILTO:Events@usfigureskating.org
END:VEVENT
BEGIN:VEVENT
DTSTART;TZID=America/Kentucky/Louisville:20250716T000000
DTEND;TZID=America/Kentucky/Louisville:20250716T235959
DTSTAMP:20260423T070756
CREATED:20250616T165419Z
LAST-MODIFIED:20250616T165558Z
UID:5141-1752624000-1752710399@charlestonfsc.com
SUMMARY:Registration Deadline for Philadelphia Summer Championship
DESCRIPTION:NQS\, Basic Skills\, Aspire\, Excel\, Well-balanced\, Adult\, Showcase
URL:https://charlestonfsc.com/event/registration-deadline-for-philadelphia-summer-championship-registration/
LOCATION:IceWorks Skating Complex\, 3100 Dutton Mill Road\, Aston\, PA\, 19014\, United States
CATEGORIES:Calendar Event,Competition
END:VEVENT
BEGIN:VEVENT
DTSTART;TZID=America/Kentucky/Louisville:20250719T190000
DTEND;TZID=America/Kentucky/Louisville:20250719T210000
DTSTAMP:20260423T070756
CREATED:20250520T212404Z
LAST-MODIFIED:20250521T191638Z
UID:4863-1752951600-1752958800@charlestonfsc.com
SUMMARY:Summer Luau Pool Party
DESCRIPTION:Join us for some summer fun. Members and non-swimmers are free. Additional family members are $2.00 per person. Please bring an appetizer or dessert to share.
URL:https://charlestonfsc.com/event/summer-luau/
LOCATION:Little Creek Pool\, 99 Fairway Drive South\, South Charleston\, WV\, 25303\, United States
CATEGORIES:Calendar Event,Special Event
ORGANIZER;CN="CFSC":MAILTO:charlestonfscwv@gmail.com
END:VEVENT
BEGIN:VEVENT
DTSTART;TZID=America/Kentucky/Louisville:20250728T000000
DTEND;TZID=America/Kentucky/Louisville:20250802T235959
DTSTAMP:20260423T070756
CREATED:20250213T171214Z
LAST-MODIFIED:20250220T162303Z
UID:1836-1753660800-1754179199@charlestonfsc.com
SUMMARY:National Showcase
DESCRIPTION:
URL:https://charlestonfsc.com/event/national-showcase/
LOCATION:Suburban Ice Rochester\, 52999 Dequindre Rd.\, Rochester\, MI\, 48307\, United States
CATEGORIES:Calendar Event,Competition
ORGANIZER;CN="USFSA":MAILTO:Events@usfigureskating.org
END:VEVENT
END:VCALENDAR