BEGIN:VCALENDAR
VERSION:2.0
PRODID:-//Charleston Figure Skating Club - ECPv6.15.20//NONSGML v1.0//EN
CALSCALE:GREGORIAN
METHOD:PUBLISH
X-WR-CALNAME:Charleston Figure Skating Club
X-ORIGINAL-URL:https://charlestonfsc.com
X-WR-CALDESC:Events for Charleston Figure Skating Club
REFRESH-INTERVAL;VALUE=DURATION:PT1H
X-Robots-Tag:noindex
X-PUBLISHED-TTL:PT1H
BEGIN:VTIMEZONE
TZID:America/Kentucky/Louisville
BEGIN:DAYLIGHT
TZOFFSETFROM:-0500
TZOFFSETTO:-0400
TZNAME:EDT
DTSTART:20250309T070000
END:DAYLIGHT
BEGIN:STANDARD
TZOFFSETFROM:-0400
TZOFFSETTO:-0500
TZNAME:EST
DTSTART:20251102T060000
END:STANDARD
BEGIN:DAYLIGHT
TZOFFSETFROM:-0500
TZOFFSETTO:-0400
TZNAME:EDT
DTSTART:20260308T070000
END:DAYLIGHT
BEGIN:STANDARD
TZOFFSETFROM:-0400
TZOFFSETTO:-0500
TZNAME:EST
DTSTART:20261101T060000
END:STANDARD
BEGIN:DAYLIGHT
TZOFFSETFROM:-0500
TZOFFSETTO:-0400
TZNAME:EDT
DTSTART:20270314T070000
END:DAYLIGHT
BEGIN:STANDARD
TZOFFSETFROM:-0400
TZOFFSETTO:-0500
TZNAME:EST
DTSTART:20271107T060000
END:STANDARD
END:VTIMEZONE
BEGIN:VEVENT
DTSTART;TZID=America/Kentucky/Louisville:20260503T180000
DTEND;TZID=America/Kentucky/Louisville:20260503T200000
DTSTAMP:20260422T175624
CREATED:20251103T212233Z
LAST-MODIFIED:20251103T212233Z
UID:5814-1777831200-1777838400@charlestonfsc.com
SUMMARY:Freestyle Session
DESCRIPTION:$10 per hour
URL:https://charlestonfsc.com/event/freestyle-session-166/
LOCATION:<span class='tooltipsall tooltip_post_id_473 classtoolTips473'>SCMIA</span>\, 20 RHL Blvd\, South Charleston\, WV\, 25309\, United States
CATEGORIES:Calendar Event
ORGANIZER;CN="CFSC":MAILTO:charlestonfscwv@gmail.com
END:VEVENT
BEGIN:VEVENT
DTSTART;TZID=America/Kentucky/Louisville:20260506T171500
DTEND;TZID=America/Kentucky/Louisville:20260506T194500
DTSTAMP:20260422T175624
CREATED:20251103T213716Z
LAST-MODIFIED:20251103T213716Z
UID:5867-1778087700-1778096700@charlestonfsc.com
SUMMARY:Club Ice Session
DESCRIPTION:$10 per hour
URL:https://charlestonfsc.com/event/club-ice-session-65/
LOCATION:<span class='tooltipsall tooltip_post_id_473 classtoolTips473'>SCMIA</span>\, 20 RHL Blvd\, South Charleston\, WV\, 25309\, United States
CATEGORIES:Calendar Event
ORGANIZER;CN="CFSC":MAILTO:charlestonfscwv@gmail.com
END:VEVENT
BEGIN:VEVENT
DTSTART;TZID=America/Kentucky/Louisville:20260509T000000
DTEND;TZID=America/Kentucky/Louisville:20260509T235959
DTSTAMP:20260422T175624
CREATED:20251223T145617Z
LAST-MODIFIED:20251223T145617Z
UID:6127-1778284800-1778371199@charlestonfsc.com
SUMMARY:Registration Deadline for Chesapeake Open
DESCRIPTION:Solo Dance Series\, Excel Free Skate (non-series)\, Well Balanced Events\, Adult Free Skate\, Partnered Ice Dance\, Adult Solo Dance\, Compete USA
URL:https://charlestonfsc.com/event/registration-deadline-for-chesapeake-open-2/
LOCATION:The Gardens Ice House\, 13800 Old Gunpowder Rd\, Laurel\, MD\, 20707\, United States
CATEGORIES:Calendar Event,Competition
ORGANIZER;CN="Baltimore Figure Skating Club":MAILTO:info@baltimorefigureskatingclub.com
END:VEVENT
BEGIN:VEVENT
DTSTART;TZID=America/Kentucky/Louisville:20260509T090000
DTEND;TZID=America/Kentucky/Louisville:20260509T110000
DTSTAMP:20260422T175624
CREATED:20251103T211245Z
LAST-MODIFIED:20251103T211245Z
UID:5762-1778317200-1778324400@charlestonfsc.com
SUMMARY:Freestyle Session
DESCRIPTION:$10 per hour
URL:https://charlestonfsc.com/event/freestyle-session-115/
LOCATION:<span class='tooltipsall tooltip_post_id_473 classtoolTips473'>SCMIA</span>\, 20 RHL Blvd\, South Charleston\, WV\, 25309\, United States
CATEGORIES:Calendar Event
ORGANIZER;CN="CFSC":MAILTO:charlestonfscwv@gmail.com
END:VEVENT
BEGIN:VEVENT
DTSTART;TZID=America/Kentucky/Louisville:20260510T180000
DTEND;TZID=America/Kentucky/Louisville:20260510T200000
DTSTAMP:20260422T175624
CREATED:20251103T212234Z
LAST-MODIFIED:20251103T212234Z
UID:5815-1778436000-1778443200@charlestonfsc.com
SUMMARY:Freestyle Session
DESCRIPTION:$10 per hour
URL:https://charlestonfsc.com/event/freestyle-session-167/
LOCATION:<span class='tooltipsall tooltip_post_id_473 classtoolTips473'>SCMIA</span>\, 20 RHL Blvd\, South Charleston\, WV\, 25309\, United States
CATEGORIES:Calendar Event
ORGANIZER;CN="CFSC":MAILTO:charlestonfscwv@gmail.com
END:VEVENT
BEGIN:VEVENT
DTSTART;TZID=America/Kentucky/Louisville:20260513T171500
DTEND;TZID=America/Kentucky/Louisville:20260513T194500
DTSTAMP:20260422T175624
CREATED:20251103T213716Z
LAST-MODIFIED:20251103T213716Z
UID:5868-1778692500-1778701500@charlestonfsc.com
SUMMARY:Club Ice Session
DESCRIPTION:$10 per hour
URL:https://charlestonfsc.com/event/club-ice-session-66/
LOCATION:<span class='tooltipsall tooltip_post_id_473 classtoolTips473'>SCMIA</span>\, 20 RHL Blvd\, South Charleston\, WV\, 25309\, United States
CATEGORIES:Calendar Event
ORGANIZER;CN="CFSC":MAILTO:charlestonfscwv@gmail.com
END:VEVENT
BEGIN:VEVENT
DTSTART;TZID=America/Kentucky/Louisville:20260514T000000
DTEND;TZID=America/Kentucky/Louisville:20260517T235959
DTSTAMP:20260422T175624
CREATED:20260220T151408Z
LAST-MODIFIED:20260220T151408Z
UID:6196-1778716800-1779062399@charlestonfsc.com
SUMMARY:42nd Margaret Faulkner Springtime Invitational
DESCRIPTION:Excel Series\, Well Balanced Events\, Adult Free Skate\, Pairs\, Partnered Ice Dance\, Aspire\, Athlete Development\, Showcase\, Solo Dance (non-series)
URL:https://charlestonfsc.com/event/42nd-margaret-faulkner-springtime-invitational/
LOCATION:WV
CATEGORIES:Calendar Event,Competition
END:VEVENT
BEGIN:VEVENT
DTSTART;TZID=America/Kentucky/Louisville:20260515T000000
DTEND;TZID=America/Kentucky/Louisville:20260517T235959
DTSTAMP:20260422T175624
CREATED:20251223T145534Z
LAST-MODIFIED:20251223T145534Z
UID:6122-1778803200-1779062399@charlestonfsc.com
SUMMARY:Central Carolina Skating Classic
DESCRIPTION:Excel Series\, Well Balanced\, Adaptive\, Adult\, Aspire\, Compete USA\, Showcase
URL:https://charlestonfsc.com/event/central-carolina-skating-classic-2/
LOCATION:Orange County Sportsplex\, 101 Meadowlands Dr.\, Hillsborough\, NC\, 27278\, United States
CATEGORIES:Calendar Event,Competition
END:VEVENT
BEGIN:VEVENT
DTSTART;TZID=America/Kentucky/Louisville:20260516T090000
DTEND;TZID=America/Kentucky/Louisville:20260516T110000
DTSTAMP:20260422T175624
CREATED:20251103T211245Z
LAST-MODIFIED:20251103T211245Z
UID:5763-1778922000-1778929200@charlestonfsc.com
SUMMARY:Freestyle Session
DESCRIPTION:$10 per hour
URL:https://charlestonfsc.com/event/freestyle-session-116/
LOCATION:<span class='tooltipsall tooltip_post_id_473 classtoolTips473'>SCMIA</span>\, 20 RHL Blvd\, South Charleston\, WV\, 25309\, United States
CATEGORIES:Calendar Event
ORGANIZER;CN="CFSC":MAILTO:charlestonfscwv@gmail.com
END:VEVENT
BEGIN:VEVENT
DTSTART;TZID=America/Kentucky/Louisville:20260517T180000
DTEND;TZID=America/Kentucky/Louisville:20260517T200000
DTSTAMP:20260422T175624
CREATED:20251103T212235Z
LAST-MODIFIED:20251103T212235Z
UID:5816-1779040800-1779048000@charlestonfsc.com
SUMMARY:Freestyle Session
DESCRIPTION:$10 per hour
URL:https://charlestonfsc.com/event/freestyle-session-168/
LOCATION:<span class='tooltipsall tooltip_post_id_473 classtoolTips473'>SCMIA</span>\, 20 RHL Blvd\, South Charleston\, WV\, 25309\, United States
CATEGORIES:Calendar Event
ORGANIZER;CN="CFSC":MAILTO:charlestonfscwv@gmail.com
END:VEVENT
BEGIN:VEVENT
DTSTART;TZID=America/Kentucky/Louisville:20260520T171500
DTEND;TZID=America/Kentucky/Louisville:20260520T194500
DTSTAMP:20260422T175624
CREATED:20251103T213717Z
LAST-MODIFIED:20251103T213717Z
UID:5869-1779297300-1779306300@charlestonfsc.com
SUMMARY:Club Ice Session
DESCRIPTION:$10 per hour
URL:https://charlestonfsc.com/event/club-ice-session-67/
LOCATION:<span class='tooltipsall tooltip_post_id_473 classtoolTips473'>SCMIA</span>\, 20 RHL Blvd\, South Charleston\, WV\, 25309\, United States
CATEGORIES:Calendar Event
ORGANIZER;CN="CFSC":MAILTO:charlestonfscwv@gmail.com
END:VEVENT
BEGIN:VEVENT
DTSTART;TZID=America/Kentucky/Louisville:20260523T000000
DTEND;TZID=America/Kentucky/Louisville:20260524T235959
DTSTAMP:20260422T175624
CREATED:20260220T151412Z
LAST-MODIFIED:20260220T151412Z
UID:6199-1779494400-1779667199@charlestonfsc.com
SUMMARY:White Rose Invitational
DESCRIPTION:Excel Series\, Well Balanced Events\, Adult Free Skate\, Partnered Ice Dance\, Adult Partnered Ice Dance\, Athlete Development\, Showcase\, Solo Dance (non-series)\, Compete USA
URL:https://charlestonfsc.com/event/white-rose-invitational-2/
LOCATION:York Ice Arena at Memorial Park\, 941 S. Vander Ave.\, York\, PA\, 17403\, United States
CATEGORIES:Calendar Event,Competition
ORGANIZER;CN="White Rose Figure Skating Club":MAILTO:WhiteRoseFSCcontact@gmail.com
END:VEVENT
BEGIN:VEVENT
DTSTART;TZID=America/Kentucky/Louisville:20260523T090000
DTEND;TZID=America/Kentucky/Louisville:20260523T110000
DTSTAMP:20260422T175624
CREATED:20251103T211257Z
LAST-MODIFIED:20251103T211257Z
UID:5764-1779526800-1779534000@charlestonfsc.com
SUMMARY:Freestyle Session
DESCRIPTION:$10 per hour
URL:https://charlestonfsc.com/event/freestyle-session-117/
LOCATION:<span class='tooltipsall tooltip_post_id_473 classtoolTips473'>SCMIA</span>\, 20 RHL Blvd\, South Charleston\, WV\, 25309\, United States
CATEGORIES:Calendar Event
ORGANIZER;CN="CFSC":MAILTO:charlestonfscwv@gmail.com
END:VEVENT
BEGIN:VEVENT
DTSTART;TZID=America/Kentucky/Louisville:20260524T180000
DTEND;TZID=America/Kentucky/Louisville:20260524T200000
DTSTAMP:20260422T175624
CREATED:20251103T212246Z
LAST-MODIFIED:20251103T212246Z
UID:5817-1779645600-1779652800@charlestonfsc.com
SUMMARY:Freestyle Session
DESCRIPTION:$10 per hour
URL:https://charlestonfsc.com/event/freestyle-session-169/
LOCATION:<span class='tooltipsall tooltip_post_id_473 classtoolTips473'>SCMIA</span>\, 20 RHL Blvd\, South Charleston\, WV\, 25309\, United States
CATEGORIES:Calendar Event
ORGANIZER;CN="CFSC":MAILTO:charlestonfscwv@gmail.com
END:VEVENT
BEGIN:VEVENT
DTSTART;TZID=America/Kentucky/Louisville:20260527T171500
DTEND;TZID=America/Kentucky/Louisville:20260527T194500
DTSTAMP:20260422T175624
CREATED:20251103T213728Z
LAST-MODIFIED:20251103T213728Z
UID:5870-1779902100-1779911100@charlestonfsc.com
SUMMARY:Club Ice Session
DESCRIPTION:$10 per hour
URL:https://charlestonfsc.com/event/club-ice-session-68/
LOCATION:<span class='tooltipsall tooltip_post_id_473 classtoolTips473'>SCMIA</span>\, 20 RHL Blvd\, South Charleston\, WV\, 25309\, United States
CATEGORIES:Calendar Event
ORGANIZER;CN="CFSC":MAILTO:charlestonfscwv@gmail.com
END:VEVENT
BEGIN:VEVENT
DTSTART;TZID=America/Kentucky/Louisville:20260529T000000
DTEND;TZID=America/Kentucky/Louisville:20260531T235959
DTSTAMP:20260422T175624
CREATED:20251223T145616Z
LAST-MODIFIED:20251223T145616Z
UID:6126-1780012800-1780271999@charlestonfsc.com
SUMMARY:Metro Indy Skating Challenge
DESCRIPTION:Excel Series\, Well Balanced Events\, Adult Free Skate\, Athlete Development\, Showcase\, Compete USA
URL:https://charlestonfsc.com/event/metro-indy-skating-challenge-2/
LOCATION:Carmel Ice Skadium\, 1040 3rd Avenue SW\, Carmel\, IN\, 46032\, United States
CATEGORIES:Calendar Event,Competition
ORGANIZER;CN="Ice Skating Club of Indianapolis":MAILTO:iscicarmel@gmail.com
END:VEVENT
BEGIN:VEVENT
DTSTART;TZID=America/Kentucky/Louisville:20260529T000000
DTEND;TZID=America/Kentucky/Louisville:20260531T235959
DTSTAMP:20260422T175624
CREATED:20260220T151411Z
LAST-MODIFIED:20260220T151411Z
UID:6198-1780012800-1780271999@charlestonfsc.com
SUMMARY:Cardinal Classic
DESCRIPTION:Excel Series\, Well Balanced Events\, Adult Free Skate\, Adult Pairs\, Showcase\, Compete USA\, Adaptive
URL:https://charlestonfsc.com/event/cardinal-classic-2/
LOCATION:Prince William Ice Center\, 5180 Dale Blvd\, Woodbridge\, VA\, 22193\, United States
CATEGORIES:Calendar Event,Competition
ORGANIZER;CN="Skating Club of Northern Virginia":MAILTO:president@scnv.org
END:VEVENT
BEGIN:VEVENT
DTSTART;TZID=America/Kentucky/Louisville:20260530T090000
DTEND;TZID=America/Kentucky/Louisville:20260530T110000
DTSTAMP:20260422T175624
CREATED:20251103T211258Z
LAST-MODIFIED:20251103T211258Z
UID:5765-1780131600-1780138800@charlestonfsc.com
SUMMARY:Freestyle Session
DESCRIPTION:$10 per hour
URL:https://charlestonfsc.com/event/freestyle-session-118/
LOCATION:<span class='tooltipsall tooltip_post_id_473 classtoolTips473'>SCMIA</span>\, 20 RHL Blvd\, South Charleston\, WV\, 25309\, United States
CATEGORIES:Calendar Event
ORGANIZER;CN="CFSC":MAILTO:charlestonfscwv@gmail.com
END:VEVENT
BEGIN:VEVENT
DTSTART;TZID=America/Kentucky/Louisville:20260531T180000
DTEND;TZID=America/Kentucky/Louisville:20260531T200000
DTSTAMP:20260422T175624
CREATED:20251103T212247Z
LAST-MODIFIED:20251103T212247Z
UID:5818-1780250400-1780257600@charlestonfsc.com
SUMMARY:Freestyle Session
DESCRIPTION:$10 per hour
URL:https://charlestonfsc.com/event/freestyle-session-170/
LOCATION:<span class='tooltipsall tooltip_post_id_473 classtoolTips473'>SCMIA</span>\, 20 RHL Blvd\, South Charleston\, WV\, 25309\, United States
CATEGORIES:Calendar Event
ORGANIZER;CN="CFSC":MAILTO:charlestonfscwv@gmail.com
END:VEVENT
BEGIN:VEVENT
DTSTART;TZID=America/Kentucky/Louisville:20260603T171500
DTEND;TZID=America/Kentucky/Louisville:20260603T194500
DTSTAMP:20260422T175624
CREATED:20251103T213730Z
LAST-MODIFIED:20251103T213730Z
UID:5871-1780506900-1780515900@charlestonfsc.com
SUMMARY:Club Ice Session
DESCRIPTION:$10 per hour
URL:https://charlestonfsc.com/event/club-ice-session-69/
LOCATION:<span class='tooltipsall tooltip_post_id_473 classtoolTips473'>SCMIA</span>\, 20 RHL Blvd\, South Charleston\, WV\, 25309\, United States
CATEGORIES:Calendar Event
ORGANIZER;CN="CFSC":MAILTO:charlestonfscwv@gmail.com
END:VEVENT
BEGIN:VEVENT
DTSTART;TZID=America/Kentucky/Louisville:20260606T090000
DTEND;TZID=America/Kentucky/Louisville:20260606T110000
DTSTAMP:20260422T175624
CREATED:20251103T211259Z
LAST-MODIFIED:20251103T211259Z
UID:5766-1780736400-1780743600@charlestonfsc.com
SUMMARY:Freestyle Session
DESCRIPTION:$10 per hour
URL:https://charlestonfsc.com/event/freestyle-session-119/
LOCATION:<span class='tooltipsall tooltip_post_id_473 classtoolTips473'>SCMIA</span>\, 20 RHL Blvd\, South Charleston\, WV\, 25309\, United States
CATEGORIES:Calendar Event
ORGANIZER;CN="CFSC":MAILTO:charlestonfscwv@gmail.com
END:VEVENT
BEGIN:VEVENT
DTSTART;TZID=America/Kentucky/Louisville:20260607T180000
DTEND;TZID=America/Kentucky/Louisville:20260607T200000
DTSTAMP:20260422T175624
CREATED:20251103T212248Z
LAST-MODIFIED:20251103T212248Z
UID:5819-1780855200-1780862400@charlestonfsc.com
SUMMARY:Freestyle Session
DESCRIPTION:$10 per hour
URL:https://charlestonfsc.com/event/freestyle-session-171/
LOCATION:<span class='tooltipsall tooltip_post_id_473 classtoolTips473'>SCMIA</span>\, 20 RHL Blvd\, South Charleston\, WV\, 25309\, United States
CATEGORIES:Calendar Event
ORGANIZER;CN="CFSC":MAILTO:charlestonfscwv@gmail.com
END:VEVENT
BEGIN:VEVENT
DTSTART;TZID=America/Kentucky/Louisville:20260610T171500
DTEND;TZID=America/Kentucky/Louisville:20260610T194500
DTSTAMP:20260422T175624
CREATED:20251103T213730Z
LAST-MODIFIED:20251103T213730Z
UID:5872-1781111700-1781120700@charlestonfsc.com
SUMMARY:Club Ice Session
DESCRIPTION:$10 per hour
URL:https://charlestonfsc.com/event/club-ice-session-70/
LOCATION:<span class='tooltipsall tooltip_post_id_473 classtoolTips473'>SCMIA</span>\, 20 RHL Blvd\, South Charleston\, WV\, 25309\, United States
CATEGORIES:Calendar Event
ORGANIZER;CN="CFSC":MAILTO:charlestonfscwv@gmail.com
END:VEVENT
BEGIN:VEVENT
DTSTART;TZID=America/Kentucky/Louisville:20260613T090000
DTEND;TZID=America/Kentucky/Louisville:20260613T110000
DTSTAMP:20260422T175624
CREATED:20251103T211259Z
LAST-MODIFIED:20251103T211259Z
UID:5767-1781341200-1781348400@charlestonfsc.com
SUMMARY:Freestyle Session
DESCRIPTION:$10 per hour
URL:https://charlestonfsc.com/event/freestyle-session-120/
LOCATION:<span class='tooltipsall tooltip_post_id_473 classtoolTips473'>SCMIA</span>\, 20 RHL Blvd\, South Charleston\, WV\, 25309\, United States
CATEGORIES:Calendar Event
ORGANIZER;CN="CFSC":MAILTO:charlestonfscwv@gmail.com
END:VEVENT
BEGIN:VEVENT
DTSTART;TZID=America/Kentucky/Louisville:20260614T180000
DTEND;TZID=America/Kentucky/Louisville:20260614T200000
DTSTAMP:20260422T175624
CREATED:20251103T212248Z
LAST-MODIFIED:20251103T212248Z
UID:5820-1781460000-1781467200@charlestonfsc.com
SUMMARY:Freestyle Session
DESCRIPTION:$10 per hour
URL:https://charlestonfsc.com/event/freestyle-session-172/
LOCATION:<span class='tooltipsall tooltip_post_id_473 classtoolTips473'>SCMIA</span>\, 20 RHL Blvd\, South Charleston\, WV\, 25309\, United States
CATEGORIES:Calendar Event
ORGANIZER;CN="CFSC":MAILTO:charlestonfscwv@gmail.com
END:VEVENT
BEGIN:VEVENT
DTSTART;TZID=America/Kentucky/Louisville:20260617T171500
DTEND;TZID=America/Kentucky/Louisville:20260617T194500
DTSTAMP:20260422T175624
CREATED:20251103T213731Z
LAST-MODIFIED:20251103T213731Z
UID:5873-1781716500-1781725500@charlestonfsc.com
SUMMARY:Club Ice Session
DESCRIPTION:$10 per hour
URL:https://charlestonfsc.com/event/club-ice-session-71/
LOCATION:<span class='tooltipsall tooltip_post_id_473 classtoolTips473'>SCMIA</span>\, 20 RHL Blvd\, South Charleston\, WV\, 25309\, United States
CATEGORIES:Calendar Event
ORGANIZER;CN="CFSC":MAILTO:charlestonfscwv@gmail.com
END:VEVENT
BEGIN:VEVENT
DTSTART;TZID=America/Kentucky/Louisville:20260620T090000
DTEND;TZID=America/Kentucky/Louisville:20260620T110000
DTSTAMP:20260422T175624
CREATED:20251103T211300Z
LAST-MODIFIED:20251103T211300Z
UID:5768-1781946000-1781953200@charlestonfsc.com
SUMMARY:Freestyle Session
DESCRIPTION:$10 per hour
URL:https://charlestonfsc.com/event/freestyle-session-121/
LOCATION:<span class='tooltipsall tooltip_post_id_473 classtoolTips473'>SCMIA</span>\, 20 RHL Blvd\, South Charleston\, WV\, 25309\, United States
CATEGORIES:Calendar Event
ORGANIZER;CN="CFSC":MAILTO:charlestonfscwv@gmail.com
END:VEVENT
BEGIN:VEVENT
DTSTART;TZID=America/Kentucky/Louisville:20260621T180000
DTEND;TZID=America/Kentucky/Louisville:20260621T200000
DTSTAMP:20260422T175624
CREATED:20251103T212249Z
LAST-MODIFIED:20251103T212249Z
UID:5821-1782064800-1782072000@charlestonfsc.com
SUMMARY:Freestyle Session
DESCRIPTION:$10 per hour
URL:https://charlestonfsc.com/event/freestyle-session-173/
LOCATION:<span class='tooltipsall tooltip_post_id_473 classtoolTips473'>SCMIA</span>\, 20 RHL Blvd\, South Charleston\, WV\, 25309\, United States
CATEGORIES:Calendar Event
ORGANIZER;CN="CFSC":MAILTO:charlestonfscwv@gmail.com
END:VEVENT
BEGIN:VEVENT
DTSTART;TZID=America/Kentucky/Louisville:20260624T171500
DTEND;TZID=America/Kentucky/Louisville:20260624T194500
DTSTAMP:20260422T175624
CREATED:20251103T213731Z
LAST-MODIFIED:20251103T213731Z
UID:5874-1782321300-1782330300@charlestonfsc.com
SUMMARY:Club Ice Session
DESCRIPTION:$10 per hour
URL:https://charlestonfsc.com/event/club-ice-session-72/
LOCATION:<span class='tooltipsall tooltip_post_id_473 classtoolTips473'>SCMIA</span>\, 20 RHL Blvd\, South Charleston\, WV\, 25309\, United States
CATEGORIES:Calendar Event
ORGANIZER;CN="CFSC":MAILTO:charlestonfscwv@gmail.com
END:VEVENT
BEGIN:VEVENT
DTSTART;TZID=America/Kentucky/Louisville:20260625T000000
DTEND;TZID=America/Kentucky/Louisville:20260628T235959
DTSTAMP:20260422T175624
CREATED:20251223T145618Z
LAST-MODIFIED:20251223T145618Z
UID:6128-1782345600-1782691199@charlestonfsc.com
SUMMARY:Chesapeake Open
DESCRIPTION:Solo Dance Series\, Excel Free Skate (non-series)\, Well Balanced Events\, Adult Free Skate\, Partnered Ice Dance\, Adult Solo Dance\, Compete USA
URL:https://charlestonfsc.com/event/chesapeake-open-2/
LOCATION:The Gardens Ice House\, 13800 Old Gunpowder Rd\, Laurel\, MD\, 20707\, United States
CATEGORIES:Calendar Event,Competition
ORGANIZER;CN="Baltimore Figure Skating Club":MAILTO:info@baltimorefigureskatingclub.com
END:VEVENT
END:VCALENDAR