BEGIN:VCALENDAR
VERSION:2.0
PRODID:-//Charleston Figure Skating Club - ECPv6.15.20//NONSGML v1.0//EN
CALSCALE:GREGORIAN
METHOD:PUBLISH
X-WR-CALNAME:Charleston Figure Skating Club
X-ORIGINAL-URL:https://charlestonfsc.com
X-WR-CALDESC:Events for Charleston Figure Skating Club
REFRESH-INTERVAL;VALUE=DURATION:PT1H
X-Robots-Tag:noindex
X-PUBLISHED-TTL:PT1H
BEGIN:VTIMEZONE
TZID:America/Kentucky/Louisville
BEGIN:DAYLIGHT
TZOFFSETFROM:-0500
TZOFFSETTO:-0400
TZNAME:EDT
DTSTART:20240310T070000
END:DAYLIGHT
BEGIN:STANDARD
TZOFFSETFROM:-0400
TZOFFSETTO:-0500
TZNAME:EST
DTSTART:20241103T060000
END:STANDARD
BEGIN:DAYLIGHT
TZOFFSETFROM:-0500
TZOFFSETTO:-0400
TZNAME:EDT
DTSTART:20250309T070000
END:DAYLIGHT
BEGIN:STANDARD
TZOFFSETFROM:-0400
TZOFFSETTO:-0500
TZNAME:EST
DTSTART:20251102T060000
END:STANDARD
BEGIN:DAYLIGHT
TZOFFSETFROM:-0500
TZOFFSETTO:-0400
TZNAME:EDT
DTSTART:20260308T070000
END:DAYLIGHT
BEGIN:STANDARD
TZOFFSETFROM:-0400
TZOFFSETTO:-0500
TZNAME:EST
DTSTART:20261101T060000
END:STANDARD
BEGIN:DAYLIGHT
TZOFFSETFROM:-0500
TZOFFSETTO:-0400
TZNAME:EDT
DTSTART:20270314T070000
END:DAYLIGHT
BEGIN:STANDARD
TZOFFSETFROM:-0400
TZOFFSETTO:-0500
TZNAME:EST
DTSTART:20271107T060000
END:STANDARD
END:VTIMEZONE
BEGIN:VEVENT
DTSTART;TZID=America/Kentucky/Louisville:20251206T090000
DTEND;TZID=America/Kentucky/Louisville:20251206T113000
DTSTAMP:20260422T185549
CREATED:20250930T202221Z
LAST-MODIFIED:20250930T202221Z
UID:5652-1765011600-1765020600@charlestonfsc.com
SUMMARY:Youth Ice Skating Clinic
DESCRIPTION:Join CFSC at the ballpark for a skating clinic. There will be both on-ice and off-ice instruction by CFSC coaches\, and the Dirty Birds will be providing each participant a T-shirt\, lunch\, and a general admission ticket to Light the Night for the evening of the clinic.
URL:https://charlestonfsc.com/event/youth-ice-skating-clinic/
LOCATION:GoMart Ballpark\, 601 Morris Street\, Charleston\, WV\, 25301\, United States
CATEGORIES:Calendar Event,Special Event
ORGANIZER;CN="CFSC":MAILTO:charlestonfscwv@gmail.com
END:VEVENT
BEGIN:VEVENT
DTSTART;TZID=America/Kentucky/Louisville:20251206T220000
DTEND;TZID=America/Kentucky/Louisville:20251206T220000
DTSTAMP:20260422T185549
CREATED:20251111T164659Z
LAST-MODIFIED:20251111T165553Z
UID:5918-1765058400-1765058400@charlestonfsc.com
SUMMARY:Deadline to Submit Holiday Showcase Music
DESCRIPTION:Please email music to the club email address – charlestonfscwv@gmail.com
URL:https://charlestonfsc.com/event/deadline-for-holiday-showcase-music/
LOCATION:<span class='tooltipsall tooltip_post_id_473 classtoolTips473'>SCMIA</span>\, 20 RHL Blvd\, South Charleston\, WV\, 25309\, United States
CATEGORIES:Calendar Event
ORGANIZER;CN="CFSC":MAILTO:charlestonfscwv@gmail.com
END:VEVENT
BEGIN:VEVENT
DTSTART;TZID=America/Kentucky/Louisville:20251207T180000
DTEND;TZID=America/Kentucky/Louisville:20251207T200000
DTSTAMP:20260422T185549
CREATED:20250213T201433Z
LAST-MODIFIED:20250220T161811Z
UID:1992-1765130400-1765137600@charlestonfsc.com
SUMMARY:Freestyle Session
DESCRIPTION:$10 per hour
URL:https://charlestonfsc.com/event/freestyle-session-93/
LOCATION:<span class='tooltipsall tooltip_post_id_473 classtoolTips473'>SCMIA</span>\, 20 RHL Blvd\, South Charleston\, WV\, 25309\, United States
CATEGORIES:Calendar Event
ORGANIZER;CN="CFSC":MAILTO:charlestonfscwv@gmail.com
END:VEVENT
BEGIN:VEVENT
DTSTART;TZID=America/Kentucky/Louisville:20251208T000000
DTEND;TZID=America/Kentucky/Louisville:20251208T235959
DTSTAMP:20260422T185549
CREATED:20251029T202412Z
LAST-MODIFIED:20251029T203617Z
UID:5722-1765152000-1765238399@charlestonfsc.com
SUMMARY:Virtual Test Session
DESCRIPTION:All video submissions must be filmed between Monday\, November 24th and Monday\, December 8th.
URL:https://charlestonfsc.com/event/virtual-test-session-3/
LOCATION:<span class='tooltipsall tooltip_post_id_473 classtoolTips473'>SCMIA</span>\, 20 RHL Blvd\, South Charleston\, WV\, 25309\, United States
CATEGORIES:Calendar Event,Special Event
ORGANIZER;CN="CFSC":MAILTO:charlestonfscwv@gmail.com
END:VEVENT
BEGIN:VEVENT
DTSTART;TZID=America/Kentucky/Louisville:20251210T171500
DTEND;TZID=America/Kentucky/Louisville:20251210T194500
DTSTAMP:20260422T185549
CREATED:20250213T195000Z
LAST-MODIFIED:20250220T161806Z
UID:1892-1765386900-1765395900@charlestonfsc.com
SUMMARY:Club Ice Session
DESCRIPTION:$10 per hour
URL:https://charlestonfsc.com/event/club-ice-session-44/
LOCATION:<span class='tooltipsall tooltip_post_id_473 classtoolTips473'>SCMIA</span>\, 20 RHL Blvd\, South Charleston\, WV\, 25309\, United States
CATEGORIES:Calendar Event
ORGANIZER;CN="CFSC":MAILTO:charlestonfscwv@gmail.com
END:VEVENT
BEGIN:VEVENT
DTSTART;TZID=America/Kentucky/Louisville:20251213T090000
DTEND;TZID=America/Kentucky/Louisville:20251213T110000
DTSTAMP:20260422T185549
CREATED:20251029T202809Z
LAST-MODIFIED:20251111T164404Z
UID:5727-1765616400-1765623600@charlestonfsc.com
SUMMARY:Holiday Showcase Dress Rehearsal
DESCRIPTION:Theme: Sugar and Ice and Everything Nice
URL:https://charlestonfsc.com/event/holiday-showcase-rehearsal/
LOCATION:<span class='tooltipsall tooltip_post_id_473 classtoolTips473'>SCMIA</span>\, 20 RHL Blvd\, South Charleston\, WV\, 25309\, United States
CATEGORIES:Calendar Event
ORGANIZER;CN="CFSC":MAILTO:charlestonfscwv@gmail.com
END:VEVENT
BEGIN:VEVENT
DTSTART;TZID=America/Kentucky/Louisville:20251214T173000
DTEND;TZID=America/Kentucky/Louisville:20251214T203000
DTSTAMP:20260422T185549
CREATED:20251029T202706Z
LAST-MODIFIED:20251029T202706Z
UID:5725-1765733400-1765744200@charlestonfsc.com
SUMMARY:Holiday Showcase
DESCRIPTION:Theme: Sugar and Ice and Everything Nice
URL:https://charlestonfsc.com/event/holiday-showcase/
LOCATION:<span class='tooltipsall tooltip_post_id_473 classtoolTips473'>SCMIA</span>\, 20 RHL Blvd\, South Charleston\, WV\, 25309\, United States
CATEGORIES:Calendar Event,Show
ORGANIZER;CN="CFSC":MAILTO:charlestonfscwv@gmail.com
END:VEVENT
BEGIN:VEVENT
DTSTART;TZID=America/Kentucky/Louisville:20251217T171500
DTEND;TZID=America/Kentucky/Louisville:20251217T194500
DTSTAMP:20260422T185549
CREATED:20250213T195000Z
LAST-MODIFIED:20250220T161751Z
UID:1893-1765991700-1766000700@charlestonfsc.com
SUMMARY:Club Ice Session
DESCRIPTION:$10 per hour
URL:https://charlestonfsc.com/event/club-ice-session-45/
LOCATION:<span class='tooltipsall tooltip_post_id_473 classtoolTips473'>SCMIA</span>\, 20 RHL Blvd\, South Charleston\, WV\, 25309\, United States
CATEGORIES:Calendar Event
ORGANIZER;CN="CFSC":MAILTO:charlestonfscwv@gmail.com
END:VEVENT
BEGIN:VEVENT
DTSTART;TZID=America/Kentucky/Louisville:20251219T193000
DTEND;TZID=America/Kentucky/Louisville:20251219T200000
DTSTAMP:20260422T185549
CREATED:20251113T205843Z
LAST-MODIFIED:20251113T205843Z
UID:5946-1766172600-1766174400@charlestonfsc.com
SUMMARY:Skating Show at Canaan Valley Resort
DESCRIPTION:
URL:https://charlestonfsc.com/event/skating-show-at-canaan-valley-resort-7/
LOCATION:Canaan Valley Resort State Park\, 230 Main Lodge Rd.\, Davis\, WV\, 26260\, United States
CATEGORIES:Calendar Event,Show
ORGANIZER;CN="CFSC":MAILTO:charlestonfscwv@gmail.com
END:VEVENT
BEGIN:VEVENT
DTSTART;TZID=America/Kentucky/Louisville:20251220T090000
DTEND;TZID=America/Kentucky/Louisville:20251220T110000
DTSTAMP:20260422T185549
CREATED:20250213T195820Z
LAST-MODIFIED:20250220T161746Z
UID:1944-1766221200-1766228400@charlestonfsc.com
SUMMARY:Freestyle Session
DESCRIPTION:$10 per hour
URL:https://charlestonfsc.com/event/freestyle-session-47/
LOCATION:<span class='tooltipsall tooltip_post_id_473 classtoolTips473'>SCMIA</span>\, 20 RHL Blvd\, South Charleston\, WV\, 25309\, United States
CATEGORIES:Calendar Event
ORGANIZER;CN="CFSC":MAILTO:charlestonfscwv@gmail.com
END:VEVENT
BEGIN:VEVENT
DTSTART;TZID=America/Kentucky/Louisville:20251220T140000
DTEND;TZID=America/Kentucky/Louisville:20251220T150000
DTSTAMP:20260422T185549
CREATED:20251113T205945Z
LAST-MODIFIED:20251113T210215Z
UID:5948-1766239200-1766242800@charlestonfsc.com
SUMMARY:Skating Show at Canaan Valley Resort
DESCRIPTION:
URL:https://charlestonfsc.com/event/skating-show-at-canaan-valley-resort-8/
LOCATION:Canaan Valley Resort State Park\, 230 Main Lodge Rd.\, Davis\, WV\, 26260\, United States
CATEGORIES:Calendar Event,Show
ORGANIZER;CN="CFSC":MAILTO:charlestonfscwv@gmail.com
END:VEVENT
BEGIN:VEVENT
DTSTART;TZID=America/Kentucky/Louisville:20251220T190000
DTEND;TZID=America/Kentucky/Louisville:20251220T200000
DTSTAMP:20260422T185549
CREATED:20251113T210247Z
LAST-MODIFIED:20251113T210247Z
UID:5950-1766257200-1766260800@charlestonfsc.com
SUMMARY:Skating Show at Canaan Valley Resort
DESCRIPTION:
URL:https://charlestonfsc.com/event/skating-show-at-canaan-valley-resort-9/
LOCATION:Canaan Valley Resort State Park\, 230 Main Lodge Rd.\, Davis\, WV\, 26260\, United States
CATEGORIES:Calendar Event,Show
ORGANIZER;CN="CFSC":MAILTO:charlestonfscwv@gmail.com
END:VEVENT
BEGIN:VEVENT
DTSTART;TZID=America/Kentucky/Louisville:20251221T180000
DTEND;TZID=America/Kentucky/Louisville:20251221T200000
DTSTAMP:20260422T185549
CREATED:20250213T201533Z
LAST-MODIFIED:20250220T161742Z
UID:1994-1766340000-1766347200@charlestonfsc.com
SUMMARY:Freestyle Session
DESCRIPTION:$10 per hour
URL:https://charlestonfsc.com/event/freestyle-session-95/
LOCATION:<span class='tooltipsall tooltip_post_id_473 classtoolTips473'>SCMIA</span>\, 20 RHL Blvd\, South Charleston\, WV\, 25309\, United States
CATEGORIES:Calendar Event
ORGANIZER;CN="CFSC":MAILTO:charlestonfscwv@gmail.com
END:VEVENT
BEGIN:VEVENT
DTSTART;TZID=America/Kentucky/Louisville:20251224T171500
DTEND;TZID=America/Kentucky/Louisville:20251224T194500
DTSTAMP:20260422T185549
CREATED:20250213T195000Z
LAST-MODIFIED:20250220T161736Z
UID:1894-1766596500-1766605500@charlestonfsc.com
SUMMARY:Club Ice Session
DESCRIPTION:$10 per hour
URL:https://charlestonfsc.com/event/club-ice-session-46/
LOCATION:<span class='tooltipsall tooltip_post_id_473 classtoolTips473'>SCMIA</span>\, 20 RHL Blvd\, South Charleston\, WV\, 25309\, United States
CATEGORIES:Calendar Event
ORGANIZER;CN="CFSC":MAILTO:charlestonfscwv@gmail.com
END:VEVENT
BEGIN:VEVENT
DTSTART;TZID=America/Kentucky/Louisville:20251227T090000
DTEND;TZID=America/Kentucky/Louisville:20251227T110000
DTSTAMP:20260422T185549
CREATED:20250213T195820Z
LAST-MODIFIED:20250220T161733Z
UID:1945-1766826000-1766833200@charlestonfsc.com
SUMMARY:Freestyle Session
DESCRIPTION:$10 per hour
URL:https://charlestonfsc.com/event/freestyle-session-48/
LOCATION:<span class='tooltipsall tooltip_post_id_473 classtoolTips473'>SCMIA</span>\, 20 RHL Blvd\, South Charleston\, WV\, 25309\, United States
CATEGORIES:Calendar Event
ORGANIZER;CN="CFSC":MAILTO:charlestonfscwv@gmail.com
END:VEVENT
BEGIN:VEVENT
DTSTART;TZID=America/Kentucky/Louisville:20251227T090000
DTEND;TZID=America/Kentucky/Louisville:20251227T113000
DTSTAMP:20260422T185549
CREATED:20250930T202312Z
LAST-MODIFIED:20250930T202440Z
UID:5654-1766826000-1766835000@charlestonfsc.com
SUMMARY:Youth Ice Skating Clinic
DESCRIPTION:Join CFSC at the ballpark for a skating clinic. There will be both on-ice and off-ice instruction by CFSC coaches\, and the Dirty Birds will be providing each participant a T-shirt\, lunch\, and a general admission ticket to Light the Night for the evening of the clinic.
URL:https://charlestonfsc.com/event/youth-ice-skating-clinic-2/
LOCATION:GoMart Ballpark\, 601 Morris Street\, Charleston\, WV\, 25301\, United States
CATEGORIES:Calendar Event,Special Event
ORGANIZER;CN="CFSC":MAILTO:charlestonfscwv@gmail.com
END:VEVENT
BEGIN:VEVENT
DTSTART;TZID=America/Kentucky/Louisville:20251228T180000
DTEND;TZID=America/Kentucky/Louisville:20251228T200000
DTSTAMP:20260422T185549
CREATED:20250213T201533Z
LAST-MODIFIED:20250220T161726Z
UID:1995-1766944800-1766952000@charlestonfsc.com
SUMMARY:Freestyle Session
DESCRIPTION:$10 per hour
URL:https://charlestonfsc.com/event/freestyle-session-96/
LOCATION:<span class='tooltipsall tooltip_post_id_473 classtoolTips473'>SCMIA</span>\, 20 RHL Blvd\, South Charleston\, WV\, 25309\, United States
CATEGORIES:Calendar Event
ORGANIZER;CN="CFSC":MAILTO:charlestonfscwv@gmail.com
END:VEVENT
BEGIN:VEVENT
DTSTART;TZID=America/Kentucky/Louisville:20251231T171500
DTEND;TZID=America/Kentucky/Louisville:20251231T194500
DTSTAMP:20260422T185549
CREATED:20250213T195000Z
LAST-MODIFIED:20250220T161717Z
UID:1895-1767201300-1767210300@charlestonfsc.com
SUMMARY:Club Ice Session
DESCRIPTION:$10 per hour
URL:https://charlestonfsc.com/event/club-ice-session-47/
LOCATION:<span class='tooltipsall tooltip_post_id_473 classtoolTips473'>SCMIA</span>\, 20 RHL Blvd\, South Charleston\, WV\, 25309\, United States
CATEGORIES:Calendar Event
ORGANIZER;CN="CFSC":MAILTO:charlestonfscwv@gmail.com
END:VEVENT
BEGIN:VEVENT
DTSTART;TZID=America/Kentucky/Louisville:20260103T090000
DTEND;TZID=America/Kentucky/Louisville:20260103T110000
DTSTAMP:20260422T185549
CREATED:20251103T211205Z
LAST-MODIFIED:20251103T211205Z
UID:5744-1767430800-1767438000@charlestonfsc.com
SUMMARY:Freestyle Session
DESCRIPTION:$10 per hour
URL:https://charlestonfsc.com/event/freestyle-session-97/
LOCATION:<span class='tooltipsall tooltip_post_id_473 classtoolTips473'>SCMIA</span>\, 20 RHL Blvd\, South Charleston\, WV\, 25309\, United States
CATEGORIES:Calendar Event
ORGANIZER;CN="CFSC":MAILTO:charlestonfscwv@gmail.com
END:VEVENT
BEGIN:VEVENT
DTSTART;TZID=America/Kentucky/Louisville:20260104T180000
DTEND;TZID=America/Kentucky/Louisville:20260104T200000
DTSTAMP:20260422T185549
CREATED:20251103T212052Z
LAST-MODIFIED:20251103T212052Z
UID:5797-1767549600-1767556800@charlestonfsc.com
SUMMARY:Freestyle Session
DESCRIPTION:$10 per hour
URL:https://charlestonfsc.com/event/freestyle-session-149/
LOCATION:<span class='tooltipsall tooltip_post_id_473 classtoolTips473'>SCMIA</span>\, 20 RHL Blvd\, South Charleston\, WV\, 25309\, United States
CATEGORIES:Calendar Event
ORGANIZER;CN="CFSC":MAILTO:charlestonfscwv@gmail.com
END:VEVENT
BEGIN:VEVENT
DTSTART;TZID=America/Kentucky/Louisville:20260107T171500
DTEND;TZID=America/Kentucky/Louisville:20260107T194500
DTSTAMP:20260422T185549
CREATED:20251103T213637Z
LAST-MODIFIED:20251103T213637Z
UID:5850-1767806100-1767815100@charlestonfsc.com
SUMMARY:Club Ice Session
DESCRIPTION:$10 per hour
URL:https://charlestonfsc.com/event/club-ice-session-48/
LOCATION:<span class='tooltipsall tooltip_post_id_473 classtoolTips473'>SCMIA</span>\, 20 RHL Blvd\, South Charleston\, WV\, 25309\, United States
CATEGORIES:Calendar Event
ORGANIZER;CN="CFSC":MAILTO:charlestonfscwv@gmail.com
END:VEVENT
BEGIN:VEVENT
DTSTART;TZID=America/Kentucky/Louisville:20260110T000000
DTEND;TZID=America/Kentucky/Louisville:20260110T235959
DTSTAMP:20260422T185549
CREATED:20251223T145503Z
LAST-MODIFIED:20251223T145503Z
UID:6109-1768003200-1768089599@charlestonfsc.com
SUMMARY:Registration Deadline for Albert Viviani Memorial/Deborah Burgoyne North American (Adult) Competitions
DESCRIPTION:Excel Series\, Well Balanced Events\, Aspire Events\, Adult Events\, Showcase\, Compete USA
URL:https://charlestonfsc.com/event/registration-deadline-for-albert-viviani-memorial-deborah-burgoyne-north-american-adult-competitions/
LOCATION:Benjamin F. Yack Recreation Center\, 3131 3rd Street\, Wyandotte\, MI\, 48192\, United States
CATEGORIES:Calendar Event,Competition
ORGANIZER;CN="Wyandotte Figure Skating Club":MAILTO:wyandotteskater@msn.com
END:VEVENT
BEGIN:VEVENT
DTSTART;TZID=America/Kentucky/Louisville:20260110T090000
DTEND;TZID=America/Kentucky/Louisville:20260110T110000
DTSTAMP:20260422T185549
CREATED:20251103T211206Z
LAST-MODIFIED:20251103T211206Z
UID:5745-1768035600-1768042800@charlestonfsc.com
SUMMARY:Freestyle Session
DESCRIPTION:$10 per hour
URL:https://charlestonfsc.com/event/freestyle-session-98/
LOCATION:<span class='tooltipsall tooltip_post_id_473 classtoolTips473'>SCMIA</span>\, 20 RHL Blvd\, South Charleston\, WV\, 25309\, United States
CATEGORIES:Calendar Event
ORGANIZER;CN="CFSC":MAILTO:charlestonfscwv@gmail.com
END:VEVENT
BEGIN:VEVENT
DTSTART;TZID=America/Kentucky/Louisville:20260111T180000
DTEND;TZID=America/Kentucky/Louisville:20260111T200000
DTSTAMP:20260422T185549
CREATED:20251103T212053Z
LAST-MODIFIED:20251103T212053Z
UID:5798-1768154400-1768161600@charlestonfsc.com
SUMMARY:Freestyle Session
DESCRIPTION:$10 per hour
URL:https://charlestonfsc.com/event/freestyle-session-150/
LOCATION:<span class='tooltipsall tooltip_post_id_473 classtoolTips473'>SCMIA</span>\, 20 RHL Blvd\, South Charleston\, WV\, 25309\, United States
CATEGORIES:Calendar Event
ORGANIZER;CN="CFSC":MAILTO:charlestonfscwv@gmail.com
END:VEVENT
BEGIN:VEVENT
DTSTART;TZID=America/Kentucky/Louisville:20260114T171500
DTEND;TZID=America/Kentucky/Louisville:20260114T194500
DTSTAMP:20260422T185549
CREATED:20251103T213638Z
LAST-MODIFIED:20251103T213638Z
UID:5851-1768410900-1768419900@charlestonfsc.com
SUMMARY:Club Ice Session
DESCRIPTION:$10 per hour
URL:https://charlestonfsc.com/event/club-ice-session-49/
LOCATION:<span class='tooltipsall tooltip_post_id_473 classtoolTips473'>SCMIA</span>\, 20 RHL Blvd\, South Charleston\, WV\, 25309\, United States
CATEGORIES:Calendar Event
ORGANIZER;CN="CFSC":MAILTO:charlestonfscwv@gmail.com
END:VEVENT
BEGIN:VEVENT
DTSTART;TZID=America/Kentucky/Louisville:20260117T090000
DTEND;TZID=America/Kentucky/Louisville:20260117T110000
DTSTAMP:20260422T185549
CREATED:20251103T211207Z
LAST-MODIFIED:20251103T211207Z
UID:5746-1768640400-1768647600@charlestonfsc.com
SUMMARY:Freestyle Session
DESCRIPTION:$10 per hour
URL:https://charlestonfsc.com/event/freestyle-session-99/
LOCATION:<span class='tooltipsall tooltip_post_id_473 classtoolTips473'>SCMIA</span>\, 20 RHL Blvd\, South Charleston\, WV\, 25309\, United States
CATEGORIES:Calendar Event
ORGANIZER;CN="CFSC":MAILTO:charlestonfscwv@gmail.com
END:VEVENT
BEGIN:VEVENT
DTSTART;TZID=America/Kentucky/Louisville:20260118T180000
DTEND;TZID=America/Kentucky/Louisville:20260118T200000
DTSTAMP:20260422T185549
CREATED:20251103T212054Z
LAST-MODIFIED:20251103T212054Z
UID:5799-1768759200-1768766400@charlestonfsc.com
SUMMARY:Freestyle Session
DESCRIPTION:$10 per hour
URL:https://charlestonfsc.com/event/freestyle-session-151/
LOCATION:<span class='tooltipsall tooltip_post_id_473 classtoolTips473'>SCMIA</span>\, 20 RHL Blvd\, South Charleston\, WV\, 25309\, United States
CATEGORIES:Calendar Event
ORGANIZER;CN="CFSC":MAILTO:charlestonfscwv@gmail.com
END:VEVENT
BEGIN:VEVENT
DTSTART;TZID=America/Kentucky/Louisville:20260121T171500
DTEND;TZID=America/Kentucky/Louisville:20260121T194500
DTSTAMP:20260422T185549
CREATED:20251103T213639Z
LAST-MODIFIED:20251103T213639Z
UID:5852-1769015700-1769024700@charlestonfsc.com
SUMMARY:Club Ice Session
DESCRIPTION:$10 per hour
URL:https://charlestonfsc.com/event/club-ice-session-50/
LOCATION:<span class='tooltipsall tooltip_post_id_473 classtoolTips473'>SCMIA</span>\, 20 RHL Blvd\, South Charleston\, WV\, 25309\, United States
CATEGORIES:Calendar Event
ORGANIZER;CN="CFSC":MAILTO:charlestonfscwv@gmail.com
END:VEVENT
BEGIN:VEVENT
DTSTART;TZID=America/Kentucky/Louisville:20260123T190000
DTEND;TZID=America/Kentucky/Louisville:20260123T200000
DTSTAMP:20260422T185549
CREATED:20251113T210452Z
LAST-MODIFIED:20251113T210452Z
UID:5952-1769194800-1769198400@charlestonfsc.com
SUMMARY:Skating Show at Canaan Valley Resort
DESCRIPTION:
URL:https://charlestonfsc.com/event/skating-show-at-canaan-valley-resort-10/
LOCATION:Canaan Valley Resort State Park\, 230 Main Lodge Rd.\, Davis\, WV\, 26260\, United States
CATEGORIES:Calendar Event,Show
ORGANIZER;CN="CFSC":MAILTO:charlestonfscwv@gmail.com
END:VEVENT
BEGIN:VEVENT
DTSTART;TZID=America/Kentucky/Louisville:20260124T090000
DTEND;TZID=America/Kentucky/Louisville:20260124T110000
DTSTAMP:20260422T185549
CREATED:20251103T211208Z
LAST-MODIFIED:20251103T211208Z
UID:5747-1769245200-1769252400@charlestonfsc.com
SUMMARY:Freestyle Session
DESCRIPTION:$10 per hour
URL:https://charlestonfsc.com/event/freestyle-session-100/
LOCATION:<span class='tooltipsall tooltip_post_id_473 classtoolTips473'>SCMIA</span>\, 20 RHL Blvd\, South Charleston\, WV\, 25309\, United States
CATEGORIES:Calendar Event
ORGANIZER;CN="CFSC":MAILTO:charlestonfscwv@gmail.com
END:VEVENT
END:VCALENDAR