BEGIN:VCALENDAR
VERSION:2.0
PRODID:-//Charleston Figure Skating Club - ECPv6.15.20//NONSGML v1.0//EN
CALSCALE:GREGORIAN
METHOD:PUBLISH
X-ORIGINAL-URL:https://charlestonfsc.com
X-WR-CALDESC:Events for Charleston Figure Skating Club
REFRESH-INTERVAL;VALUE=DURATION:PT1H
X-Robots-Tag:noindex
X-PUBLISHED-TTL:PT1H
BEGIN:VTIMEZONE
TZID:America/Kentucky/Louisville
BEGIN:DAYLIGHT
TZOFFSETFROM:-0500
TZOFFSETTO:-0400
TZNAME:EDT
DTSTART:20250309T070000
END:DAYLIGHT
BEGIN:STANDARD
TZOFFSETFROM:-0400
TZOFFSETTO:-0500
TZNAME:EST
DTSTART:20251102T060000
END:STANDARD
BEGIN:DAYLIGHT
TZOFFSETFROM:-0500
TZOFFSETTO:-0400
TZNAME:EDT
DTSTART:20260308T070000
END:DAYLIGHT
BEGIN:STANDARD
TZOFFSETFROM:-0400
TZOFFSETTO:-0500
TZNAME:EST
DTSTART:20261101T060000
END:STANDARD
BEGIN:DAYLIGHT
TZOFFSETFROM:-0500
TZOFFSETTO:-0400
TZNAME:EDT
DTSTART:20270314T070000
END:DAYLIGHT
BEGIN:STANDARD
TZOFFSETFROM:-0400
TZOFFSETTO:-0500
TZNAME:EST
DTSTART:20271107T060000
END:STANDARD
END:VTIMEZONE
BEGIN:VEVENT
DTSTART;TZID=America/Kentucky/Louisville:20260203T000000
DTEND;TZID=America/Kentucky/Louisville:20260203T235959
DTSTAMP:20260422T124342
CREATED:20250828T125653Z
LAST-MODIFIED:20250828T125653Z
UID:5509-1770076800-1770163199@charlestonfsc.com
SUMMARY:Registration Deadline for Eastern Adult Sectional Championships
DESCRIPTION:Adult Singles\, Adult Pairs\, Adult Dance\, Adult Showcase\, Adult Solo Dance
URL:https://charlestonfsc.com/event/registration-deadline-for-eastern-adult-sectional-championships-3/
LOCATION:York Ice Arena at Memorial Park\, 941 S. Vander Ave.\, York\, PA\, 17403\, United States
CATEGORIES:Calendar Event,Competition
ORGANIZER;CN="USFSA":MAILTO:Events@usfigureskating.org
END:VEVENT
END:VCALENDAR