BEGIN:VCALENDAR
VERSION:2.0
PRODID:-//Charleston Figure Skating Club - ECPv6.15.20//NONSGML v1.0//EN
CALSCALE:GREGORIAN
METHOD:PUBLISH
X-ORIGINAL-URL:https://charlestonfsc.com
X-WR-CALDESC:Events for Charleston Figure Skating Club
REFRESH-INTERVAL;VALUE=DURATION:PT1H
X-Robots-Tag:noindex
X-PUBLISHED-TTL:PT1H
BEGIN:VTIMEZONE
TZID:America/Kentucky/Louisville
BEGIN:DAYLIGHT
TZOFFSETFROM:-0500
TZOFFSETTO:-0400
TZNAME:EDT
DTSTART:20240310T070000
END:DAYLIGHT
BEGIN:STANDARD
TZOFFSETFROM:-0400
TZOFFSETTO:-0500
TZNAME:EST
DTSTART:20241103T060000
END:STANDARD
BEGIN:DAYLIGHT
TZOFFSETFROM:-0500
TZOFFSETTO:-0400
TZNAME:EDT
DTSTART:20250309T070000
END:DAYLIGHT
BEGIN:STANDARD
TZOFFSETFROM:-0400
TZOFFSETTO:-0500
TZNAME:EST
DTSTART:20251102T060000
END:STANDARD
BEGIN:DAYLIGHT
TZOFFSETFROM:-0500
TZOFFSETTO:-0400
TZNAME:EDT
DTSTART:20260308T070000
END:DAYLIGHT
BEGIN:STANDARD
TZOFFSETFROM:-0400
TZOFFSETTO:-0500
TZNAME:EST
DTSTART:20261101T060000
END:STANDARD
END:VTIMEZONE
BEGIN:VEVENT
DTSTART;TZID=America/Kentucky/Louisville:20250501T000000
DTEND;TZID=America/Kentucky/Louisville:20250504T235959
DTSTAMP:20260423T005901
CREATED:20250213T014434Z
LAST-MODIFIED:20250220T161505Z
UID:1763-1746057600-1746403199@charlestonfsc.com
SUMMARY:Picken Dance Classic
DESCRIPTION:Registration Deadline: 3/27/2025 \nSolo Dance Series\, Partnered Ice Dance
URL:https://charlestonfsc.com/event/picken-dance-classic/
LOCATION:SkateQuest\, 1800 Michael Faraday Ct\, Reston\, VA\, 20190\, United States
CATEGORIES:Calendar Event,Competition
END:VEVENT
BEGIN:VEVENT
DTSTART;TZID=America/Kentucky/Louisville:20250502T000000
DTEND;TZID=America/Kentucky/Louisville:20250504T235959
DTSTAMP:20260423T005901
CREATED:20250213T015338Z
LAST-MODIFIED:20250220T161454Z
UID:1771-1746144000-1746403199@charlestonfsc.com
SUMMARY:Central Carolina Skating Classic
DESCRIPTION:Registration Deadline: 3/30/2025 \nExcel Series\, Well Balanced Events\, Adult Free Skate\, Compete USA\, Athlete Development\, Showcase\, Adaptive
URL:https://charlestonfsc.com/event/central-carolina-skating-classic/
LOCATION:Orange County Sportsplex\, 101 Meadowlands Dr.\, Hillsborough\, NC\, 27278\, United States
CATEGORIES:Calendar Event,Competition
END:VEVENT
BEGIN:VEVENT
DTSTART;TZID=America/Kentucky/Louisville:20250503T000000
DTEND;TZID=America/Kentucky/Louisville:20250504T235959
DTSTAMP:20260423T005901
CREATED:20250213T020218Z
LAST-MODIFIED:20250220T161449Z
UID:1779-1746230400-1746403199@charlestonfsc.com
SUMMARY:Three Rivers Spring Skate
DESCRIPTION:Registration Deadline: 3/31/2025 \nExcel Series\, Well Balanced Events\, Adult Free Skate\, Athlete Development\, Compete USA
URL:https://charlestonfsc.com/event/three-rivers-spring-skate/
LOCATION:Mt. Lebanon Recreation Center\, 900 Cedar Blvd.\, Mt. Lebanon\, PA\, 15228\, United States
CATEGORIES:Calendar Event,Competition
ORGANIZER;CN="Skating Club of Mt. Lebanon":MAILTO:scofmtlebanon@gmail.com
END:VEVENT
BEGIN:VEVENT
DTSTART;TZID=America/Kentucky/Louisville:20250503T090000
DTEND;TZID=America/Kentucky/Louisville:20250503T110000
DTSTAMP:20260423T005901
CREATED:20250213T195600Z
LAST-MODIFIED:20250220T161440Z
UID:1911-1746262800-1746270000@charlestonfsc.com
SUMMARY:Freestyle Session
DESCRIPTION:$10 per hour
URL:https://charlestonfsc.com/event/freestyle-session-14/
LOCATION:<span class='tooltipsall tooltip_post_id_473 classtoolTips473'>SCMIA</span>\, 20 RHL Blvd\, South Charleston\, WV\, 25309\, United States
CATEGORIES:Calendar Event
ORGANIZER;CN="CFSC":MAILTO:charlestonfscwv@gmail.com
END:VEVENT
END:VCALENDAR