BEGIN:VCALENDAR
VERSION:2.0
PRODID:-//Charleston Figure Skating Club - ECPv6.15.20//NONSGML v1.0//EN
CALSCALE:GREGORIAN
METHOD:PUBLISH
X-ORIGINAL-URL:https://charlestonfsc.com
X-WR-CALDESC:Events for Charleston Figure Skating Club
REFRESH-INTERVAL;VALUE=DURATION:PT1H
X-Robots-Tag:noindex
X-PUBLISHED-TTL:PT1H
BEGIN:VTIMEZONE
TZID:America/Kentucky/Louisville
BEGIN:DAYLIGHT
TZOFFSETFROM:-0500
TZOFFSETTO:-0400
TZNAME:EDT
DTSTART:20240310T070000
END:DAYLIGHT
BEGIN:STANDARD
TZOFFSETFROM:-0400
TZOFFSETTO:-0500
TZNAME:EST
DTSTART:20241103T060000
END:STANDARD
BEGIN:DAYLIGHT
TZOFFSETFROM:-0500
TZOFFSETTO:-0400
TZNAME:EDT
DTSTART:20250309T070000
END:DAYLIGHT
BEGIN:STANDARD
TZOFFSETFROM:-0400
TZOFFSETTO:-0500
TZNAME:EST
DTSTART:20251102T060000
END:STANDARD
BEGIN:DAYLIGHT
TZOFFSETFROM:-0500
TZOFFSETTO:-0400
TZNAME:EDT
DTSTART:20260308T070000
END:DAYLIGHT
BEGIN:STANDARD
TZOFFSETFROM:-0400
TZOFFSETTO:-0500
TZNAME:EST
DTSTART:20261101T060000
END:STANDARD
END:VTIMEZONE
BEGIN:VEVENT
DTSTART;TZID=America/Kentucky/Louisville:20250425T000000
DTEND;TZID=America/Kentucky/Louisville:20250427T235959
DTSTAMP:20260423T021932
CREATED:20250213T001422Z
LAST-MODIFIED:20250220T161202Z
UID:1744-1745539200-1745798399@charlestonfsc.com
SUMMARY:Spring Fling
DESCRIPTION:Registration Deadline: 3/18/2025 \nExcel Series\, Well Balanced events\, Adult Free Skate\, Compulsory Moves\, Compete USA
URL:https://charlestonfsc.com/event/spring-fling/
LOCATION:The Pond Ice Arena & Sports Complex\, 9999 E. Washington St\, Chagrin Falls\, OH\, 44023\, United States
CATEGORIES:Calendar Event,Competition
ORGANIZER;CN="Winterhurst Figure Skating Club":MAILTO:winterhurstfsc@gmail.com
END:VEVENT
BEGIN:VEVENT
DTSTART;TZID=America/Kentucky/Louisville:20250425T000000
DTEND;TZID=America/Kentucky/Louisville:20250427T235959
DTSTAMP:20260423T021932
CREATED:20250213T013419Z
LAST-MODIFIED:20250220T161157Z
UID:1754-1745539200-1745798399@charlestonfsc.com
SUMMARY:CRC Kickoff
DESCRIPTION:Registration Deadline: 3/24/2025 \nExcel Series\, Well Balanced Events\, Adult Free Skate\, Athlete Development\, Showcase\, Solo Dance\, Adult Solo Dance\, Compete USA\, Adaptive
URL:https://charlestonfsc.com/event/crc-kickoff/
LOCATION:Chilled Ponds Ice Sports Complex\, 1416 Stephanie Way\, Chesapeake\, VA\, 23320\, United States
CATEGORIES:Calendar Event,Competition
ORGANIZER;CN="Tidewater Figure Skating Club":MAILTO:Tidewaterfsc@gmail.com
END:VEVENT
BEGIN:VEVENT
DTSTART;TZID=America/Kentucky/Louisville:20250426T000000
DTEND;TZID=America/Kentucky/Louisville:20250426T235959
DTSTAMP:20260423T021932
CREATED:20250319T152536Z
LAST-MODIFIED:20250319T152536Z
UID:3126-1745625600-1745711999@charlestonfsc.com
SUMMARY:Deadline to sign up for Spring Show
DESCRIPTION:Theme: Hollywood
URL:https://charlestonfsc.com/event/deadline-to-sign-up-for-spring-show/
LOCATION:<span class='tooltipsall tooltip_post_id_473 classtoolTips473'>SCMIA</span>\, 20 RHL Blvd\, South Charleston\, WV\, 25309\, United States
CATEGORIES:Calendar Event,Show
ORGANIZER;CN="CFSC":MAILTO:charlestonfscwv@gmail.com
END:VEVENT
BEGIN:VEVENT
DTSTART;TZID=America/Kentucky/Louisville:20250426T090000
DTEND;TZID=America/Kentucky/Louisville:20250426T110000
DTSTAMP:20260423T021932
CREATED:20250213T195600Z
LAST-MODIFIED:20250220T161152Z
UID:1910-1745658000-1745665200@charlestonfsc.com
SUMMARY:Freestyle Session
DESCRIPTION:$10 per hour
URL:https://charlestonfsc.com/event/freestyle-session-13/
LOCATION:<span class='tooltipsall tooltip_post_id_473 classtoolTips473'>SCMIA</span>\, 20 RHL Blvd\, South Charleston\, WV\, 25309\, United States
CATEGORIES:Calendar Event
ORGANIZER;CN="CFSC":MAILTO:charlestonfscwv@gmail.com
END:VEVENT
END:VCALENDAR