BEGIN:VCALENDAR
VERSION:2.0
PRODID:-//Charleston Figure Skating Club - ECPv6.15.20//NONSGML v1.0//EN
CALSCALE:GREGORIAN
METHOD:PUBLISH
X-ORIGINAL-URL:https://charlestonfsc.com
X-WR-CALDESC:Events for Charleston Figure Skating Club
REFRESH-INTERVAL;VALUE=DURATION:PT1H
X-Robots-Tag:noindex
X-PUBLISHED-TTL:PT1H
BEGIN:VTIMEZONE
TZID:America/Kentucky/Louisville
BEGIN:DAYLIGHT
TZOFFSETFROM:-0500
TZOFFSETTO:-0400
TZNAME:EDT
DTSTART:20240310T070000
END:DAYLIGHT
BEGIN:STANDARD
TZOFFSETFROM:-0400
TZOFFSETTO:-0500
TZNAME:EST
DTSTART:20241103T060000
END:STANDARD
BEGIN:DAYLIGHT
TZOFFSETFROM:-0500
TZOFFSETTO:-0400
TZNAME:EDT
DTSTART:20250309T070000
END:DAYLIGHT
BEGIN:STANDARD
TZOFFSETFROM:-0400
TZOFFSETTO:-0500
TZNAME:EST
DTSTART:20251102T060000
END:STANDARD
BEGIN:DAYLIGHT
TZOFFSETFROM:-0500
TZOFFSETTO:-0400
TZNAME:EDT
DTSTART:20260308T070000
END:DAYLIGHT
BEGIN:STANDARD
TZOFFSETFROM:-0400
TZOFFSETTO:-0500
TZNAME:EST
DTSTART:20261101T060000
END:STANDARD
END:VTIMEZONE
BEGIN:VEVENT
DTSTART;TZID=America/Kentucky/Louisville:20250307T000000
DTEND;TZID=America/Kentucky/Louisville:20250309T235959
DTSTAMP:20260423T032220
CREATED:20250212T171449Z
LAST-MODIFIED:20250220T160946Z
UID:1676-1741305600-1741564799@charlestonfsc.com
SUMMARY:Columbus Invitational
DESCRIPTION:Registration Deadline: 2/7/2025 \nExcel Series\, Well Balanced Events\, Aspire Events\, Adult Free Skate\, Athlete Development\, Showcase\, Compete USA
URL:https://charlestonfsc.com/event/columbus-invitational/
LOCATION:Hamilton Community Center and Ice Arena\, 2501 Lincoln Park Drive\, Columbus\, IN\, 47201\, United States
CATEGORIES:Calendar Event,Competition
ORGANIZER;CN="Lincoln Center Skate Club":MAILTO:sk8columbus@gmail.com
END:VEVENT
BEGIN:VEVENT
DTSTART;TZID=America/Kentucky/Louisville:20250308T000000
DTEND;TZID=America/Kentucky/Louisville:20250309T235959
DTSTAMP:20260423T032220
CREATED:20250212T203912Z
LAST-MODIFIED:20250220T160616Z
UID:1693-1741392000-1741564799@charlestonfsc.com
SUMMARY:Skate Pittsburgh
DESCRIPTION:Registration Deadline: 2/10/2025 \nExcel Series\, Well Balanced Events\, Adult Free Skate\, Athlete Development\, Showcase\, Adult Showcase\, Compete USA\,
URL:https://charlestonfsc.com/event/skate-pittsburgh/
LOCATION:Robert Morris University Island Sports Center\, 7600 Grand Avenue\, PIttsburgh\, PA\, 15225\, United States
CATEGORIES:Calendar Event,Competition
ORGANIZER;CN="Pittsburgh Figure Skating Club":MAILTO:skatepgh@gmail.com
END:VEVENT
BEGIN:VEVENT
DTSTART;TZID=America/Kentucky/Louisville:20250308T090000
DTEND;TZID=America/Kentucky/Louisville:20250308T110000
DTSTAMP:20260423T032220
CREATED:20250213T195543Z
LAST-MODIFIED:20250220T160339Z
UID:1903-1741424400-1741431600@charlestonfsc.com
SUMMARY:Freestyle Session
DESCRIPTION:$10 per hour
URL:https://charlestonfsc.com/event/freestyle-session-6/
LOCATION:<span class='tooltipsall tooltip_post_id_473 classtoolTips473'>SCMIA</span>\, 20 RHL Blvd\, South Charleston\, WV\, 25309\, United States
CATEGORIES:Calendar Event
ORGANIZER;CN="CFSC":MAILTO:charlestonfscwv@gmail.com
END:VEVENT
BEGIN:VEVENT
DTSTART;TZID=America/Kentucky/Louisville:20250308T140000
DTEND;TZID=America/Kentucky/Louisville:20250308T150000
DTSTAMP:20260423T032220
CREATED:20250213T203735Z
LAST-MODIFIED:20250220T161052Z
UID:2012-1741442400-1741446000@charlestonfsc.com
SUMMARY:Skating Show at Canaan Valley Resort
DESCRIPTION:
URL:https://charlestonfsc.com/event/skating-show-at-canaan-valley-resort-5/
LOCATION:Canaan Valley Resort State Park\, 230 Main Lodge Rd.\, Davis\, WV\, 26260\, United States
CATEGORIES:Calendar Event,Show
ORGANIZER;CN="Canaan Valley Resort State Park":MAILTO:reservations@canaanresort.com
END:VEVENT
BEGIN:VEVENT
DTSTART;TZID=America/Kentucky/Louisville:20250308T190000
DTEND;TZID=America/Kentucky/Louisville:20250308T200000
DTSTAMP:20260423T032220
CREATED:20250213T203814Z
LAST-MODIFIED:20250220T161047Z
UID:2014-1741460400-1741464000@charlestonfsc.com
SUMMARY:Skating Show at Canaan Valley Resort
DESCRIPTION:
URL:https://charlestonfsc.com/event/skating-show-at-canaan-valley-resort-6/
LOCATION:Canaan Valley Resort State Park\, 230 Main Lodge Rd.\, Davis\, WV\, 26260\, United States
CATEGORIES:Calendar Event,Show
ORGANIZER;CN="Canaan Valley Resort State Park":MAILTO:reservations@canaanresort.com
END:VEVENT
END:VCALENDAR