BEGIN:VCALENDAR
VERSION:2.0
PRODID:-//Charleston Figure Skating Club - ECPv6.15.20//NONSGML v1.0//EN
CALSCALE:GREGORIAN
METHOD:PUBLISH
X-ORIGINAL-URL:https://charlestonfsc.com
X-WR-CALDESC:Events for Charleston Figure Skating Club
REFRESH-INTERVAL;VALUE=DURATION:PT1H
X-Robots-Tag:noindex
X-PUBLISHED-TTL:PT1H
BEGIN:VTIMEZONE
TZID:America/Kentucky/Louisville
BEGIN:DAYLIGHT
TZOFFSETFROM:-0500
TZOFFSETTO:-0400
TZNAME:EDT
DTSTART:20240310T070000
END:DAYLIGHT
BEGIN:STANDARD
TZOFFSETFROM:-0400
TZOFFSETTO:-0500
TZNAME:EST
DTSTART:20241103T060000
END:STANDARD
BEGIN:DAYLIGHT
TZOFFSETFROM:-0500
TZOFFSETTO:-0400
TZNAME:EDT
DTSTART:20250309T070000
END:DAYLIGHT
BEGIN:STANDARD
TZOFFSETFROM:-0400
TZOFFSETTO:-0500
TZNAME:EST
DTSTART:20251102T060000
END:STANDARD
BEGIN:DAYLIGHT
TZOFFSETFROM:-0500
TZOFFSETTO:-0400
TZNAME:EDT
DTSTART:20260308T070000
END:DAYLIGHT
BEGIN:STANDARD
TZOFFSETFROM:-0400
TZOFFSETTO:-0500
TZNAME:EST
DTSTART:20261101T060000
END:STANDARD
END:VTIMEZONE
BEGIN:VEVENT
DTSTART;TZID=America/Kentucky/Louisville:20250610T090000
DTEND;TZID=America/Kentucky/Louisville:20250610T120000
DTSTAMP:20260422T203938
CREATED:20250521T191132Z
LAST-MODIFIED:20250521T191308Z
UID:4895-1749546000-1749556800@charlestonfsc.com
SUMMARY:Skating Camp - Summer Fun Beach Camp
DESCRIPTION:This skating camp includes ice skating lessons with CFSC’s coaches and advanced skaters and an arts and crafts activity each day. Campers will have the opportunity to develop their very own skating program which they can showcase for friends and family at the end of the week at the show on Friday morning.
URL:https://charlestonfsc.com/event/skating-camp-summer-beach-fun/
LOCATION:<span class='tooltipsall tooltip_post_id_473 classtoolTips473'>SCMIA</span>\, 20 RHL Blvd\, South Charleston\, WV\, 25309\, United States
END:VEVENT
END:VCALENDAR