BEGIN:VCALENDAR
VERSION:2.0
PRODID:-//Charleston Figure Skating Club - ECPv6.15.20//NONSGML v1.0//EN
CALSCALE:GREGORIAN
METHOD:PUBLISH
X-ORIGINAL-URL:https://charlestonfsc.com
X-WR-CALDESC:Events for Charleston Figure Skating Club
REFRESH-INTERVAL;VALUE=DURATION:PT1H
X-Robots-Tag:noindex
X-PUBLISHED-TTL:PT1H
BEGIN:VTIMEZONE
TZID:America/Kentucky/Louisville
BEGIN:DAYLIGHT
TZOFFSETFROM:-0500
TZOFFSETTO:-0400
TZNAME:EDT
DTSTART:20240310T070000
END:DAYLIGHT
BEGIN:STANDARD
TZOFFSETFROM:-0400
TZOFFSETTO:-0500
TZNAME:EST
DTSTART:20241103T060000
END:STANDARD
BEGIN:DAYLIGHT
TZOFFSETFROM:-0500
TZOFFSETTO:-0400
TZNAME:EDT
DTSTART:20250309T070000
END:DAYLIGHT
BEGIN:STANDARD
TZOFFSETFROM:-0400
TZOFFSETTO:-0500
TZNAME:EST
DTSTART:20251102T060000
END:STANDARD
BEGIN:DAYLIGHT
TZOFFSETFROM:-0500
TZOFFSETTO:-0400
TZNAME:EDT
DTSTART:20260308T070000
END:DAYLIGHT
BEGIN:STANDARD
TZOFFSETFROM:-0400
TZOFFSETTO:-0500
TZNAME:EST
DTSTART:20261101T060000
END:STANDARD
END:VTIMEZONE
BEGIN:VEVENT
DTSTART;TZID=America/Kentucky/Louisville:20250401T000000
DTEND;TZID=America/Kentucky/Louisville:20250401T235959
DTSTAMP:20260422T232220
CREATED:20250213T021147Z
LAST-MODIFIED:20250220T161307Z
UID:1789-1743465600-1743551999@charlestonfsc.com
SUMMARY:Registration Deadline for 41st Margaret Faulkner Springtime Invitational
DESCRIPTION:Excel Series\, Well Balanced Events\, Adult Free Skate\, Pairs\, Partnered Ice Dance\, Aspire\, Athlete Development\, Showcase\, Solo Dance (non-series)
URL:https://charlestonfsc.com/event/registration-deadline-for-41st-margaret-faulkner-springtime-invitational/
LOCATION:Bigby Coffee Ice Cube—Ann Arbor\, 2121 Oak Valley Dr.\, Ann Arbor\, MI\, 48103\, United States
CATEGORIES:Calendar Event,Competition
END:VEVENT
BEGIN:VEVENT
DTSTART;TZID=America/Kentucky/Louisville:20250401T174500
DTEND;TZID=America/Kentucky/Louisville:20250401T184500
DTSTAMP:20260422T232220
CREATED:20250324T161803Z
LAST-MODIFIED:20250324T162331Z
UID:3291-1743529500-1743533100@charlestonfsc.com
SUMMARY:Power Skating
DESCRIPTION:
URL:https://charlestonfsc.com/event/power-skating/
LOCATION:<span class='tooltipsall tooltip_post_id_473 classtoolTips473'>SCMIA</span>\, 20 RHL Blvd\, South Charleston\, WV\, 25309\, United States
CATEGORIES:Calendar Event
END:VEVENT
END:VCALENDAR